From mboxrd@z Thu Jan 1 00:00:00 1970 Return-Path: Received: from mails.dpdk.org (mails.dpdk.org [217.70.189.124]) by inbox.dpdk.org (Postfix) with ESMTP id BB04248959 for ; Fri, 17 Oct 2025 01:50:14 +0200 (CEST) Received: from mails.dpdk.org (localhost [127.0.0.1]) by mails.dpdk.org (Postfix) with ESMTP id ACDC740269; Fri, 17 Oct 2025 01:50:14 +0200 (CEST) Received: from mail-pl1-f228.google.com (mail-pl1-f228.google.com [209.85.214.228]) by mails.dpdk.org (Postfix) with ESMTP id 71FAC40269 for ; Fri, 17 Oct 2025 01:50:13 +0200 (CEST) Received: by mail-pl1-f228.google.com with SMTP id d9443c01a7336-29091d29fc8so14353245ad.0 for ; Thu, 16 Oct 2025 16:50:13 -0700 (PDT) DKIM-Signature: v=1; a=rsa-sha256; c=relaxed/relaxed; d=iol.unh.edu; s=unh-iol; t=1760658612; x=1761263412; darn=dpdk.org; h=cc:to:from:subject:message-id:date:from:to:cc:subject:date :message-id:reply-to; bh=I1BpFjK0ck/043c1YE6ec9CQYScsB4HDgLBaNyZdKxA=; b=Gxc2KzWuZPbzQI5HE/uoquU4RudpeAXlA12M5SydagHoWZPbRhlhQ1s4fi/c3LeNzG hlPrfVH3YACdIZ0WvHZvn5c1hdbzIEjO6sfPmQd1aivsCCRaOnfA3ozDVMCRcwjPLcIN Xt0Br2XWKSCXmV6deWVwO93H8Y3g0Oi+g9pew= X-Google-DKIM-Signature: v=1; a=rsa-sha256; c=relaxed/relaxed; d=1e100.net; s=20230601; t=1760658612; x=1761263412; h=cc:to:from:subject:message-id:date:x-gm-message-state:from:to:cc :subject:date:message-id:reply-to; bh=I1BpFjK0ck/043c1YE6ec9CQYScsB4HDgLBaNyZdKxA=; b=iOrgmldRQuSzdMRThvGDVmKhiXR2ZyEw34YrForVywwEt8tgOjZ//ZDsglQ+QdlbyP TVNoaJGjg9BNbtNGhTZLICz58Dbz5/X+itmruQz5ja0vZkiX3rL9lHwSPPZlxxnW1qZK 1cnF1C+Edesu/Wsa7M+ZHc2YRgu7u4ruPXXzOiyoU8oOaPR0yDvsqQUi2P+/Zbi9QgUl m9rTmKVzRViXWb0kQ8sJgYqaOLgc13ejTAha9TdYDpB4d9ZJ7bqz1pHR2KcCleentpkd ZVxYWyfzEBnnlg/FrUQs7+zs57c+y6zWV29O0IE4LLgmLbJTsAvjuwnz7GBA9fz34meS bZvQ== X-Gm-Message-State: AOJu0Yx6yPBp+/OXkpc0HFcT3hTX5BQg8+46p6U/5a4g+KzHoq6ZuCFv XLd+jDZIZGlBY3dMiI1u4GOPIYRQZgMbAUe/PDgKTEv6rcBJ1TqqlZj6YOuXZEj0quhfRjq4RJ9 UUiUDJ25g4ONI7ElfilGR6O+/mvVYnL5DHeW4eKBcN1Hn X-Gm-Gg: ASbGncvLm4ZNSd9gf1CcSl3VqNGkXAHMr+INpippMs02zfWYcHsbZG6KiBDL5uTJtA6 s0q9/jHJKzz2XPueMM5Q5G/1ssMx6n7t7nl9OhA/plhIPQbKrzV7sSI8dduwxDLrBa7J0QlAfG6 GaXGFwBzKqT2mU4ZvMlm4Nx5KxSbgsv9ZinE+7gmf1YuxK0QbessgUtf05AFZmsxfBG9WuEZX8P onKjip5kx59vAemXOHqLWwGI/bEaNUd/BqXCFNXz/qkvPE/AuCc25t48S3xzM/NTYvPHHvpfPuZ p7ILHAeLYC+2RwNQk2oyRSU+9pNR9N08q/63j1/AZsPHgcfCtcoYhfn2DwabSFA/XTzYjB6dzGv nC5LMQYmChRxhQDBKkT5Dqdww2iEKT+0= X-Google-Smtp-Source: AGHT+IEXyGSmaTQrlVUkXQE7YOHIR5bCcQGnJlIxGHO3zfBB5OLr6xo+2nMVu42MqdVRnH6L86sgKS45NRHu X-Received: by 2002:a17:903:32cf:b0:25c:d4b6:f117 with SMTP id d9443c01a7336-290ca121ea6mr19688525ad.35.1760658612618; Thu, 16 Oct 2025 16:50:12 -0700 (PDT) Received: from postal.iol.unh.edu (postal.iol.unh.edu. [132.177.123.84]) by smtp-relay.gmail.com with ESMTPS id d9443c01a7336-2909997dcd9sm4744355ad.46.2025.10.16.16.50.12 (version=TLS1_2 cipher=ECDHE-ECDSA-AES128-GCM-SHA256 bits=128/128); Thu, 16 Oct 2025 16:50:12 -0700 (PDT) X-Relaying-Domain: iol.unh.edu Date: Thu, 16 Oct 2025 16:50:12 -0700 (PDT) Message-ID: <68f184b4.170a0220.19a4f0.9f40SMTPIN_ADDED_MISSING@mx.google.com> Received: from [172.21.0.3] (unknown [172.18.0.240]) by postal.iol.unh.edu (Postfix) with ESMTP id E2D376051830; Thu, 16 Oct 2025 19:50:11 -0400 (EDT) Subject: |SUCCESS| [GIT MASTER] 791cea04798a8e2de014b99c009cd25b5929000a From: dpdklab@iol.unh.edu To: Test Report Cc: dpdk-test-reports@iol.unh.edu, Stephen Hemminger Content-Type: text/plain X-BeenThere: test-report@dpdk.org X-Mailman-Version: 2.1.29 Precedence: list List-Id: automatic DPDK test reports List-Unsubscribe: , List-Archive: List-Post: List-Help: List-Subscribe: , Errors-To: test-report-bounces@dpdk.org _Testing PASS_ Branch: dpdk-next-net 791cea04798a8e2de014b99c009cd25b5929000a --> testing pass Upstream job id: Generic-DPDK-Compile-Meson#434876 Test environment and result as below: +------------------------------+--------------------+ | Environment | dpdk_meson_compile | +==============================+====================+ | Red Hat Enterprise Linux 9.5 | PASS | +------------------------------+--------------------+ | Ubuntu 20.04 | PASS | +------------------------------+--------------------+ | Debian GNU/Linux 12 | PASS | +------------------------------+--------------------+ | Fedora Linux 42 | PASS | +------------------------------+--------------------+ | Ubuntu 22.04 | PASS | +------------------------------+--------------------+ | Ubuntu 24.04 | PASS | +------------------------------+--------------------+ | CentOS Stream 9 | PASS | +------------------------------+--------------------+ | CentOS Stream 10 | PASS | +------------------------------+--------------------+ Red Hat Enterprise Linux 9.5 Kernel: 5.4 Compiler: gcc gcc (GCC) 11.5.0 20240719 (Red Hat 11.5.0-2) Ubuntu 20.04 Kernel: 5.15 Compiler: aarch64-linux-gnu-gcc gcc (Ubuntu 9.4.0-1ubuntu1~20.04.2) 9.4.0 Debian GNU/Linux 12 Kernel: 5.4 Compiler: gcc gcc (Debian 12.2.0-14+deb12u1) 12.2.0 Fedora Linux 42 Kernel: 5.4 Compiler: gcc gcc (GCC) 15.2.1 20250808 (Red Hat 15.2.1-1) Ubuntu 22.04 Kernel: 5.4 Compiler: gcc gcc (Ubuntu 11.4.0-1ubuntu1~22.04) 11.4.0 Ubuntu 24.04 Kernel: 5.4 Compiler: gcc gcc (Ubuntu 13.3.0-6ubuntu2~24.04) 13.3.0 CentOS Stream 9 Kernel: 5.4 Compiler: gcc gcc (GCC) 11.5.0 20240719 (Red Hat 11.5.0-11) CentOS Stream 10 Kernel: 5.4 Compiler: gcc gcc (GCC) 14.2.1 20250110 (Red Hat 14.2.1-8) To view detailed results, visit: https://lab.dpdk.org/results/dashboard/tarballs/35231/ UNH-IOL DPDK Community Lab To manage your email subscriptions, visit: https://lab.dpdk.org/results/dashboard/preferences/subscriptions/