From mboxrd@z Thu Jan 1 00:00:00 1970 Return-Path: Received: from mails.dpdk.org (mails.dpdk.org [217.70.189.124]) by inbox.dpdk.org (Postfix) with ESMTP id D60B348956 for ; Fri, 17 Oct 2025 02:34:20 +0200 (CEST) Received: from mails.dpdk.org (localhost [127.0.0.1]) by mails.dpdk.org (Postfix) with ESMTP id D156340269; Fri, 17 Oct 2025 02:34:20 +0200 (CEST) Received: from mail-io1-f98.google.com (mail-io1-f98.google.com [209.85.166.98]) by mails.dpdk.org (Postfix) with ESMTP id EAAC440269 for ; Fri, 17 Oct 2025 02:34:19 +0200 (CEST) Received: by mail-io1-f98.google.com with SMTP id ca18e2360f4ac-91524f5e6a8so122277039f.0 for ; Thu, 16 Oct 2025 17:34:19 -0700 (PDT) DKIM-Signature: v=1; a=rsa-sha256; c=relaxed/relaxed; d=iol.unh.edu; s=unh-iol; t=1760661259; x=1761266059; darn=dpdk.org; h=cc:to:from:subject:message-id:date:from:to:cc:subject:date :message-id:reply-to; bh=TLkudLnPQwVItljrXTWrt8XAXHpgw1zhgpTxHkPNoA8=; b=WlRybs/ZfSLj0lNLmBUlPgvbGvqtQ5IHxc7Jvc+gKZV/cFzDn1HpcNtAFwA3JBCL5L ZdYtsTJBP0xQdORAXHX9zJeB6ka+Kn2c2ASYI09Hb7r8E5uHi3whw8+LUiam+V+km7BZ q87fARG2K0OxlFIZ2dvOMm40owfKSauFMsmrQ= X-Google-DKIM-Signature: v=1; a=rsa-sha256; c=relaxed/relaxed; d=1e100.net; s=20230601; t=1760661259; x=1761266059; h=cc:to:from:subject:message-id:date:x-gm-message-state:from:to:cc :subject:date:message-id:reply-to; bh=TLkudLnPQwVItljrXTWrt8XAXHpgw1zhgpTxHkPNoA8=; b=RLr5f2EkesfWvDLrFAqNSdLZlzqsg/THoHyQeDvfS5LCZtsm+MniwgXZJJNXOM0G8J +7B4W4nYfB1UarTjgxsIV9LF56Yz9vCSsbtKuGTMUE6Ujw5UpORjQEGTTBaoNtWNiHfx zLY/suweY615gnr6bN7ZpX6IDkft2vmWbMvizmdmiTuU3tXwXUHC/j6ZV7uMkRffajPM 3fxmPcEcHKxC0VdrmaW/h9Dq/7w/gmjFYjkc1NH/Cmr8/Hvp9T7Uab2L8Eoo9vV71XLQ uzZ+o/zG1vlUqGz6z4eailNJNQgP+RFLmsrGxSY7SE9y1kcMv/vXt9RNMgFtRM0bH2qV 6rdw== X-Gm-Message-State: AOJu0YzZRzYLDX9zb3RFNZzapV6eLUO40HZYRu0Szw8OcwVR3cz7Ev41 dS8WnKbuAZMHyD61Fb0viYzxC6mg3CMS5Xmv8ACsHJ+4nndQwbqE/X2hf8WYZ35jC9OP5boz+5I WQTNrr6kYgTYzxYW1Ur5wlqsNWE51Pqw5Ch8T X-Gm-Gg: ASbGncuPCNgzkwN5MtBxkO35QDaTGOuSpm/dI1rhSqC6U5Ny1RZVekiu5a+zAaDjmrm IQQ2JjdHvmwRsYWdIGj3K+mdSVPS6auws4JN85JvDWHZgKcvpomK1Hx0+xbWXXHia+AaoO0rmEQ ruBqBbfujnDczZjrqXra5CsMPvhBUW2UfJXxeBZUvIyRg9MhiI3PxLouJTLZqpEiVMrWhtt5ZBZ lPyZjw4Y9wZQt9ShtFGiqOCSrVR5QzyI3/PZTd7TjABD1dA//oUOOPkAEpccfVbrvKpFP1ONWWj jS7BRPpkWVNziTYQcaEDEwi04sO8GjGi+Lc1/O8HElgNiosUUBgTw+CDfJnGkPvVz/Uq7czrox7 IyUHUVVtk4YRR7IlIXT0NrcnU4MGF9PI= X-Google-Smtp-Source: AGHT+IG8pnKiIJqnuevhXC9SdLq+uGrCTzJuZNrCicuDq5uc6eqrpx9VCkgu++uUayMU2RpXhx71xruZ7FR2 X-Received: by 2002:a05:6602:1582:b0:93b:c360:41c2 with SMTP id ca18e2360f4ac-93e762a93e8mr259882339f.7.1760661259252; Thu, 16 Oct 2025 17:34:19 -0700 (PDT) Received: from postal.iol.unh.edu (postal.iol.unh.edu. [132.177.123.84]) by smtp-relay.gmail.com with ESMTPS id 8926c6da1cb9f-5a76f533513sm82696173.8.2025.10.16.17.34.19 (version=TLS1_2 cipher=ECDHE-ECDSA-AES128-GCM-SHA256 bits=128/128); Thu, 16 Oct 2025 17:34:19 -0700 (PDT) X-Relaying-Domain: iol.unh.edu Date: Thu, 16 Oct 2025 17:34:19 -0700 (PDT) Message-ID: <68f18f0b.050a0220.3b7648.4495SMTPIN_ADDED_MISSING@mx.google.com> Received: from [172.21.0.2] (unknown [172.18.0.240]) by postal.iol.unh.edu (Postfix) with ESMTP id C45E86051830; Thu, 16 Oct 2025 20:34:18 -0400 (EDT) Subject: |SUCCESS| [GIT MASTER] b287e404643aeab5bb5db084c142789df187844e From: dpdklab@iol.unh.edu To: Test Report Cc: dpdk-test-reports@iol.unh.edu, Xueming Li , Christian Ehrhardt , Kevin Traynor , Luca Boccassi Content-Type: text/plain X-BeenThere: test-report@dpdk.org X-Mailman-Version: 2.1.29 Precedence: list List-Id: automatic DPDK test reports List-Unsubscribe: , List-Archive: List-Post: List-Help: List-Subscribe: , Errors-To: test-report-bounces@dpdk.org _Testing PASS_ Branch: tags/v24.11 b287e404643aeab5bb5db084c142789df187844e --> testing pass Upstream job id: Generic-Unit-Test-DPDK#381978 Test environment and result as below: +------------------------------+----------------+---------------------------+--------------+------------------------------+ | Environment | dpdk_unit_test | cryptodev_sw_zuc_autotest | lpm_autotest | cryptodev_sw_snow3g_autotest | +==============================+================+===========================+==============+==============================+ | CentOS Stream 9 | PASS | SKIPPED | SKIPPED | SKIPPED | +------------------------------+----------------+---------------------------+--------------+------------------------------+ | CentOS Stream 10 | PASS | SKIPPED | SKIPPED | SKIPPED | +------------------------------+----------------+---------------------------+--------------+------------------------------+ | Fedora Linux 40 | PASS | SKIPPED | SKIPPED | SKIPPED | +------------------------------+----------------+---------------------------+--------------+------------------------------+ | Debian GNU/Linux 12 | PASS | SKIPPED | SKIPPED | SKIPPED | +------------------------------+----------------+---------------------------+--------------+------------------------------+ | Fedora Linux 42 | PASS | SKIPPED | SKIPPED | SKIPPED | +------------------------------+----------------+---------------------------+--------------+------------------------------+ | Fedora Linux 41 | PASS | SKIPPED | SKIPPED | SKIPPED | +------------------------------+----------------+---------------------------+--------------+------------------------------+ | Ubuntu 20.04 | PASS | SKIPPED | PASS | SKIPPED | +------------------------------+----------------+---------------------------+--------------+------------------------------+ | Red Hat Enterprise Linux 9.5 | PASS | SKIPPED | SKIPPED | SKIPPED | +------------------------------+----------------+---------------------------+--------------+------------------------------+ | Ubuntu 24.04 | PASS | SKIPPED | SKIPPED | SKIPPED | +------------------------------+----------------+---------------------------+--------------+------------------------------+ | Ubuntu 22.04 | PASS | SKIPPED | SKIPPED | SKIPPED | +------------------------------+----------------+---------------------------+--------------+------------------------------+ | Debian 12 (arm) | SKIPPED | PASS | SKIPPED | PASS | +------------------------------+----------------+---------------------------+--------------+------------------------------+ CentOS Stream 9 Kernel: 5.4 Compiler: gcc gcc (GCC) 11.5.0 20240719 (Red Hat 11.5.0-11) CentOS Stream 10 Kernel: 5.4 Compiler: gcc gcc (GCC) 14.2.1 20250110 (Red Hat 14.2.1-8) Fedora Linux 40 Kernel: 5.4 Compiler: clang gcc (GCC) 14.2.1 20240912 (Red Hat 14.2.1-3) Debian GNU/Linux 12 Kernel: 5.4 Compiler: gcc gcc (Debian 12.2.0-14+deb12u1) 12.2.0 Fedora Linux 42 Kernel: 5.4 Compiler: gcc gcc (GCC) 15.2.1 20250808 (Red Hat 15.2.1-1) Fedora Linux 41 Kernel: 5.4 Compiler: gcc gcc (GCC) 14.3.1 20250523 (Red Hat 14.3.1-1) Ubuntu 20.04 Kernel: 5.4 Compiler: gcc gcc (Ubuntu 9.4.0-1ubuntu1~20.04.2) 9.4.0 Red Hat Enterprise Linux 9.5 Kernel: 5.4 Compiler: gcc gcc (GCC) 11.5.0 20240719 (Red Hat 11.5.0-2) Ubuntu 24.04 Kernel: 5.4 Compiler: gcc gcc (Ubuntu 13.3.0-6ubuntu2~24.04) 13.3.0 Ubuntu 22.04 Kernel: 5.4 Compiler: gcc gcc (Ubuntu 11.4.0-1ubuntu1~22.04) 11.4.0 Debian 12 (arm) Kernel: Depends on container host Compiler: gcc (Debian 12.2.0-14) 12.2.0 To view detailed results, visit: https://lab.dpdk.org/results/dashboard/tarballs/35229/ UNH-IOL DPDK Community Lab To manage your email subscriptions, visit: https://lab.dpdk.org/results/dashboard/preferences/subscriptions/