From mboxrd@z Thu Jan 1 00:00:00 1970 Return-Path: Received: from mails.dpdk.org (mails.dpdk.org [217.70.189.124]) by inbox.dpdk.org (Postfix) with ESMTP id 5EB5A48956 for ; Fri, 17 Oct 2025 02:38:57 +0200 (CEST) Received: from mails.dpdk.org (localhost [127.0.0.1]) by mails.dpdk.org (Postfix) with ESMTP id 3D40840269; Fri, 17 Oct 2025 02:38:57 +0200 (CEST) Received: from mail-pg1-f227.google.com (mail-pg1-f227.google.com [209.85.215.227]) by mails.dpdk.org (Postfix) with ESMTP id 4CE8A40269 for ; Fri, 17 Oct 2025 02:38:56 +0200 (CEST) Received: by mail-pg1-f227.google.com with SMTP id 41be03b00d2f7-b67ae7e76abso1018388a12.3 for ; Thu, 16 Oct 2025 17:38:56 -0700 (PDT) DKIM-Signature: v=1; a=rsa-sha256; c=relaxed/relaxed; d=iol.unh.edu; s=unh-iol; t=1760661535; x=1761266335; darn=dpdk.org; h=cc:to:from:subject:message-id:date:from:to:cc:subject:date :message-id:reply-to; bh=e0EET/bZkpa2XtirZpU/yEWpGn1CT5Wi8qfzP0YlB7c=; b=gMv5+wRU++zy5CpEWC5Wv2RkBnNOPDkL7f8ow/zkrHzKCMLHMab437WDw1oi4XKbbL 7NaJSe1m4LVYMH10NTdY+PXyvqcqXokyTygNCII0YWZfy5M9kQ+k9HShSx+Y/0kxAITc JGnoBAYmZLMdymkZRtZ07jGEVCMrOcFuPX1TY= X-Google-DKIM-Signature: v=1; a=rsa-sha256; c=relaxed/relaxed; d=1e100.net; s=20230601; t=1760661535; x=1761266335; h=cc:to:from:subject:message-id:date:x-gm-message-state:from:to:cc :subject:date:message-id:reply-to; bh=e0EET/bZkpa2XtirZpU/yEWpGn1CT5Wi8qfzP0YlB7c=; b=dc/ugDAqAepIj2rP38m6TH8+EPpJ2R7LzlJa5HbXyx7m5KjvOJ9mHkdAToZ/FioEyN X+8/9oEJtnQ92WXKW9Ijknjl6gQG/wICXsqbNTd6TvUJdBRQd3a91uHZRDYcu8cQAAbW pqtR5ltKgQveDV2o0voJX+H8muR6ectz/AAwOewCHvMEMik6bhiz6MUWhf4tpu7zPnB6 lX8arCVgB4drGV7feQ9wfhlzLB/s3s0TIEz8YkmV0uWQHLacu1wxLJOKYb+0bXta2wQD vxfX8TTscR0yKsgrH2dDdtqi5o/x1cUEN2Ye74Nbo1VtEUiEG2vc5JgQ2lVc1yd0FMND DEVw== X-Gm-Message-State: AOJu0Yw92r+U8eBFXKafX23R0X7I4Rs8+MWnMqFl4V3iYKPxs0hdkc+m 73J6FqKdU5YlEGXmxa/hmIgrsL7uYs9cvWfbfsHMYcdtZfXJCZ/FQYzIWG8wzMnOKyIPZmbYIFY EnhslCuEhWJ0ahmJ0uXnjF/x6EHaLWu+XQmWX X-Gm-Gg: ASbGncsTB9u2vfJPGyd605XEVVQnL9zhQChcImoa3b5sJC8u1U7yrh9Rl8KyN2FldAU /Irtw3XfawxehvmbOL8+K+uVpsiFb8RgW1evJd+varXp3XoiDImV4DGz6NsrfF2YJ+ephMSg/1B FlRMxK8oNlcHnFubPdCfzZIz0UySQ5upDQXaKdI4aqWXA+KWJgxz2ukpfEWGy61UNNOfaecOzIz nx0sN8cwBDccvwdAPfJfjTg0XafHS3KpFFa6WPNXz0TWE8ZIQaNCwkGBPjijNjFUnsZzliTj8rZ GSrhIQ3T6xJ2NIPi8U+Pu+/a2DQaAz5+gfo5bpIZsn1GghbQV4V6As60bSjxaMIsyrYQtiFeL7v AnxHmaAh7xHnY3cytMEFD6T6G9JztSS0= X-Google-Smtp-Source: AGHT+IHv4eXVX/QqASbaDKwJThM4Wz2EjL33JIhqvCg2Jwe8bNO8x/N302wlmmAk0YXJal3jiRVXanttm8iO X-Received: by 2002:a17:903:440c:b0:27d:69cc:9a6 with SMTP id d9443c01a7336-290cb757655mr18930005ad.53.1760661535359; Thu, 16 Oct 2025 17:38:55 -0700 (PDT) Received: from postal.iol.unh.edu (postal.iol.unh.edu. [132.177.123.84]) by smtp-relay.gmail.com with ESMTPS id d9443c01a7336-2909997c988sm4617415ad.54.2025.10.16.17.38.55 (version=TLS1_2 cipher=ECDHE-ECDSA-AES128-GCM-SHA256 bits=128/128); Thu, 16 Oct 2025 17:38:55 -0700 (PDT) X-Relaying-Domain: iol.unh.edu Date: Thu, 16 Oct 2025 17:38:55 -0700 (PDT) Message-ID: <68f1901f.170a0220.17ba7a.7c88SMTPIN_ADDED_MISSING@mx.google.com> Received: from [172.21.0.3] (unknown [172.18.0.240]) by postal.iol.unh.edu (Postfix) with ESMTP id C96B16051830; Thu, 16 Oct 2025 20:38:54 -0400 (EDT) Subject: |SUCCESS| [GIT MASTER] 3b43ce3f4a54468e7ef65760c2fd7b4d6ee6d9fc From: dpdklab@iol.unh.edu To: Test Report Cc: dpdk-test-reports@iol.unh.edu, Xueming Li , Christian Ehrhardt , Kevin Traynor , Luca Boccassi Content-Type: text/plain X-BeenThere: test-report@dpdk.org X-Mailman-Version: 2.1.29 Precedence: list List-Id: automatic DPDK test reports List-Unsubscribe: , List-Archive: List-Post: List-Help: List-Subscribe: , Errors-To: test-report-bounces@dpdk.org _Testing PASS_ Branch: tags/v22.11 3b43ce3f4a54468e7ef65760c2fd7b4d6ee6d9fc --> testing pass Upstream job id: Generic-Unit-Test-DPDK#381991 Test environment and result as below: +-----------------+---------------------------+--------------+------------------------------+----------------+ | Environment | cryptodev_sw_zuc_autotest | lpm_autotest | cryptodev_sw_snow3g_autotest | dpdk_unit_test | +=================+===========================+==============+==============================+================+ | Debian 12 (arm) | PASS | SKIPPED | PASS | SKIPPED | +-----------------+---------------------------+--------------+------------------------------+----------------+ | Ubuntu 20.04 | SKIPPED | PASS | SKIPPED | SKIPPED | +-----------------+---------------------------+--------------+------------------------------+----------------+ | Ubuntu 22.04 | SKIPPED | SKIPPED | SKIPPED | PASS | +-----------------+---------------------------+--------------+------------------------------+----------------+ Debian 12 (arm) Kernel: Depends on container host Compiler: gcc (Debian 12.2.0-14) 12.2.0 Ubuntu 20.04 Kernel: 5.4 Compiler: gcc gcc (Ubuntu 9.4.0-1ubuntu1~20.04.2) 9.4.0 Ubuntu 22.04 Kernel: 5.15 Compiler: gcc gcc (Ubuntu 11.4.0-1ubuntu1~22.04.2) 11.4.0 To view detailed results, visit: https://lab.dpdk.org/results/dashboard/tarballs/35227/ UNH-IOL DPDK Community Lab To manage your email subscriptions, visit: https://lab.dpdk.org/results/dashboard/preferences/subscriptions/