From mboxrd@z Thu Jan 1 00:00:00 1970 Return-Path: Received: from mails.dpdk.org (mails.dpdk.org [217.70.189.124]) by inbox.dpdk.org (Postfix) with ESMTP id 6644B48956 for ; Fri, 17 Oct 2025 02:52:21 +0200 (CEST) Received: from mails.dpdk.org (localhost [127.0.0.1]) by mails.dpdk.org (Postfix) with ESMTP id 5020440269; Fri, 17 Oct 2025 02:52:21 +0200 (CEST) Received: from mail-vs1-f97.google.com (mail-vs1-f97.google.com [209.85.217.97]) by mails.dpdk.org (Postfix) with ESMTP id DC4CF40B9A for ; Fri, 17 Oct 2025 02:52:19 +0200 (CEST) Received: by mail-vs1-f97.google.com with SMTP id ada2fe7eead31-5565a83f796so1092916137.1 for ; Thu, 16 Oct 2025 17:52:19 -0700 (PDT) DKIM-Signature: v=1; a=rsa-sha256; c=relaxed/relaxed; d=iol.unh.edu; s=unh-iol; t=1760662339; x=1761267139; darn=dpdk.org; h=references:in-reply-to:cc:to:from:subject:message-id:date:from:to :cc:subject:date:message-id:reply-to; bh=UYnCUMBSJkPvb/O5i+39bjV5Ao8H2hulZo0V9RZb9i8=; b=cLtpVeysurVL2praHXimviDmSGiI8iFNZHWoT6H/FhdkbnhUO6oCNabBbby1AC2IR/ KBhwvAZ0RP5ZowhINQc2zg+xMk30Pf55HDL21WwVvJDR0LdMlwYgZqvbvuTtU96qkQyL 79N1aPM20q5xbp/hjqz2WMSI7VgV/psqsJUyk= X-Google-DKIM-Signature: v=1; a=rsa-sha256; c=relaxed/relaxed; d=1e100.net; s=20230601; t=1760662339; x=1761267139; h=references:in-reply-to:cc:to:from:subject:message-id:date :x-gm-message-state:from:to:cc:subject:date:message-id:reply-to; bh=UYnCUMBSJkPvb/O5i+39bjV5Ao8H2hulZo0V9RZb9i8=; b=Pyy7CnSnu+rpAieod1Z45coTd7pHP6dhKbNFND1+picLs3Z7FAcgdDShnMMp6meTM1 jEwZzQxO2lmCVsjPb0YVBbcTNiajMyPXUSki6MC8aDdnevmlcx024DmQYyqFP6Y7e80c oNpMo2YORIQsBnZLDvv+54R2AuiuUkVCOJ33FCS2RWli6IL9VybDifH6JHYqW8UNh0Ct qYXpDZyYxsjsmx0Byg8IJ+0vK7ldVuC5QAHyrRqr5iL6Zy0mnBPqfCGhyqKAQ5y8Ce+2 jCZGpwK2foxZNLumuMP4AdiXYSEucQROn74Sl30ybeaVVDjDs1PU41eP4yorDiltNu/J IQIw== X-Gm-Message-State: AOJu0Yzl33WyFlblERCHC7/vCWh5UdpfJs48sAxeI1yD43r0SkbS+FdF vrTpnXNFjWBCFRbo7yCY6i3UyEEL3Cuad8w/Cgn+cFc6qOSDtGCw0IB2DxgWDeg+XSsdCFJx2/n 3Oauw+5h5Glz2Vm5sX/hG5jTOwPttEYkrU5TMBwnU3hPY X-Gm-Gg: ASbGncuQKDnYX7oWMXQSh9L5aE4/9yZlX7leL40M/kUfyq9xJEg96msRaoMCB7q8/9J A80unABz/0jkHDVd2oNzrVmiy0vihEKAVwRr+w4mJYYxNsRU7yyzyA8+WAL8c06IQaGFSgfzWr+ t7ygboP4+6ZSY0azDJKGf/j2BTw8OFB4teD2zdpq3WNPyUDLkqw1V+7pOTPywSrVP/8/96GfXu7 0N6bbVbj6tTSCLTyKfjnBMiK3qYu8NMS4P/TQGgzVPisWG4xh8PY72q4SpEPAaK2gNQsg5jmaEs E44fQveIpGHN9DjefRWX/i+Bg1V6nRDlyFfSki8zitqZG/OeGA1GpPqpcDFPHjbhfbsrVzZEQMa Uu4HXqoZjOghkIMCH+LdrczOr6WEfi2g= X-Google-Smtp-Source: AGHT+IEBOsRw6ZsMhl0cRopu2Jkb6fNokhwY0Wh8tEVJioUSZodzOeFoYLz+vup4/CJBg5cIuFuoCzStqWDF X-Received: by 2002:a05:6102:26d4:b0:530:f657:c2e with SMTP id ada2fe7eead31-5d7dd6704efmr1186298137.13.1760662339039; Thu, 16 Oct 2025 17:52:19 -0700 (PDT) Received: from postal.iol.unh.edu (postal.iol.unh.edu. [132.177.123.84]) by smtp-relay.gmail.com with ESMTPS id ada2fe7eead31-5d5fc919dfdsm2454756137.5.2025.10.16.17.52.18 (version=TLS1_2 cipher=ECDHE-ECDSA-AES128-GCM-SHA256 bits=128/128); Thu, 16 Oct 2025 17:52:19 -0700 (PDT) X-Relaying-Domain: iol.unh.edu Date: Thu, 16 Oct 2025 17:52:19 -0700 (PDT) Message-ID: <68f19343.050a0220.3323c3.882cSMTPIN_ADDED_MISSING@mx.google.com> Received: from [172.21.0.2] (unknown [172.18.0.240]) by postal.iol.unh.edu (Postfix) with ESMTP id 81DEB6051830; Thu, 16 Oct 2025 20:52:18 -0400 (EDT) Subject: |WARNING| pw157755 [PATCH] net/iavf: ensure no polling during VF ini From: dpdklab@iol.unh.edu To: Test Report Cc: dpdk-test-reports@iol.unh.edu, Bruce Richardson In-Reply-To: <20251016113224.1652880-1-ciara.loftus@intel.com> References: <20251016113224.1652880-1-ciara.loftus@intel.com> Content-Type: text/plain X-BeenThere: test-report@dpdk.org X-Mailman-Version: 2.1.29 Precedence: list List-Id: automatic DPDK test reports List-Unsubscribe: , List-Archive: List-Post: List-Help: List-Subscribe: , Errors-To: test-report-bounces@dpdk.org Test-Label: iol-compile-amd64-testing Test-Status: WARNING http://dpdk.org/patch/157755 _Testing issues_ Submitter: Ciara Loftus Date: Thursday, October 16 2025 11:32:24 DPDK git baseline: Repo:dpdk-next-net-intel Branch: master CommitID:4b71a661aa14d6e2491a612a4347495c9e06eb0e 157755 --> testing issues Upstream job id: Generic-DPDK-Compile-Meson#435018 Test environment and result as below: +---------------------+--------------------+-------------------+-------------------------+----------------------+-------------------+------------------+ | Environment | dpdk_meson_compile | dpdk_msvc_compile | dpdk_llvm_clang_compile | dpdk_mingw64_compile | dpdk_compile_spdk | dpdk_compile_ovs | +=====================+====================+===================+=========================+======================+===================+==================+ | Ubuntu 20.04 | PASS | SKIPPED | SKIPPED | SKIPPED | SKIPPED | SKIPPED | +---------------------+--------------------+-------------------+-------------------------+----------------------+-------------------+------------------+ | FreeBSD 14.2 | PASS | SKIPPED | SKIPPED | SKIPPED | SKIPPED | SKIPPED | +---------------------+--------------------+-------------------+-------------------------+----------------------+-------------------+------------------+ | CentOS Stream 9 | PASS | SKIPPED | SKIPPED | SKIPPED | WARN | SKIPPED | +---------------------+--------------------+-------------------+-------------------------+----------------------+-------------------+------------------+ | CentOS Stream 10 | PASS | SKIPPED | SKIPPED | SKIPPED | SKIPPED | SKIPPED | +---------------------+--------------------+-------------------+-------------------------+----------------------+-------------------+------------------+ | Debian GNU/Linux 12 | PEND | SKIPPED | SKIPPED | SKIPPED | PEND | SKIPPED | +---------------------+--------------------+-------------------+-------------------------+----------------------+-------------------+------------------+ | Fedora Linux 42 | PEND | SKIPPED | SKIPPED | SKIPPED | PEND | PEND | +---------------------+--------------------+-------------------+-------------------------+----------------------+-------------------+------------------+ | Windows Server 2022 | SKIPPED | PASS | PASS | PASS | SKIPPED | SKIPPED | +---------------------+--------------------+-------------------+-------------------------+----------------------+-------------------+------------------+ ==== 20 line log output for CentOS Stream 9 (dpdk_compile_spdk): ==== --- Failed to get log output --- ==== End log output ==== Ubuntu 20.04 Kernel: 4.19 Compiler: gcc gcc (Ubuntu 9.4.0-1ubuntu1~20.04.2) 9.4.0 FreeBSD 14.2 Kernel: 14.2-RELEASE Compiler: clang 18.1.6 CentOS Stream 9 Kernel: 5.15 Compiler: gcc gcc (GCC) 11.5.0 20240719 (Red Hat 11.5.0-11) CentOS Stream 10 Kernel: 5.15 Compiler: gcc gcc (GCC) 14.2.1 20250110 (Red Hat 14.2.1-8) Debian GNU/Linux 12 Kernel: 5.15 Compiler: gcc gcc (Debian 12.2.0-14+deb12u1) 12.2.0 Fedora Linux 42 Kernel: 5.15 Compiler: clang gcc (GCC) 15.2.1 20250808 (Red Hat 15.2.1-1) Windows Server 2022 Kernel: 10.0.20348.2031 Compiler: clang 15.0.7, gcc 14.1.0 (MinGW), and MSVC VS 19.39.33521 To view detailed results, visit: https://lab.dpdk.org/results/dashboard/patchsets/34300/ UNH-IOL DPDK Community Lab To manage your email subscriptions, visit: https://lab.dpdk.org/results/dashboard/preferences/subscriptions/