From mboxrd@z Thu Jan 1 00:00:00 1970 Return-Path: Received: from mails.dpdk.org (mails.dpdk.org [217.70.189.124]) by inbox.dpdk.org (Postfix) with ESMTP id DA99348956 for ; Fri, 17 Oct 2025 03:11:09 +0200 (CEST) Received: from mails.dpdk.org (localhost [127.0.0.1]) by mails.dpdk.org (Postfix) with ESMTP id B43E740269; Fri, 17 Oct 2025 03:11:09 +0200 (CEST) Received: from mail-pg1-f228.google.com (mail-pg1-f228.google.com [209.85.215.228]) by mails.dpdk.org (Postfix) with ESMTP id C0C4940269 for ; Fri, 17 Oct 2025 03:11:08 +0200 (CEST) Received: by mail-pg1-f228.google.com with SMTP id 41be03b00d2f7-b553412a19bso918668a12.1 for ; Thu, 16 Oct 2025 18:11:08 -0700 (PDT) DKIM-Signature: v=1; a=rsa-sha256; c=relaxed/relaxed; d=iol.unh.edu; s=unh-iol; t=1760663468; x=1761268268; darn=dpdk.org; h=references:in-reply-to:cc:to:from:subject:message-id:date:from:to :cc:subject:date:message-id:reply-to; bh=2NnDtjrA91DP6cQ0EZs5sXgRNQQSjKkQYHjtLMrStuE=; b=HARgYi4SnteEHzWIYIadUGGRiS13LN5nPoRVU5P7+ADqq6lyazPWD33WBp96XNKyB/ kbMz7LWmo/j8xWOekUtyjvVdHUCd0bJNEISNsl2xABC8PqNwNP88BRTQWL9ATMEChJtS dLOjZHeDUO7Mp41e4l0dz5rf8SPHDu8v2I/4w= X-Google-DKIM-Signature: v=1; a=rsa-sha256; c=relaxed/relaxed; d=1e100.net; s=20230601; t=1760663468; x=1761268268; h=references:in-reply-to:cc:to:from:subject:message-id:date :x-gm-message-state:from:to:cc:subject:date:message-id:reply-to; bh=2NnDtjrA91DP6cQ0EZs5sXgRNQQSjKkQYHjtLMrStuE=; b=b2mxw81JfUjDidhJTyX0R8LSOfyKUG4FSz1fwzVYE6sYD8qVWmNcO7dmEPtBUsOpI1 ZUByX6g6YAvN27MFB4GxZ1Oy7/OUDFxic5e9jJfMvUpuyBT2Ld68g3HvjE2UW20guidy I/H8wHDILs55PV2ZZAj5zB5uBJ7BimQ6bm1Jhq7w1UtPjYsjpFlIIeB6kRcWZ0vjUo4c zp6/XeExXWVApRqPcKogkYKem/ED3XDJzy+Fb54TcSlFwbxToth2QGCzRP7lEV4OI4D9 Imh+HZn1jNoiLdcuN17R7qmZpybPdNwMvvd4oCifpOkgCO7xg77ST3E4XatM8fW7waCv weag== X-Gm-Message-State: AOJu0Yxl7Kv32DfjYuN+ncgixFQI4jooSkFTAhPPC78sM+Z4Usz/vP5Y yVQyYXPMLhyzQsorZxL7qhmMoFnOU0A0jK0i9bKneJBQlNPn0P3WYGDS1TG2DSXfy3v3ZR+9JmT QQOclDxWfKfHRyB6GKeBKqdfsg6/YGetasUiOElix5e4b X-Gm-Gg: ASbGncugcM18PRO3jPPOsiNcxOfBbkvEr92r6l7X0IrvfmTs4CWdUQeNEbOLYgmhsrE 0XlI5R448CM2vk3cqaFM8O6LbIh2Iy1KRRcepXu/MMyfjj9LuP/Lp+wbnEYjqMLbBy6+WMRp9g8 Ty2AvmfxX2xBfZ6CIweXU1B7fxqNqOl+tfFV8C3O3BknXH8TYOGGv7QKi4u4l/4jQfEmcNz8yhj stb8fKrxhvPrW/AWhgLVyzWiwL/PNP7wQD77ro70zyEQdjasOh/nWZdZ1zKujH4onjVTZVf5FWu XofimaiSTNsYr37q+ODZKTTCqc34vUOGSOjZj0F9La+NZ1iWeKE9BoJW/pgBYqJ0xulGhSZ5SgV KKwk9rg/wY1dkgKEmy8gA3Z9PoexWDgU= X-Google-Smtp-Source: AGHT+IF/64e/kQRbrBmretwGi6fUj2NCxdbk6RutrqazBPipPjmp37ULiN8uIxkPdColqOFhqDcWoSYMrNv4 X-Received: by 2002:a17:903:1746:b0:290:9ebf:211b with SMTP id d9443c01a7336-290cb07d223mr23381285ad.40.1760663467762; Thu, 16 Oct 2025 18:11:07 -0700 (PDT) Received: from postal.iol.unh.edu (postal.iol.unh.edu. [132.177.123.84]) by smtp-relay.gmail.com with ESMTPS id d9443c01a7336-29099aba423sm4680255ad.67.2025.10.16.18.11.07 (version=TLS1_2 cipher=ECDHE-ECDSA-AES128-GCM-SHA256 bits=128/128); Thu, 16 Oct 2025 18:11:07 -0700 (PDT) X-Relaying-Domain: iol.unh.edu Date: Thu, 16 Oct 2025 18:11:07 -0700 (PDT) Message-ID: <68f197ab.170a0220.3558e8.7b40SMTPIN_ADDED_MISSING@mx.google.com> Received: from [172.21.0.4] (unknown [172.18.0.240]) by postal.iol.unh.edu (Postfix) with ESMTP id 0EA3B6051830; Thu, 16 Oct 2025 21:11:07 -0400 (EDT) Subject: |SUCCESS| pw157714 [PATCH] config/arm: fix inconsistency for Neovers From: dpdklab@iol.unh.edu To: Test Report Cc: dpdk-test-reports@iol.unh.edu In-Reply-To: <20251016080533.535266-1-thierry.herbelot@6wind.com> References: <20251016080533.535266-1-thierry.herbelot@6wind.com> Content-Type: text/plain X-BeenThere: test-report@dpdk.org X-Mailman-Version: 2.1.29 Precedence: list List-Id: automatic DPDK test reports List-Unsubscribe: , List-Archive: List-Post: List-Help: List-Subscribe: , Errors-To: test-report-bounces@dpdk.org Test-Label: iol-compile-arm64-testing Test-Status: SUCCESS http://dpdk.org/patch/157714 _Testing PASS_ Submitter: Thierry Herbelot Date: Thursday, October 16 2025 08:05:33 DPDK git baseline: Repo:dpdk Branch: master CommitID:16f4c522003dcfecf23c8d38e009b95a3bbefd03 157714 --> testing pass Upstream job id: Generic-DPDK-Compile-Meson#434888 Test environment and result as below: +------------------------------+--------------------+ | Environment | dpdk_meson_compile | +==============================+====================+ | Red Hat Enterprise Linux 9.5 | PASS | +------------------------------+--------------------+ | Ubuntu 20.04 | PASS | +------------------------------+--------------------+ | Debian GNU/Linux 12 | PASS | +------------------------------+--------------------+ | Fedora Linux 42 | PASS | +------------------------------+--------------------+ | Ubuntu 22.04 | PASS | +------------------------------+--------------------+ | Ubuntu 24.04 | PASS | +------------------------------+--------------------+ | CentOS Stream 9 | PASS | +------------------------------+--------------------+ | CentOS Stream 10 | PASS | +------------------------------+--------------------+ Red Hat Enterprise Linux 9.5 Kernel: 5.4 Compiler: gcc gcc (GCC) 11.5.0 20240719 (Red Hat 11.5.0-2) Ubuntu 20.04 Kernel: 5.15 Compiler: aarch64-linux-gnu-gcc gcc (Ubuntu 9.4.0-1ubuntu1~20.04.2) 9.4.0 Debian GNU/Linux 12 Kernel: 5.4 Compiler: gcc gcc (Debian 12.2.0-14+deb12u1) 12.2.0 Fedora Linux 42 Kernel: 5.4 Compiler: gcc gcc (GCC) 15.2.1 20250808 (Red Hat 15.2.1-1) Ubuntu 22.04 Kernel: 5.4 Compiler: gcc gcc (Ubuntu 11.4.0-1ubuntu1~22.04) 11.4.0 Ubuntu 24.04 Kernel: 5.4 Compiler: gcc gcc (Ubuntu 13.3.0-6ubuntu2~24.04) 13.3.0 CentOS Stream 9 Kernel: 5.4 Compiler: gcc gcc (GCC) 11.5.0 20240719 (Red Hat 11.5.0-11) CentOS Stream 10 Kernel: 5.4 Compiler: gcc gcc (GCC) 14.2.1 20250110 (Red Hat 14.2.1-8) To view detailed results, visit: https://lab.dpdk.org/results/dashboard/patchsets/34294/ UNH-IOL DPDK Community Lab To manage your email subscriptions, visit: https://lab.dpdk.org/results/dashboard/preferences/subscriptions/