From mboxrd@z Thu Jan 1 00:00:00 1970 Return-Path: Received: from mails.dpdk.org (mails.dpdk.org [217.70.189.124]) by inbox.dpdk.org (Postfix) with ESMTP id 9EBB748956 for ; Fri, 17 Oct 2025 03:19:40 +0200 (CEST) Received: from mails.dpdk.org (localhost [127.0.0.1]) by mails.dpdk.org (Postfix) with ESMTP id 7BE7940269; Fri, 17 Oct 2025 03:19:40 +0200 (CEST) Received: from mail-vs1-f99.google.com (mail-vs1-f99.google.com [209.85.217.99]) by mails.dpdk.org (Postfix) with ESMTP id 33B7940269 for ; Fri, 17 Oct 2025 03:19:39 +0200 (CEST) Received: by mail-vs1-f99.google.com with SMTP id ada2fe7eead31-5997f407c85so478420137.2 for ; Thu, 16 Oct 2025 18:19:39 -0700 (PDT) DKIM-Signature: v=1; a=rsa-sha256; c=relaxed/relaxed; d=iol.unh.edu; s=unh-iol; t=1760663978; x=1761268778; darn=dpdk.org; h=references:in-reply-to:cc:to:from:subject:message-id:date:from:to :cc:subject:date:message-id:reply-to; bh=XULFBJu6Yk4MR1MeuuQRyz8MaweX1V3F5qbQ6xPmgB8=; b=QQKQn2pv6vrWSHjFuSVTKoKnbO/zi91QxTKjEzDdYWmBbwF3Am7zKkdPwZUKJOGLeE UINNtLk8ATaJBC1BBv8NzPiBcAhlqebLSVLD0/lhZaBqKsaqtoQ8S3+aAH6FeGp8qLZo TU0/qxE1HEKrD0pcpMQM5XKqiaIdn8m9GG+2o= X-Google-DKIM-Signature: v=1; a=rsa-sha256; c=relaxed/relaxed; d=1e100.net; s=20230601; t=1760663978; x=1761268778; h=references:in-reply-to:cc:to:from:subject:message-id:date :x-gm-message-state:from:to:cc:subject:date:message-id:reply-to; bh=XULFBJu6Yk4MR1MeuuQRyz8MaweX1V3F5qbQ6xPmgB8=; b=WPuoDnsv+NVVp6jUbKYAKSZ373ruxBrujrIm+k59vySrMHHP+PHRN5fWNDxcZJRfEk WiVv456kWISBveyzx4dAPh0W0Exnjg3nEoeG28D+q3q3xgeRaBDcEJroa860U2LcAopj OjEoZdqBUlKK//+KcKEAraxhjwUjhPXAM9S+UUjnJAKHsaRA1xyCE7v4wdN0rU43wjV9 yXbNQUOoNs+d0JKXR/7AyhaeGJoXGYSxo0KO2xmmtk52pt2YvyXSfF5JEy8Hk1Phx/lU Lx8QmMUYxdpek9iFSxjHyKF2bdO3i7dT9pqwjHn3ipUInitZudIpZgguyCRosslG4LbS x1Ug== X-Gm-Message-State: AOJu0Yx+UcvdMCJPVvHJrQLkdLBg2hmmun2G+98+b9z72ABnGMkkagvc DWnekmTXxLt6pwyr85b8ED29bx1gDlpAVHYAy6rVhcutNJtxNici7BJanLcdDFXiwABHLxQTTXg yq8bs6UvxndX4rVcvsR75cJ81d2wb4w/k+UmgX1ZSi4Dw X-Gm-Gg: ASbGncsyfLEnASNssj6i1DsLxFQKm8TU9dKyA39ZTg6tocrimZbJKX5ypYpkkTCI1B0 BKSQ8hvw4qPpObjW1bMcDvE6OIBCpHopqfJ65DD6ZPFWnuPElq9cokacmt4c2WbwZMhIflPDC/T SWmjOtccAr/TavGkqG7cz6bN5S1r9wMXruwrvU/F22j5xZDY5Hs8zPmJgWMJM7tMuy1hoJeKC6J ZNxLf4rQ5CpnV9aOdSdJ0g/elZQxu8hKAqXhVE4Yh3iII1YsbSBqaHwGnWriwoFLQTMWuM14r1k bgbyyzjUdYPtRNjDa3BgMTnwTlExnBSbOl/rZBsmM5EBT88x2g18IZUqLp4Q25zcTaOGNTXs7CO ckcZMy1Y5Ex/Kr3y+m4npKxAnCBF4wqQ= X-Google-Smtp-Source: AGHT+IHHJ0QF+Gz8ZJWrLnc/Zzg5kEa9lC8djRnfGNgDhu8aE+5z9gfKaT7N5C8VsCwX/gjsNvmlSMfe1KH3 X-Received: by 2002:a05:6102:3749:b0:58c:aceb:1e3a with SMTP id ada2fe7eead31-5d7dd5907damr932879137.11.1760663978457; Thu, 16 Oct 2025 18:19:38 -0700 (PDT) Received: from postal.iol.unh.edu (postal.iol.unh.edu. [132.177.123.84]) by smtp-relay.gmail.com with ESMTPS id ada2fe7eead31-5d5fc8a7539sm2482737137.3.2025.10.16.18.19.38 (version=TLS1_2 cipher=ECDHE-ECDSA-AES128-GCM-SHA256 bits=128/128); Thu, 16 Oct 2025 18:19:38 -0700 (PDT) X-Relaying-Domain: iol.unh.edu Date: Thu, 16 Oct 2025 18:19:38 -0700 (PDT) Message-ID: <68f199aa.050a0220.11b5b5.a8cbSMTPIN_ADDED_MISSING@mx.google.com> Received: from [172.21.0.2] (unknown [172.18.0.240]) by postal.iol.unh.edu (Postfix) with ESMTP id 25A346051830; Thu, 16 Oct 2025 21:19:38 -0400 (EDT) Subject: |WARNING| pw157756-157758 [PATCH] [v7,3/3] dts: update tx_offload te From: dpdklab@iol.unh.edu To: Test Report Cc: dpdk-test-reports@iol.unh.edu In-Reply-To: <20251016132421.12176-4-abailey@iol.unh.edu> References: <20251016132421.12176-4-abailey@iol.unh.edu> Content-Type: text/plain X-BeenThere: test-report@dpdk.org X-Mailman-Version: 2.1.29 Precedence: list List-Id: automatic DPDK test reports List-Unsubscribe: , List-Archive: List-Post: List-Help: List-Subscribe: , Errors-To: test-report-bounces@dpdk.org Test-Label: iol-compile-amd64-testing Test-Status: WARNING http://dpdk.org/patch/157758 _Testing issues_ Submitter: Andrew Bailey Date: Thursday, October 16 2025 13:24:21 DPDK git baseline: Repo:dpdk-next-dts Branch: master CommitID:c1a9d3e5a721be9be66f0c4bfd9fa4d6e6af3b98 157756-157758 --> testing issues Upstream job id: Generic-DPDK-Compile-Meson#435047 Test environment and result as below: +-------------------------------+--------------------+-------------------+-------------------------+----------------------+-------------------+------------------+ | Environment | dpdk_meson_compile | dpdk_msvc_compile | dpdk_llvm_clang_compile | dpdk_mingw64_compile | dpdk_compile_spdk | dpdk_compile_ovs | +===============================+====================+===================+=========================+======================+===================+==================+ | Ubuntu 20.04 | PEND | SKIPPED | SKIPPED | SKIPPED | SKIPPED | SKIPPED | +-------------------------------+--------------------+-------------------+-------------------------+----------------------+-------------------+------------------+ | FreeBSD 14.2 | PASS | SKIPPED | SKIPPED | SKIPPED | SKIPPED | SKIPPED | +-------------------------------+--------------------+-------------------+-------------------------+----------------------+-------------------+------------------+ | openSUSE Leap 15.6 | PASS | SKIPPED | SKIPPED | SKIPPED | SKIPPED | SKIPPED | +-------------------------------+--------------------+-------------------+-------------------------+----------------------+-------------------+------------------+ | CentOS Stream 9 | PEND | SKIPPED | SKIPPED | SKIPPED | PEND | SKIPPED | +-------------------------------+--------------------+-------------------+-------------------------+----------------------+-------------------+------------------+ | CentOS Stream 10 | PASS | SKIPPED | SKIPPED | SKIPPED | SKIPPED | SKIPPED | +-------------------------------+--------------------+-------------------+-------------------------+----------------------+-------------------+------------------+ | Debian GNU/Linux 12 | PASS | SKIPPED | SKIPPED | SKIPPED | WARN | SKIPPED | +-------------------------------+--------------------+-------------------+-------------------------+----------------------+-------------------+------------------+ | Fedora Linux 42 | PEND | SKIPPED | SKIPPED | SKIPPED | PEND | PEND | +-------------------------------+--------------------+-------------------+-------------------------+----------------------+-------------------+------------------+ | Red Hat Enterprise Linux 8.10 | PEND | SKIPPED | SKIPPED | SKIPPED | SKIPPED | SKIPPED | +-------------------------------+--------------------+-------------------+-------------------------+----------------------+-------------------+------------------+ | Red Hat Enterprise Linux 9.5 | PEND | SKIPPED | SKIPPED | SKIPPED | SKIPPED | SKIPPED | +-------------------------------+--------------------+-------------------+-------------------------+----------------------+-------------------+------------------+ | Ubuntu 22.04 | PEND | SKIPPED | SKIPPED | SKIPPED | PEND | SKIPPED | +-------------------------------+--------------------+-------------------+-------------------------+----------------------+-------------------+------------------+ | Ubuntu 24.04 | PEND | SKIPPED | SKIPPED | SKIPPED | PEND | PEND | +-------------------------------+--------------------+-------------------+-------------------------+----------------------+-------------------+------------------+ | Alpine Linux 3.22.0 | PEND | SKIPPED | SKIPPED | SKIPPED | SKIPPED | SKIPPED | +-------------------------------+--------------------+-------------------+-------------------------+----------------------+-------------------+------------------+ | Windows Server 2022 | SKIPPED | PASS | PASS | PASS | SKIPPED | SKIPPED | +-------------------------------+--------------------+-------------------+-------------------------+----------------------+-------------------+------------------+ ==== 20 line log output for Debian GNU/Linux 12 (dpdk_compile_spdk): ==== --- Failed to get log output --- ==== End log output ==== Ubuntu 20.04 Kernel: 4.19 Compiler: gcc gcc (Ubuntu 9.4.0-1ubuntu1~20.04.2) 9.4.0 FreeBSD 14.2 Kernel: 14.2-RELEASE Compiler: clang 18.1.6 openSUSE Leap 15.6 Kernel: 5.15 Compiler: gcc gcc (SUSE Linux) 7.5.0 CentOS Stream 9 Kernel: 5.15 Compiler: gcc gcc (GCC) 11.5.0 20240719 (Red Hat 11.5.0-11) CentOS Stream 10 Kernel: 5.15 Compiler: gcc gcc (GCC) 14.2.1 20250110 (Red Hat 14.2.1-8) Debian GNU/Linux 12 Kernel: 5.15 Compiler: gcc gcc (Debian 12.2.0-14+deb12u1) 12.2.0 Fedora Linux 42 Kernel: 5.15 Compiler: clang gcc (GCC) 15.2.1 20250808 (Red Hat 15.2.1-1) Red Hat Enterprise Linux 8.10 Kernel: 5.15 Compiler: gcc gcc (GCC) 8.5.0 20210514 (Red Hat 8.5.0-22) Red Hat Enterprise Linux 9.5 Kernel: 5.15 Compiler: gcc gcc (GCC) 11.5.0 20240719 (Red Hat 11.5.0-2) Ubuntu 22.04 Kernel: 5.15 Compiler: gcc gcc (Ubuntu 11.4.0-1ubuntu1~22.04) 11.4.0 Ubuntu 24.04 Kernel: 5.15 Compiler: gcc gcc (Ubuntu 13.3.0-6ubuntu2~24.04) 13.3.0 Alpine Linux 3.22.0 Kernel: 5.15 Compiler: gcc gcc (Alpine 14.2.0) 14.2.0 Windows Server 2022 Kernel: 10.0.20348.2031 Compiler: clang 15.0.7, gcc 14.1.0 (MinGW), and MSVC VS 19.39.33521 To view detailed results, visit: https://lab.dpdk.org/results/dashboard/patchsets/34301/ UNH-IOL DPDK Community Lab To manage your email subscriptions, visit: https://lab.dpdk.org/results/dashboard/preferences/subscriptions/