From mboxrd@z Thu Jan 1 00:00:00 1970 Return-Path: Received: from mails.dpdk.org (mails.dpdk.org [217.70.189.124]) by inbox.dpdk.org (Postfix) with ESMTP id 7A9FE48956 for ; Fri, 17 Oct 2025 03:29:25 +0200 (CEST) Received: from mails.dpdk.org (localhost [127.0.0.1]) by mails.dpdk.org (Postfix) with ESMTP id 610E440269; Fri, 17 Oct 2025 03:29:25 +0200 (CEST) Received: from mail-pg1-f225.google.com (mail-pg1-f225.google.com [209.85.215.225]) by mails.dpdk.org (Postfix) with ESMTP id B8C9840269 for ; Fri, 17 Oct 2025 03:29:23 +0200 (CEST) Received: by mail-pg1-f225.google.com with SMTP id 41be03b00d2f7-b6271ea3a6fso890349a12.0 for ; Thu, 16 Oct 2025 18:29:23 -0700 (PDT) DKIM-Signature: v=1; a=rsa-sha256; c=relaxed/relaxed; d=iol.unh.edu; s=unh-iol; t=1760664563; x=1761269363; darn=dpdk.org; h=references:in-reply-to:cc:to:from:subject:message-id:date:from:to :cc:subject:date:message-id:reply-to; bh=oBEeJQrQIED2BX3Ok2F6+fe11FIrDI6CiN6NQQnv5mU=; b=jZdXQhrxxxRx80PEVk8+XmcG7S7Wy5ziDDbbT6CfSUjij+CQ2ZGb0ySPmr6hf2jwTX kA8sIFE3QFV/bNlueaHEk3UhKoSCyR7lGo4NF8gqTLbBp9CrK2awHrlad9LQzdNAGSbD 4p1vXlVsIr7oNpY6mnhKFhhnhVqSeWjGV2Q0A= X-Google-DKIM-Signature: v=1; a=rsa-sha256; c=relaxed/relaxed; d=1e100.net; s=20230601; t=1760664563; x=1761269363; h=references:in-reply-to:cc:to:from:subject:message-id:date :x-gm-message-state:from:to:cc:subject:date:message-id:reply-to; bh=oBEeJQrQIED2BX3Ok2F6+fe11FIrDI6CiN6NQQnv5mU=; b=K7oj17b6AGz6B3KFna3C3pJqjUE5q7S++vqMs6ZnMJtIXGzTHEPuFgoKZJgtZUGDQK ba/YRfNvc0pP8iIolDWa9uwOMZ89KFxDRsgfRumKqC6QYB7ANsZpu5zRVYWyG+NAjGzw bpK57Pa9dXTfXaBwpOgaCmg8FKwcX+9D2lDgQGUJHHVmaYfdZWGdtM5WedL/xV5NAAb8 w16xEyJtE4hPNR8m704D3IYUVqy/T0lX60mqYdSZvL43UDb11ba+8rX+YqiYvHOlm8mK zRxiFrotkHpsqNkoBzWn37sIx0JV19yI1+l1GLPuxL9BGqwPjzVbEpmOye1KNiPVt6Un d45Q== X-Gm-Message-State: AOJu0YzxTGI1xAVSD4ynVQj1sQyJYKlEhzjpLh2Xdo1jXA56kOGffOSk iBtTcr4F6riDOKYObaimXydCtnoatd7OcaTwG2NN48SeUMJxPj0P5InEWSD8JbKm20DjFZWmLTM 2SYIxQVzXrTetJoq0+6w1Cywbm7ggAGhNylJVeaf6qACu X-Gm-Gg: ASbGncuQ6Oq6OHb6d1Qma3DdWGrMJllnFR0Nyal8DaOEtRR40DQ72gNb1j7XGsmbsKR QbWGiebfFSqqAcuZZc0Q6cwHNC/sBtxGM3M9Op/9aeG0V76AlQ5LnC/4Qn7YxoEojTfEEEXiAk/ VfCUnS4hhL3ksxRGWDFX5cCwFGedsgwwISb2GV25VTq2+wZjbuKAq+SUrW7tPsVBGWY7ezdg64b /ubWkgJaohbcuZxsnRIaXGbs7aZU8fDbjRbZy6xwJdNX2UlRIZ4DPGVtHh5R2fAg2fdzvH6gQoM IUEO9xAfsM5834fT28lLtZXU1iH3kDGir4yyngGfSpVWoeGwpkKTO3Q7DlhRLuEEgXwDSezlUwq rVH6MQZYaMoDbpkIrsSy/pMTPv8exjyc= X-Google-Smtp-Source: AGHT+IFNJnNRxZiCEaXBpm5FDxkidj/XsGK9JuB0PE7ZSrEdQal/Dc5gDC0lq8LlL3zt6yAiZh+8h9udryQq X-Received: by 2002:a17:903:1a4c:b0:267:9aa5:f6a6 with SMTP id d9443c01a7336-290c9cbbf22mr25869115ad.19.1760664562838; Thu, 16 Oct 2025 18:29:22 -0700 (PDT) Received: from postal.iol.unh.edu (postal.iol.unh.edu. [132.177.123.84]) by smtp-relay.gmail.com with ESMTPS id 41be03b00d2f7-b6a22871245sm308900a12.1.2025.10.16.18.29.22 (version=TLS1_2 cipher=ECDHE-ECDSA-AES128-GCM-SHA256 bits=128/128); Thu, 16 Oct 2025 18:29:22 -0700 (PDT) X-Relaying-Domain: iol.unh.edu Date: Thu, 16 Oct 2025 18:29:22 -0700 (PDT) Message-ID: <68f19bf2.050a0220.1d7595.fc6cSMTPIN_ADDED_MISSING@mx.google.com> Received: from [172.21.0.2] (unknown [172.18.0.240]) by postal.iol.unh.edu (Postfix) with ESMTP id 4459C6051830; Thu, 16 Oct 2025 21:29:21 -0400 (EDT) Subject: |WARNING| pw157755 [PATCH] net/iavf: ensure no polling during VF ini From: dpdklab@iol.unh.edu To: Test Report Cc: dpdk-test-reports@iol.unh.edu, Bruce Richardson In-Reply-To: <20251016113224.1652880-1-ciara.loftus@intel.com> References: <20251016113224.1652880-1-ciara.loftus@intel.com> Content-Type: text/plain X-BeenThere: test-report@dpdk.org X-Mailman-Version: 2.1.29 Precedence: list List-Id: automatic DPDK test reports List-Unsubscribe: , List-Archive: List-Post: List-Help: List-Subscribe: , Errors-To: test-report-bounces@dpdk.org Test-Label: iol-compile-amd64-testing Test-Status: WARNING http://dpdk.org/patch/157755 _Testing issues_ Submitter: Ciara Loftus Date: Thursday, October 16 2025 11:32:24 DPDK git baseline: Repo:dpdk-next-net-intel Branch: master CommitID:4b71a661aa14d6e2491a612a4347495c9e06eb0e 157755 --> testing issues Upstream job id: Generic-DPDK-Compile-Meson#435044 Test environment and result as below: +-------------------------------+--------------------+-------------------+-------------------------+----------------------+-------------------+------------------+ | Environment | dpdk_meson_compile | dpdk_msvc_compile | dpdk_llvm_clang_compile | dpdk_mingw64_compile | dpdk_compile_spdk | dpdk_compile_ovs | +===============================+====================+===================+=========================+======================+===================+==================+ | Ubuntu 20.04 | PASS | SKIPPED | SKIPPED | SKIPPED | SKIPPED | SKIPPED | +-------------------------------+--------------------+-------------------+-------------------------+----------------------+-------------------+------------------+ | FreeBSD 14.2 | PASS | SKIPPED | SKIPPED | SKIPPED | SKIPPED | SKIPPED | +-------------------------------+--------------------+-------------------+-------------------------+----------------------+-------------------+------------------+ | CentOS Stream 9 | PASS | SKIPPED | SKIPPED | SKIPPED | WARN | SKIPPED | +-------------------------------+--------------------+-------------------+-------------------------+----------------------+-------------------+------------------+ | CentOS Stream 10 | PASS | SKIPPED | SKIPPED | SKIPPED | SKIPPED | SKIPPED | +-------------------------------+--------------------+-------------------+-------------------------+----------------------+-------------------+------------------+ | Debian GNU/Linux 12 | PASS | SKIPPED | SKIPPED | SKIPPED | WARN | SKIPPED | +-------------------------------+--------------------+-------------------+-------------------------+----------------------+-------------------+------------------+ | Fedora Linux 42 | PASS | SKIPPED | SKIPPED | SKIPPED | WARN | PASS | +-------------------------------+--------------------+-------------------+-------------------------+----------------------+-------------------+------------------+ | openSUSE Leap 15.6 | PASS | SKIPPED | SKIPPED | SKIPPED | SKIPPED | SKIPPED | +-------------------------------+--------------------+-------------------+-------------------------+----------------------+-------------------+------------------+ | Red Hat Enterprise Linux 8.10 | PASS | SKIPPED | SKIPPED | SKIPPED | SKIPPED | SKIPPED | +-------------------------------+--------------------+-------------------+-------------------------+----------------------+-------------------+------------------+ | Red Hat Enterprise Linux 9.5 | PASS | SKIPPED | SKIPPED | SKIPPED | SKIPPED | SKIPPED | +-------------------------------+--------------------+-------------------+-------------------------+----------------------+-------------------+------------------+ | Ubuntu 22.04 | PASS | SKIPPED | SKIPPED | SKIPPED | WARN | SKIPPED | +-------------------------------+--------------------+-------------------+-------------------------+----------------------+-------------------+------------------+ | Ubuntu 24.04 | PASS | SKIPPED | SKIPPED | SKIPPED | WARN | PASS | +-------------------------------+--------------------+-------------------+-------------------------+----------------------+-------------------+------------------+ | Alpine Linux 3.22.0 | PASS | SKIPPED | SKIPPED | SKIPPED | SKIPPED | SKIPPED | +-------------------------------+--------------------+-------------------+-------------------------+----------------------+-------------------+------------------+ | Windows Server 2022 | SKIPPED | PASS | PASS | PASS | SKIPPED | SKIPPED | +-------------------------------+--------------------+-------------------+-------------------------+----------------------+-------------------+------------------+ ==== 20 line log output for Ubuntu 24.04 (dpdk_compile_spdk): ==== --- Failed to get log output --- ==== End log output ==== Ubuntu 20.04 Kernel: 4.19 Compiler: gcc gcc (Ubuntu 9.4.0-1ubuntu1~20.04.2) 9.4.0 FreeBSD 14.2 Kernel: 14.2-RELEASE Compiler: clang 18.1.6 CentOS Stream 9 Kernel: 5.15 Compiler: gcc gcc (GCC) 11.5.0 20240719 (Red Hat 11.5.0-11) CentOS Stream 10 Kernel: 5.15 Compiler: gcc gcc (GCC) 14.2.1 20250110 (Red Hat 14.2.1-8) Debian GNU/Linux 12 Kernel: 5.15 Compiler: gcc gcc (Debian 12.2.0-14+deb12u1) 12.2.0 Fedora Linux 42 Kernel: 5.15 Compiler: clang gcc (GCC) 15.2.1 20250808 (Red Hat 15.2.1-1) openSUSE Leap 15.6 Kernel: 5.15 Compiler: gcc gcc (SUSE Linux) 7.5.0 Red Hat Enterprise Linux 8.10 Kernel: 5.15 Compiler: gcc gcc (GCC) 8.5.0 20210514 (Red Hat 8.5.0-22) Red Hat Enterprise Linux 9.5 Kernel: 5.15 Compiler: gcc gcc (GCC) 11.5.0 20240719 (Red Hat 11.5.0-2) Ubuntu 22.04 Kernel: 5.15 Compiler: gcc gcc (Ubuntu 11.4.0-1ubuntu1~22.04) 11.4.0 Ubuntu 24.04 Kernel: 5.15 Compiler: gcc gcc (Ubuntu 13.3.0-6ubuntu2~24.04) 13.3.0 Alpine Linux 3.22.0 Kernel: 5.15 Compiler: gcc gcc (Alpine 14.2.0) 14.2.0 Windows Server 2022 Kernel: 10.0.20348.2031 Compiler: clang 15.0.7, gcc 14.1.0 (MinGW), and MSVC VS 19.39.33521 To view detailed results, visit: https://lab.dpdk.org/results/dashboard/patchsets/34300/ UNH-IOL DPDK Community Lab To manage your email subscriptions, visit: https://lab.dpdk.org/results/dashboard/preferences/subscriptions/