From mboxrd@z Thu Jan 1 00:00:00 1970 Return-Path: Received: from mails.dpdk.org (mails.dpdk.org [217.70.189.124]) by inbox.dpdk.org (Postfix) with ESMTP id E1DB648956 for ; Fri, 17 Oct 2025 03:46:06 +0200 (CEST) Received: from mails.dpdk.org (localhost [127.0.0.1]) by mails.dpdk.org (Postfix) with ESMTP id BC35340269; Fri, 17 Oct 2025 03:46:06 +0200 (CEST) Received: from mail-qv1-f99.google.com (mail-qv1-f99.google.com [209.85.219.99]) by mails.dpdk.org (Postfix) with ESMTP id 899AD40269 for ; Fri, 17 Oct 2025 03:46:05 +0200 (CEST) Received: by mail-qv1-f99.google.com with SMTP id 6a1803df08f44-87c1f607e72so15253286d6.0 for ; Thu, 16 Oct 2025 18:46:05 -0700 (PDT) DKIM-Signature: v=1; a=rsa-sha256; c=relaxed/relaxed; d=iol.unh.edu; s=unh-iol; t=1760665565; x=1761270365; darn=dpdk.org; h=references:in-reply-to:cc:to:from:subject:message-id:date:from:to :cc:subject:date:message-id:reply-to; bh=FnUcmMGseuED2+D8yTQwGQRh3i5rnNvmrsnV8HAUhXY=; b=ROkX66wmqh0rQfNRIm+KinLJU+SUHQ7IwQxMFOGh8Tlu8ZNheoXMaRqMCjokHVIe+V UbjZ4Fsy4UIV5ho2Ik7It+qPMy5JRbOG1Kp+xThQrTJk6gnObVVTCRYn+OlhHLxgL9lj W+NVwOF0ERnJKsYvxv+Apwyi4790ZkB8sSOJI= X-Google-DKIM-Signature: v=1; a=rsa-sha256; c=relaxed/relaxed; d=1e100.net; s=20230601; t=1760665565; x=1761270365; h=references:in-reply-to:cc:to:from:subject:message-id:date :x-gm-message-state:from:to:cc:subject:date:message-id:reply-to; bh=FnUcmMGseuED2+D8yTQwGQRh3i5rnNvmrsnV8HAUhXY=; b=ZHnjUfuCNNMsDKBvL3vbhvtAEEWrWGiQ+bDBlV3FUIe6BqbSbkY02BMZT4Gf4dPPBt zL+kcSbtFuYV7331FnGjatCyRO/xhkVA3Jl1c98w4lASTV9SDbf1hhHRFRPA1uAQS/BX sPm24eceWYhCQ0Guj7PTQ84Sc7WTYHZtTw+ApUeFjGnk0g4oTDGUhQ4byoPFcLWEOw2E UdIC9xYJFxz7xniFZjXU8BnjYbGQbdvn6jV9avpLm4TU+yx5YWslpwatHokKiTu0JXo8 uRPQd86aE9TL4mUkc8FTmmviwPzcc9EpotwC9/xdQ3atMGMqlb69GD0bN394ioNt7Xma BPcw== X-Gm-Message-State: AOJu0YxxqUWtAqp2b4QyYAAC8KE9eoePEMs/x8pdeNaNd86bdeArP5PF yu0ck2RZQ5+kgELuFGPidTEwDjlvB0uKM7ASxuJTRQ3MCvRpvnRpydNtkbloRHLOQr/mmfaidpP 8Tom2lgcMd1BWndBpwO+LM0gtkUiV14d8Y1reguyBa1Sa X-Gm-Gg: ASbGnct46Yw2gh44d99cpm267v/9exjTSwPvE5JM++1oEtOI991EinFr4dGHBWNy8fO pMZPWVet1aeePnXpYGkJT2/MmE4+J8s6WWi3euo2HpW0WG+frghZ02ahi6GzcreIFYdIxEaLIf8 3/mDRlY/8WuFkY+2gjgC31QAGkQtpotYF5GVkpNBeVTjL3kXQEKGA9pN7dHlu92WL0f2/z02f3Y 7ux8or99kt32VQ72fnDT0xtoMAW8NbZHSC/HvoJ1IUi04G9bp+EvC7cpBVmiMfGXKGr1aVku76N u/554BFbKFF044GH8q6eNNp+8Ojpr2vU/E4Gkpjo1aZxoKMIgouXls5DaLEV3rZCLI+YXttZqaL QcYLhSLtmwoSVLJ9BcT9NsbVZyo6czdQ= X-Google-Smtp-Source: AGHT+IEePIOc0VyVkfh9QofY/U89Nu1RURhv/ec13+YCiVs1wiSMz3msryRbNDLXOyHLoPY23X8fzuW8J52W X-Received: by 2002:a05:6214:1c46:b0:7f0:e84e:b2b5 with SMTP id 6a1803df08f44-87c0cbb087emr85303746d6.30.1760665564791; Thu, 16 Oct 2025 18:46:04 -0700 (PDT) Received: from postal.iol.unh.edu (postal.iol.unh.edu. [132.177.123.84]) by smtp-relay.gmail.com with ESMTPS id 6a1803df08f44-87c0129fa4dsm6751346d6.31.2025.10.16.18.46.04 (version=TLS1_2 cipher=ECDHE-ECDSA-AES128-GCM-SHA256 bits=128/128); Thu, 16 Oct 2025 18:46:04 -0700 (PDT) X-Relaying-Domain: iol.unh.edu Date: Thu, 16 Oct 2025 18:46:04 -0700 (PDT) Message-ID: <68f19fdc.050a0220.1e84f8.1b18SMTPIN_ADDED_MISSING@mx.google.com> Received: from [172.21.0.2] (unknown [172.18.0.240]) by postal.iol.unh.edu (Postfix) with ESMTP id 58D736051830; Thu, 16 Oct 2025 21:46:04 -0400 (EDT) Subject: |WARNING| pw157756-157758 [PATCH] [v7,3/3] dts: update tx_offload te From: dpdklab@iol.unh.edu To: Test Report Cc: dpdk-test-reports@iol.unh.edu In-Reply-To: <20251016132421.12176-4-abailey@iol.unh.edu> References: <20251016132421.12176-4-abailey@iol.unh.edu> Content-Type: text/plain X-BeenThere: test-report@dpdk.org X-Mailman-Version: 2.1.29 Precedence: list List-Id: automatic DPDK test reports List-Unsubscribe: , List-Archive: List-Post: List-Help: List-Subscribe: , Errors-To: test-report-bounces@dpdk.org Test-Label: iol-compile-amd64-testing Test-Status: WARNING http://dpdk.org/patch/157758 _Testing issues_ Submitter: Andrew Bailey Date: Thursday, October 16 2025 13:24:21 DPDK git baseline: Repo:dpdk-next-dts Branch: master CommitID:c1a9d3e5a721be9be66f0c4bfd9fa4d6e6af3b98 157756-157758 --> testing issues Upstream job id: Generic-DPDK-Compile-Meson#435048 Test environment and result as below: +-------------------------------+--------------------+-------------------+-------------------------+----------------------+-------------------+------------------+ | Environment | dpdk_meson_compile | dpdk_msvc_compile | dpdk_llvm_clang_compile | dpdk_mingw64_compile | dpdk_compile_spdk | dpdk_compile_ovs | +===============================+====================+===================+=========================+======================+===================+==================+ | Ubuntu 20.04 | PASS | SKIPPED | SKIPPED | SKIPPED | SKIPPED | SKIPPED | +-------------------------------+--------------------+-------------------+-------------------------+----------------------+-------------------+------------------+ | FreeBSD 14.2 | PASS | SKIPPED | SKIPPED | SKIPPED | SKIPPED | SKIPPED | +-------------------------------+--------------------+-------------------+-------------------------+----------------------+-------------------+------------------+ | openSUSE Leap 15.6 | PASS | SKIPPED | SKIPPED | SKIPPED | SKIPPED | SKIPPED | +-------------------------------+--------------------+-------------------+-------------------------+----------------------+-------------------+------------------+ | CentOS Stream 9 | PASS | SKIPPED | SKIPPED | SKIPPED | WARN | SKIPPED | +-------------------------------+--------------------+-------------------+-------------------------+----------------------+-------------------+------------------+ | CentOS Stream 10 | PASS | SKIPPED | SKIPPED | SKIPPED | SKIPPED | SKIPPED | +-------------------------------+--------------------+-------------------+-------------------------+----------------------+-------------------+------------------+ | Debian GNU/Linux 12 | PASS | SKIPPED | SKIPPED | SKIPPED | WARN | SKIPPED | +-------------------------------+--------------------+-------------------+-------------------------+----------------------+-------------------+------------------+ | Fedora Linux 42 | PASS | SKIPPED | SKIPPED | SKIPPED | WARN | PASS | +-------------------------------+--------------------+-------------------+-------------------------+----------------------+-------------------+------------------+ | Red Hat Enterprise Linux 8.10 | PASS | SKIPPED | SKIPPED | SKIPPED | SKIPPED | SKIPPED | +-------------------------------+--------------------+-------------------+-------------------------+----------------------+-------------------+------------------+ | Red Hat Enterprise Linux 9.5 | PASS | SKIPPED | SKIPPED | SKIPPED | SKIPPED | SKIPPED | +-------------------------------+--------------------+-------------------+-------------------------+----------------------+-------------------+------------------+ | Ubuntu 22.04 | PASS | SKIPPED | SKIPPED | SKIPPED | WARN | SKIPPED | +-------------------------------+--------------------+-------------------+-------------------------+----------------------+-------------------+------------------+ | Ubuntu 24.04 | PASS | SKIPPED | SKIPPED | SKIPPED | WARN | PASS | +-------------------------------+--------------------+-------------------+-------------------------+----------------------+-------------------+------------------+ | Alpine Linux 3.22.0 | PASS | SKIPPED | SKIPPED | SKIPPED | SKIPPED | SKIPPED | +-------------------------------+--------------------+-------------------+-------------------------+----------------------+-------------------+------------------+ | Windows Server 2022 | SKIPPED | PASS | PASS | PASS | SKIPPED | SKIPPED | +-------------------------------+--------------------+-------------------+-------------------------+----------------------+-------------------+------------------+ ==== 20 line log output for Ubuntu 24.04 (dpdk_compile_spdk): ==== --- Failed to get log output --- ==== End log output ==== Ubuntu 20.04 Kernel: 4.19 Compiler: gcc gcc (Ubuntu 9.4.0-1ubuntu1~20.04.2) 9.4.0 FreeBSD 14.2 Kernel: 14.2-RELEASE Compiler: clang 18.1.6 openSUSE Leap 15.6 Kernel: 5.15 Compiler: gcc gcc (SUSE Linux) 7.5.0 CentOS Stream 9 Kernel: 5.15 Compiler: gcc gcc (GCC) 11.5.0 20240719 (Red Hat 11.5.0-11) CentOS Stream 10 Kernel: 5.15 Compiler: gcc gcc (GCC) 14.2.1 20250110 (Red Hat 14.2.1-8) Debian GNU/Linux 12 Kernel: 5.15 Compiler: gcc gcc (Debian 12.2.0-14+deb12u1) 12.2.0 Fedora Linux 42 Kernel: 5.15 Compiler: clang gcc (GCC) 15.2.1 20250808 (Red Hat 15.2.1-1) Red Hat Enterprise Linux 8.10 Kernel: 5.15 Compiler: gcc gcc (GCC) 8.5.0 20210514 (Red Hat 8.5.0-22) Red Hat Enterprise Linux 9.5 Kernel: 5.15 Compiler: gcc gcc (GCC) 11.5.0 20240719 (Red Hat 11.5.0-2) Ubuntu 22.04 Kernel: 5.15 Compiler: gcc gcc (Ubuntu 11.4.0-1ubuntu1~22.04) 11.4.0 Ubuntu 24.04 Kernel: 5.15 Compiler: gcc gcc (Ubuntu 13.3.0-6ubuntu2~24.04) 13.3.0 Alpine Linux 3.22.0 Kernel: 5.15 Compiler: gcc gcc (Alpine 14.2.0) 14.2.0 Windows Server 2022 Kernel: 10.0.20348.2031 Compiler: clang 15.0.7, gcc 14.1.0 (MinGW), and MSVC VS 19.39.33521 To view detailed results, visit: https://lab.dpdk.org/results/dashboard/patchsets/34301/ UNH-IOL DPDK Community Lab To manage your email subscriptions, visit: https://lab.dpdk.org/results/dashboard/preferences/subscriptions/