automatic DPDK test reports
 help / color / mirror / Atom feed
From: dpdklab@iol.unh.edu
To: Test Report <test-report@dpdk.org>
Cc: dpdk-test-reports@iol.unh.edu,
	Stephen Hemminger <stephen@networkplumber.org>
Subject: |WARNING| pw157759 [PATCH] [v2] net/zxdh: replace use of rte_memcpy
Date: Thu, 16 Oct 2025 18:51:46 -0700 (PDT)	[thread overview]
Message-ID: <68f1a132.170a0220.7df30.7ce7SMTPIN_ADDED_MISSING@mx.google.com> (raw)
In-Reply-To: <20251016152941.6592-1-stephen@networkplumber.org>

Test-Label: iol-compile-amd64-testing
Test-Status: WARNING
http://dpdk.org/patch/157759

_Testing issues_

Submitter: Stephen Hemminger <stephen@networkplumber.org>
Date: Thursday, October 16 2025 15:29:21 
DPDK git baseline: Repo:dpdk-next-net
  Branch: master
  CommitID:791cea04798a8e2de014b99c009cd25b5929000a

157759 --> testing issues

Upstream job id: Generic-DPDK-Compile-Meson#435085

Test environment and result as below:

+---------------------+--------------------+-------------------------+-------------------+----------------------+-------------------+
|     Environment     | dpdk_meson_compile | dpdk_llvm_clang_compile | dpdk_msvc_compile | dpdk_mingw64_compile | dpdk_compile_spdk |
+=====================+====================+=========================+===================+======================+===================+
| Ubuntu 20.04        | PASS               | SKIPPED                 | SKIPPED           | SKIPPED              | SKIPPED           |
+---------------------+--------------------+-------------------------+-------------------+----------------------+-------------------+
| FreeBSD 14.2        | PASS               | SKIPPED                 | SKIPPED           | SKIPPED              | SKIPPED           |
+---------------------+--------------------+-------------------------+-------------------+----------------------+-------------------+
| CentOS Stream 9     | PASS               | SKIPPED                 | SKIPPED           | SKIPPED              | WARN              |
+---------------------+--------------------+-------------------------+-------------------+----------------------+-------------------+
| CentOS Stream 10    | PEND               | SKIPPED                 | SKIPPED           | SKIPPED              | SKIPPED           |
+---------------------+--------------------+-------------------------+-------------------+----------------------+-------------------+
| Debian GNU/Linux 12 | PEND               | SKIPPED                 | SKIPPED           | SKIPPED              | PEND              |
+---------------------+--------------------+-------------------------+-------------------+----------------------+-------------------+
| Windows Server 2022 | SKIPPED            | PASS                    | PASS              | PASS                 | SKIPPED           |
+---------------------+--------------------+-------------------------+-------------------+----------------------+-------------------+

==== 20 line log output for CentOS Stream 9 (dpdk_compile_spdk): ====
 --- Failed to get log output --- 
==== End log output ====

Ubuntu 20.04
	Kernel: 4.19
	Compiler: gcc gcc (Ubuntu 9.4.0-1ubuntu1~20.04.2) 9.4.0

FreeBSD 14.2
	Kernel: 14.2-RELEASE
	Compiler: clang 18.1.6

CentOS Stream 9
	Kernel: 5.15
	Compiler: gcc gcc (GCC) 11.5.0 20240719 (Red Hat 11.5.0-11)

CentOS Stream 10
	Kernel: 5.15
	Compiler: gcc gcc (GCC) 14.2.1 20250110 (Red Hat 14.2.1-8)

Debian GNU/Linux 12
	Kernel: 5.15
	Compiler: gcc gcc (Debian 12.2.0-14+deb12u1) 12.2.0

Windows Server 2022
	Kernel: 10.0.20348.2031
	Compiler: clang 15.0.7, gcc 14.1.0 (MinGW), and MSVC VS 19.39.33521

To view detailed results, visit:
https://lab.dpdk.org/results/dashboard/patchsets/34302/

UNH-IOL DPDK Community Lab

To manage your email subscriptions, visit: 
https://lab.dpdk.org/results/dashboard/preferences/subscriptions/

  parent reply	other threads:[~2025-10-17  1:51 UTC|newest]

Thread overview: 28+ messages / expand[flat|nested]  mbox.gz  Atom feed  top
     [not found] <20251016152941.6592-1-stephen@networkplumber.org>
2025-10-16 14:55 ` |SUCCESS| pw157759 [PATCH v2] net/zxdh: replace use of rte_memcpy with memcpy in flow setup qemudev
2025-10-16 15:00 ` qemudev
2025-10-16 15:31 ` checkpatch
2025-10-16 15:52 ` |SUCCESS| pw157759 [PATCH] [v2] net/zxdh: replace use of rte_memcpy dpdklab
2025-10-16 15:53 ` |PENDING| " dpdklab
2025-10-16 15:57 ` |SUCCESS| " dpdklab
2025-10-16 16:01 ` |PENDING| " dpdklab
2025-10-16 16:12 ` |SUCCESS| " dpdklab
2025-10-16 16:14 ` dpdklab
2025-10-16 16:14 ` dpdklab
2025-10-16 16:25 ` |PENDING| " dpdklab
2025-10-16 16:26 ` |SUCCESS| " dpdklab
2025-10-16 16:33 ` dpdklab
2025-10-16 16:54 ` dpdklab
2025-10-16 16:56 ` dpdklab
2025-10-16 16:59 ` dpdklab
2025-10-16 17:09 ` dpdklab
2025-10-16 17:50 ` |SUCCESS| pw157759 [PATCH v2] net/zxdh: replace use of rte_memcpy with memcpy in flow setup 0-day Robot
2025-10-16 17:50 ` 0-day Robot
2025-10-16 20:05 ` |SUCCESS| pw157759 [PATCH] [v2] net/zxdh: replace use of rte_memcpy dpdklab
2025-10-16 20:22 ` dpdklab
2025-10-17  1:32 ` |PENDING| " dpdklab
2025-10-17  1:51 ` dpdklab [this message]
2025-10-17  2:25 ` |WARNING| " dpdklab
2025-10-17  2:25 ` dpdklab
2025-10-17  9:34 ` |SUCCESS| " dpdklab
2025-10-17  9:34 ` dpdklab
2025-10-17 15:32 ` dpdklab

Reply instructions:

You may reply publicly to this message via plain-text email
using any one of the following methods:

* Save the following mbox file, import it into your mail client,
  and reply-to-all from there: mbox

  Avoid top-posting and favor interleaved quoting:
  https://en.wikipedia.org/wiki/Posting_style#Interleaved_style

* Reply using the --to, --cc, and --in-reply-to
  switches of git-send-email(1):

  git send-email \
    --in-reply-to=68f1a132.170a0220.7df30.7ce7SMTPIN_ADDED_MISSING@mx.google.com \
    --to=dpdklab@iol.unh.edu \
    --cc=dpdk-test-reports@iol.unh.edu \
    --cc=stephen@networkplumber.org \
    --cc=test-report@dpdk.org \
    /path/to/YOUR_REPLY

  https://kernel.org/pub/software/scm/git/docs/git-send-email.html

* If your mail client supports setting the In-Reply-To header
  via mailto: links, try the mailto: link
Be sure your reply has a Subject: header at the top and a blank line before the message body.
This is a public inbox, see mirroring instructions
for how to clone and mirror all data and code used for this inbox;
as well as URLs for NNTP newsgroup(s).