From mboxrd@z Thu Jan 1 00:00:00 1970 Return-Path: Received: from mails.dpdk.org (mails.dpdk.org [217.70.189.124]) by inbox.dpdk.org (Postfix) with ESMTP id A5DC348956 for ; Fri, 17 Oct 2025 03:51:48 +0200 (CEST) Received: from mails.dpdk.org (localhost [127.0.0.1]) by mails.dpdk.org (Postfix) with ESMTP id 6247940269; Fri, 17 Oct 2025 03:51:48 +0200 (CEST) Received: from mail-pl1-f228.google.com (mail-pl1-f228.google.com [209.85.214.228]) by mails.dpdk.org (Postfix) with ESMTP id EAD4B40269 for ; Fri, 17 Oct 2025 03:51:46 +0200 (CEST) Received: by mail-pl1-f228.google.com with SMTP id d9443c01a7336-27eed7bdfeeso16907025ad.0 for ; Thu, 16 Oct 2025 18:51:46 -0700 (PDT) DKIM-Signature: v=1; a=rsa-sha256; c=relaxed/relaxed; d=iol.unh.edu; s=unh-iol; t=1760665906; x=1761270706; darn=dpdk.org; h=references:in-reply-to:cc:to:from:subject:message-id:date:from:to :cc:subject:date:message-id:reply-to; bh=FJLNccLnseH1h7D3NHJlP6r7/2+dooez5ltQFvSND7E=; b=fZMe/qp/CKifyckEBR2DDYV6gVd1qnkVE1NEQlfv7U34X/jkJadIGCwDn29q6RtPl4 wn/wv2ybTbe2OlyH9S87wGP0uS0nxbfj4EsJl28byxKJTJhaElbM8SFsxKnNLVD9A+ya L2j62bF2KT8rEKzLXMz9wtG+wnjrcjHgNaDSY= X-Google-DKIM-Signature: v=1; a=rsa-sha256; c=relaxed/relaxed; d=1e100.net; s=20230601; t=1760665906; x=1761270706; h=references:in-reply-to:cc:to:from:subject:message-id:date :x-gm-message-state:from:to:cc:subject:date:message-id:reply-to; bh=FJLNccLnseH1h7D3NHJlP6r7/2+dooez5ltQFvSND7E=; b=Ev/sjyWsyf77pq2LD1F51bHLIgl8eI1w93JNDUzdSdlG+rODw7vfKDjRmVEsmwijXV 8Jvp+qdtFwazuN1OAEYDB9/Eb+2oKCV+QTCFfJVN4Id7u5j4Ttznp103j3YN7q7HQWiR uCi8WUgDp+6fLLdeVzY+3svfIen4tgBKCDyyf/fUn+2MCx9Y8aAq0VhLG/IW6W7rEPPG zKfGBvWsUF1V2oJKyZiGm/dWZ8gZrl8y7aE8dgK9D1l0HGpe1zp+upsV/5DC71aXowUa 44miMQohvJXWmbWELY9EXIZwWksoqZiCOLutbB6rbzMm+dGFX5yJ3dLg9+5MlX7pdl6N LMUQ== X-Gm-Message-State: AOJu0YyG0x7oUZ3ue76yU4H7rAX3CCX8ZL3o9sG+vH/EH9EPj0uGQoB1 Kz/Lg3iSk7G7SJi11fjpSVgKKPcskuSGRNs74IgqPwFK+tDmnD/GCa/BgtuCEkm99Yv7n7uASDg vbYqJ2r3bximMYgJ+g5LBLZQX2jAdR4V5S8/EvYpKxEBjrX6ZGRptX+WtkQZR X-Gm-Gg: ASbGncsnKYsTUs3u2VV6w7E87wEaLuYTUOFeHI0nfWuBPiEoHMdNPblUGS+uG5GUGgD fh/yi/TPXq1iOd3A3hrnVSYfz1kUeTcvWMLPxiVXRPGSZxyNAxssH2/tOMO+4kZPtGyp/GIUq05 1GMdNUVEp26op5cywfUYh6GLulUuCagJ7RGIxOZ1tKRm9cDs347aDRztNf/iS56hHvFzngcBw8F UpztLPCuWonL8kJz30G6r4p2/IfiAZ6LFhODyONEYTfiA1JO0bmsprA6UBfXa6gllWC0+kT2onX sEZakNKa0CaYaDWtNceq8AYeeQ/FFCAcVyYcu7WdNFJye6w/Vfuu1AarkruMp0WOAjvWpAvQ+9B 1UjkM9+mp X-Google-Smtp-Source: AGHT+IGF8pHaigT0Kvog6HLci1XZXfx70sZSV/MNS/Qm9PAK3qAoa2HCULR1xwF146O8pP/ZVXm8F81zY/KQ X-Received: by 2002:a17:902:dac6:b0:272:a847:cabb with SMTP id d9443c01a7336-29091bdc6b0mr82923265ad.28.1760665906016; Thu, 16 Oct 2025 18:51:46 -0700 (PDT) Received: from postal.iol.unh.edu (postal.iol.unh.edu. [2606:4100:3880:1234::84]) by smtp-relay.gmail.com with ESMTPS id d9443c01a7336-29099ab9902sm4725015ad.70.2025.10.16.18.51.45 (version=TLS1_2 cipher=ECDHE-ECDSA-AES128-GCM-SHA256 bits=128/128); Thu, 16 Oct 2025 18:51:46 -0700 (PDT) X-Relaying-Domain: iol.unh.edu Date: Thu, 16 Oct 2025 18:51:46 -0700 (PDT) Message-ID: <68f1a132.170a0220.7df30.7ce7SMTPIN_ADDED_MISSING@mx.google.com> Received: from [172.21.0.2] (unknown [172.18.0.240]) by postal.iol.unh.edu (Postfix) with ESMTP id 48C756051835; Thu, 16 Oct 2025 21:51:45 -0400 (EDT) Subject: |WARNING| pw157759 [PATCH] [v2] net/zxdh: replace use of rte_memcpy From: dpdklab@iol.unh.edu To: Test Report Cc: dpdk-test-reports@iol.unh.edu, Stephen Hemminger In-Reply-To: <20251016152941.6592-1-stephen@networkplumber.org> References: <20251016152941.6592-1-stephen@networkplumber.org> Content-Type: text/plain X-BeenThere: test-report@dpdk.org X-Mailman-Version: 2.1.29 Precedence: list List-Id: automatic DPDK test reports List-Unsubscribe: , List-Archive: List-Post: List-Help: List-Subscribe: , Errors-To: test-report-bounces@dpdk.org Test-Label: iol-compile-amd64-testing Test-Status: WARNING http://dpdk.org/patch/157759 _Testing issues_ Submitter: Stephen Hemminger Date: Thursday, October 16 2025 15:29:21 DPDK git baseline: Repo:dpdk-next-net Branch: master CommitID:791cea04798a8e2de014b99c009cd25b5929000a 157759 --> testing issues Upstream job id: Generic-DPDK-Compile-Meson#435085 Test environment and result as below: +---------------------+--------------------+-------------------------+-------------------+----------------------+-------------------+ | Environment | dpdk_meson_compile | dpdk_llvm_clang_compile | dpdk_msvc_compile | dpdk_mingw64_compile | dpdk_compile_spdk | +=====================+====================+=========================+===================+======================+===================+ | Ubuntu 20.04 | PASS | SKIPPED | SKIPPED | SKIPPED | SKIPPED | +---------------------+--------------------+-------------------------+-------------------+----------------------+-------------------+ | FreeBSD 14.2 | PASS | SKIPPED | SKIPPED | SKIPPED | SKIPPED | +---------------------+--------------------+-------------------------+-------------------+----------------------+-------------------+ | CentOS Stream 9 | PASS | SKIPPED | SKIPPED | SKIPPED | WARN | +---------------------+--------------------+-------------------------+-------------------+----------------------+-------------------+ | CentOS Stream 10 | PEND | SKIPPED | SKIPPED | SKIPPED | SKIPPED | +---------------------+--------------------+-------------------------+-------------------+----------------------+-------------------+ | Debian GNU/Linux 12 | PEND | SKIPPED | SKIPPED | SKIPPED | PEND | +---------------------+--------------------+-------------------------+-------------------+----------------------+-------------------+ | Windows Server 2022 | SKIPPED | PASS | PASS | PASS | SKIPPED | +---------------------+--------------------+-------------------------+-------------------+----------------------+-------------------+ ==== 20 line log output for CentOS Stream 9 (dpdk_compile_spdk): ==== --- Failed to get log output --- ==== End log output ==== Ubuntu 20.04 Kernel: 4.19 Compiler: gcc gcc (Ubuntu 9.4.0-1ubuntu1~20.04.2) 9.4.0 FreeBSD 14.2 Kernel: 14.2-RELEASE Compiler: clang 18.1.6 CentOS Stream 9 Kernel: 5.15 Compiler: gcc gcc (GCC) 11.5.0 20240719 (Red Hat 11.5.0-11) CentOS Stream 10 Kernel: 5.15 Compiler: gcc gcc (GCC) 14.2.1 20250110 (Red Hat 14.2.1-8) Debian GNU/Linux 12 Kernel: 5.15 Compiler: gcc gcc (Debian 12.2.0-14+deb12u1) 12.2.0 Windows Server 2022 Kernel: 10.0.20348.2031 Compiler: clang 15.0.7, gcc 14.1.0 (MinGW), and MSVC VS 19.39.33521 To view detailed results, visit: https://lab.dpdk.org/results/dashboard/patchsets/34302/ UNH-IOL DPDK Community Lab To manage your email subscriptions, visit: https://lab.dpdk.org/results/dashboard/preferences/subscriptions/