From mboxrd@z Thu Jan 1 00:00:00 1970 Return-Path: Received: from mails.dpdk.org (mails.dpdk.org [217.70.189.124]) by inbox.dpdk.org (Postfix) with ESMTP id 0021548959 for ; Fri, 17 Oct 2025 04:17:18 +0200 (CEST) Received: from mails.dpdk.org (localhost [127.0.0.1]) by mails.dpdk.org (Postfix) with ESMTP id CD4D840269; Fri, 17 Oct 2025 04:17:18 +0200 (CEST) Received: from mail-io1-f99.google.com (mail-io1-f99.google.com [209.85.166.99]) by mails.dpdk.org (Postfix) with ESMTP id 0043F40269 for ; Fri, 17 Oct 2025 04:17:16 +0200 (CEST) Received: by mail-io1-f99.google.com with SMTP id ca18e2360f4ac-92cebee95a8so61987039f.0 for ; Thu, 16 Oct 2025 19:17:16 -0700 (PDT) DKIM-Signature: v=1; a=rsa-sha256; c=relaxed/relaxed; d=iol.unh.edu; s=unh-iol; t=1760667436; x=1761272236; darn=dpdk.org; h=references:in-reply-to:cc:to:from:subject:message-id:date:from:to :cc:subject:date:message-id:reply-to; bh=xmTk8RO1gVi2a6Ks5yWhQof6J/YEJWa3wCztxUWHpl8=; b=T6Dtm1JJRB6z6XGmblImc6T6B6Omoo+KkT2ZUp/Gj6y5+vS5sZQ4X5ZhyJ9EiiiPar OBrabvFll5DIOeAUHlnZvoKDTbn9J7j1PkJZxcBzMupSRyNRF47EdO7sl/57duqX4Run gr/i9u5+bxSepEY2Uql4sn9w0NCKilHna23uY= X-Google-DKIM-Signature: v=1; a=rsa-sha256; c=relaxed/relaxed; d=1e100.net; s=20230601; t=1760667436; x=1761272236; h=references:in-reply-to:cc:to:from:subject:message-id:date :x-gm-message-state:from:to:cc:subject:date:message-id:reply-to; bh=xmTk8RO1gVi2a6Ks5yWhQof6J/YEJWa3wCztxUWHpl8=; b=ArBX5208B4egU3OxD4Ob/TlDu7Hscv0dxak/hH8dHGfAVHwIh0lO8CjSionSaexdOm 3SU4/aO88SUUPAje3HLThS6vuiVdcfDsaeQU6jWpXFpmlTQ2AQWCCf8rZTWLjNDYVv3H L7Byi9zvyNkvABQkgXHtskI9HfJgD3FVD9Q3+EuenOvAfkAB01cpjBNhjFF53f05eJez 73yJTH0Y8XHfqjvZjHCR0Z0PX+D+F8HOGuFvRoJGfyrQW2ajMTeICPJHhjnB7LgWm9Ma taBnOCIrZXgGEj2sUa2KXG3bBYGdstN1bnFLIxVRmCiUzs1FyVFXd4gbKhhkrFISKe/+ gwhA== X-Gm-Message-State: AOJu0Yy9cDWlnUgd7Ij0o+2cM4+9e8stTteBEcIfGmAQAG29We3GLLBo 5kYQcFJNI9kvtJF3yhutWcrOunb5+bX5TQd2dQIj9j3MEqUzZ6qAkN41n8eKMC1emLeaDw1MdHD lfArgEOjxIXOahYgUZ10iEN7FBDkvh3vSZlfHTEUaaFOAw019vv+uDl4v7YqJ X-Gm-Gg: ASbGncu9TgddQHSp58nhokmyxh7d0h1na2t3xhs2O2fd12H9SbMc22HMAZZ2f1iEeQk Epxunbj6hPV+DaZGJvlmG6SuVx7RXzDwt3pevbphm65EInIDcPzwbIFZ/6kkh1Ki20n+oxP9/la cQpOGrJR2i/fkV/twwA7cff+QtwnVT/vEl2ZJDDIGjGr7w9RIr1NGF28X3OT4o+SRwdlk9na5qd e2QfJ6fScxO6bSAxV1hOFs+txgYIyLkx5zK3G6k5uMUoG/Fou8Hx188yt9O9m2qqtkyrC/RfYW0 Kh16iRqo/sia+PvkmFFwemPDNZkNwqOPXYR0tj+hlA+I4NUuIn9SdgE3K4jprEjfrcV+RM7UbkT efBkENR4/ X-Google-Smtp-Source: AGHT+IG0j/wIvHWnGwoCF1ZmYR1XA0OAYn2OvoRUhUY53qk/X+qvap8YDI8Y44t0hPnAjoNhy+UEle6dgCeX X-Received: by 2002:a05:6e02:144e:b0:42f:9353:c7bc with SMTP id e9e14a558f8ab-430c5209537mr35109525ab.6.1760667436207; Thu, 16 Oct 2025 19:17:16 -0700 (PDT) Received: from postal.iol.unh.edu (postal.iol.unh.edu. [2606:4100:3880:1234::84]) by smtp-relay.gmail.com with ESMTPS id e9e14a558f8ab-430c2b1469bsm2372685ab.15.2025.10.16.19.17.16 (version=TLS1_2 cipher=ECDHE-ECDSA-AES128-GCM-SHA256 bits=128/128); Thu, 16 Oct 2025 19:17:16 -0700 (PDT) X-Relaying-Domain: iol.unh.edu Date: Thu, 16 Oct 2025 19:17:16 -0700 (PDT) Message-ID: <68f1a72c.050a0220.3aefee.bb98SMTPIN_ADDED_MISSING@mx.google.com> Received: from [172.21.0.2] (unknown [172.18.0.240]) by postal.iol.unh.edu (Postfix) with ESMTP id D58D06051830; Thu, 16 Oct 2025 22:17:15 -0400 (EDT) Subject: |WARNING| pw157760-157652 [PATCH] [v3,54/54] net/bnxt/tf_ulp: remove From: dpdklab@iol.unh.edu To: Test Report Cc: dpdk-test-reports@iol.unh.edu In-Reply-To: <20251015090024.32250-55-manish.kurup@broadcom.com> References: <20251015090024.32250-55-manish.kurup@broadcom.com> Content-Type: text/plain X-BeenThere: test-report@dpdk.org X-Mailman-Version: 2.1.29 Precedence: list List-Id: automatic DPDK test reports List-Unsubscribe: , List-Archive: List-Post: List-Help: List-Subscribe: , Errors-To: test-report-bounces@dpdk.org Test-Label: iol-compile-amd64-testing Test-Status: WARNING http://dpdk.org/patch/157652 _Testing issues_ Submitter: Manish Kurup Date: Wednesday, October 15 2025 09:00:24 DPDK git baseline: Repo:dpdk Branch: master CommitID:16f4c522003dcfecf23c8d38e009b95a3bbefd03 157760-157652 --> testing issues Upstream job id: Generic-DPDK-Compile-Meson#435099 Test environment and result as below: +---------------------+-------------------------+--------------------+-------------------+----------------------+-------------------+------------------+ | Environment | dpdk_llvm_clang_compile | dpdk_meson_compile | dpdk_msvc_compile | dpdk_mingw64_compile | dpdk_compile_spdk | dpdk_compile_ovs | +=====================+=========================+====================+===================+======================+===================+==================+ | Windows Server 2022 | PASS | SKIPPED | PASS | PASS | SKIPPED | SKIPPED | +---------------------+-------------------------+--------------------+-------------------+----------------------+-------------------+------------------+ | Ubuntu 20.04 | SKIPPED | PASS | SKIPPED | SKIPPED | SKIPPED | SKIPPED | +---------------------+-------------------------+--------------------+-------------------+----------------------+-------------------+------------------+ | FreeBSD 14.2 | SKIPPED | PASS | SKIPPED | SKIPPED | SKIPPED | SKIPPED | +---------------------+-------------------------+--------------------+-------------------+----------------------+-------------------+------------------+ | CentOS Stream 9 | SKIPPED | PASS | SKIPPED | SKIPPED | WARN | SKIPPED | +---------------------+-------------------------+--------------------+-------------------+----------------------+-------------------+------------------+ | CentOS Stream 10 | SKIPPED | PASS | SKIPPED | SKIPPED | SKIPPED | SKIPPED | +---------------------+-------------------------+--------------------+-------------------+----------------------+-------------------+------------------+ | Debian GNU/Linux 12 | SKIPPED | PEND | SKIPPED | SKIPPED | PEND | SKIPPED | +---------------------+-------------------------+--------------------+-------------------+----------------------+-------------------+------------------+ | Fedora Linux 42 | SKIPPED | PEND | SKIPPED | SKIPPED | PEND | PEND | +---------------------+-------------------------+--------------------+-------------------+----------------------+-------------------+------------------+ ==== 20 line log output for CentOS Stream 9 (dpdk_compile_spdk): ==== --- Failed to get log output --- ==== End log output ==== Windows Server 2022 Kernel: 10.0.20348.2031 Compiler: clang 15.0.7, gcc 14.1.0 (MinGW), and MSVC VS 19.39.33521 Ubuntu 20.04 Kernel: 4.19 Compiler: gcc gcc (Ubuntu 9.4.0-1ubuntu1~20.04.2) 9.4.0 FreeBSD 14.2 Kernel: 14.2-RELEASE Compiler: clang 18.1.6 CentOS Stream 9 Kernel: 5.15 Compiler: gcc gcc (GCC) 11.5.0 20240719 (Red Hat 11.5.0-11) CentOS Stream 10 Kernel: 5.15 Compiler: gcc gcc (GCC) 14.2.1 20250110 (Red Hat 14.2.1-8) Debian GNU/Linux 12 Kernel: 5.15 Compiler: gcc gcc (Debian 12.2.0-14+deb12u1) 12.2.0 Fedora Linux 42 Kernel: 5.15 Compiler: clang gcc (GCC) 15.2.1 20250808 (Red Hat 15.2.1-1) To view detailed results, visit: https://lab.dpdk.org/results/dashboard/patchsets/34303/ UNH-IOL DPDK Community Lab To manage your email subscriptions, visit: https://lab.dpdk.org/results/dashboard/preferences/subscriptions/