From mboxrd@z Thu Jan 1 00:00:00 1970 Return-Path: Received: from mails.dpdk.org (mails.dpdk.org [217.70.189.124]) by inbox.dpdk.org (Postfix) with ESMTP id A331248959 for ; Fri, 17 Oct 2025 04:25:05 +0200 (CEST) Received: from mails.dpdk.org (localhost [127.0.0.1]) by mails.dpdk.org (Postfix) with ESMTP id 7E43E40269; Fri, 17 Oct 2025 04:25:05 +0200 (CEST) Received: from mail-io1-f98.google.com (mail-io1-f98.google.com [209.85.166.98]) by mails.dpdk.org (Postfix) with ESMTP id 2220040269 for ; Fri, 17 Oct 2025 04:25:04 +0200 (CEST) Received: by mail-io1-f98.google.com with SMTP id ca18e2360f4ac-887764c2868so143549139f.1 for ; Thu, 16 Oct 2025 19:25:04 -0700 (PDT) DKIM-Signature: v=1; a=rsa-sha256; c=relaxed/relaxed; d=iol.unh.edu; s=unh-iol; t=1760667903; x=1761272703; darn=dpdk.org; h=references:in-reply-to:cc:to:from:subject:message-id:date:from:to :cc:subject:date:message-id:reply-to; bh=NkRSaDli86ffieXWQMNqBTz11KRxsmJZFLz1zBpYBYU=; b=Tqy3XoEw0yheEt762nQXmpjOmjfHQa1rmoqfP9OldL/WGoEp0iNbN99fhn14iicvuC mL+7gQkP3XcAstyymmpM/73bNy8ogsI0+RkvUrfvN8MJFNw0G6nuibhgVUJAi97ChXKD SmZwMkL06M22Au3CM+T6iFnOEYgSls18SbMzc= X-Google-DKIM-Signature: v=1; a=rsa-sha256; c=relaxed/relaxed; d=1e100.net; s=20230601; t=1760667903; x=1761272703; h=references:in-reply-to:cc:to:from:subject:message-id:date :x-gm-message-state:from:to:cc:subject:date:message-id:reply-to; bh=NkRSaDli86ffieXWQMNqBTz11KRxsmJZFLz1zBpYBYU=; b=VZ1LatPvy7dEI9hMVkN5otLr8+svUc8ygmCO5AcWaTCop4COGEYEsVT4aYU2JBb/Jj FJCqwM2KXXWm+J67UizWVbAto7c0Fala4N6Kv23trnGRON04JwzE/yButLbG3VN+wsi3 xciKOnZWH+uQ0wOu4JgyQtSH0RwKEmDS/1sN9my+FRKHjEE+EYCXwbHDwfnf8TFbks16 yT7yKILhBoMextASgJobsHjdr3SBgzq93UR1Z2tKUJbKJoingOMRbFYms1Bj2BfW53/B XADqrQft7VW3WvtITELBm1OLaxQ76Vg9hFUMs20YaftUtH8VtyPKD7AiJP0r0EM2zbEE cLow== X-Gm-Message-State: AOJu0Ywqy37pfN3M5Q/cZC6rhxzY7NEhKC/xNxRiH/LN6B52Zk9ijd+4 Va0N8A5abV31Q3I2OtF0unzIyKjLMsAZQC6jEDtuXRIkDJuG956llMWsjwDmU2NExh3XOOFOxLd s5oP1HpIoLJO0lXrg/bzl3XlOMhlRkXSpdDDMOPrpc5hD X-Gm-Gg: ASbGncsM0+zy0ej5XU02EmI0gI+X9JZPQ955vMyvkYIDqCHRddhiN/udJKWy+ERPkcx RXY+iVOlg04m8OhOA/XFgx8wpPhyB8WohLwqEjEZaw9x7WbC+Aw+hGkt6sCb3HzJh8Z3RZsYLdz 0lx4ULd2VeiN/o3dbiFZGdvGR5rBZdJ2nDFrOG7ycF521UWN1AcKn/YpDjt4yWCEs833LuO74lL ofWowbqKZliHrl1wLTpO0hVCjnCAbr5pWi5UldgmjIs7TS+suGukpIydhAj5fyfVO+N9j0nAuK9 WHDZRydHwx9gkkvu+slTf2QxmUPJ4Qu+FRjizwWV75DFJu4pq2m/nNdB7NvuU4zn/FOttRjQqc3 0jC+UrPpuW9A8IqU543a6vGOa3gTToBc= X-Google-Smtp-Source: AGHT+IEsxEepfAi1M+QzIsAvBe2EQqM2fq/RmnRU+VFBR4ONoAypKpiHJnWKk9PPhuDy7Kn6S4EdkNFkIF3/ X-Received: by 2002:a05:6602:641d:b0:8dd:d9c5:140d with SMTP id ca18e2360f4ac-93e763c91f1mr292354839f.12.1760667903397; Thu, 16 Oct 2025 19:25:03 -0700 (PDT) Received: from postal.iol.unh.edu (postal.iol.unh.edu. [132.177.123.84]) by smtp-relay.gmail.com with ESMTPS id ca18e2360f4ac-93e2597c8a3sm137643039f.7.2025.10.16.19.25.03 (version=TLS1_2 cipher=ECDHE-ECDSA-AES128-GCM-SHA256 bits=128/128); Thu, 16 Oct 2025 19:25:03 -0700 (PDT) X-Relaying-Domain: iol.unh.edu Date: Thu, 16 Oct 2025 19:25:03 -0700 (PDT) Message-ID: <68f1a8ff.050a0220.2b67e.47a8SMTPIN_ADDED_MISSING@mx.google.com> Received: from [172.21.0.3] (unknown [172.18.0.240]) by postal.iol.unh.edu (Postfix) with ESMTP id F08586051830; Thu, 16 Oct 2025 22:25:02 -0400 (EDT) Subject: |WARNING| pw157759 [PATCH] [v2] net/zxdh: replace use of rte_memcpy From: dpdklab@iol.unh.edu To: Test Report Cc: dpdk-test-reports@iol.unh.edu, Stephen Hemminger In-Reply-To: <20251016152941.6592-1-stephen@networkplumber.org> References: <20251016152941.6592-1-stephen@networkplumber.org> Content-Type: text/plain X-BeenThere: test-report@dpdk.org X-Mailman-Version: 2.1.29 Precedence: list List-Id: automatic DPDK test reports List-Unsubscribe: , List-Archive: List-Post: List-Help: List-Subscribe: , Errors-To: test-report-bounces@dpdk.org Test-Label: iol-compile-amd64-testing Test-Status: WARNING http://dpdk.org/patch/157759 _Testing issues_ Submitter: Stephen Hemminger Date: Thursday, October 16 2025 15:29:21 DPDK git baseline: Repo:dpdk-next-net Branch: master CommitID:791cea04798a8e2de014b99c009cd25b5929000a 157759 --> testing issues Upstream job id: Generic-DPDK-Compile-Meson#435088 Test environment and result as below: +-------------------------------+--------------------+-------------------------+-------------------+----------------------+-------------------+------------------+ | Environment | dpdk_meson_compile | dpdk_llvm_clang_compile | dpdk_msvc_compile | dpdk_mingw64_compile | dpdk_compile_spdk | dpdk_compile_ovs | +===============================+====================+=========================+===================+======================+===================+==================+ | Ubuntu 20.04 | PASS | SKIPPED | SKIPPED | SKIPPED | SKIPPED | SKIPPED | +-------------------------------+--------------------+-------------------------+-------------------+----------------------+-------------------+------------------+ | FreeBSD 14.2 | PASS | SKIPPED | SKIPPED | SKIPPED | SKIPPED | SKIPPED | +-------------------------------+--------------------+-------------------------+-------------------+----------------------+-------------------+------------------+ | CentOS Stream 9 | PASS | SKIPPED | SKIPPED | SKIPPED | WARN | SKIPPED | +-------------------------------+--------------------+-------------------------+-------------------+----------------------+-------------------+------------------+ | CentOS Stream 10 | PASS | SKIPPED | SKIPPED | SKIPPED | SKIPPED | SKIPPED | +-------------------------------+--------------------+-------------------------+-------------------+----------------------+-------------------+------------------+ | Debian GNU/Linux 12 | PASS | SKIPPED | SKIPPED | SKIPPED | WARN | SKIPPED | +-------------------------------+--------------------+-------------------------+-------------------+----------------------+-------------------+------------------+ | Fedora Linux 42 | PASS | SKIPPED | SKIPPED | SKIPPED | WARN | PASS | +-------------------------------+--------------------+-------------------------+-------------------+----------------------+-------------------+------------------+ | openSUSE Leap 15.6 | PASS | SKIPPED | SKIPPED | SKIPPED | SKIPPED | SKIPPED | +-------------------------------+--------------------+-------------------------+-------------------+----------------------+-------------------+------------------+ | Red Hat Enterprise Linux 8.10 | PASS | SKIPPED | SKIPPED | SKIPPED | SKIPPED | SKIPPED | +-------------------------------+--------------------+-------------------------+-------------------+----------------------+-------------------+------------------+ | Red Hat Enterprise Linux 9.5 | PASS | SKIPPED | SKIPPED | SKIPPED | SKIPPED | SKIPPED | +-------------------------------+--------------------+-------------------------+-------------------+----------------------+-------------------+------------------+ | Ubuntu 22.04 | PASS | SKIPPED | SKIPPED | SKIPPED | WARN | SKIPPED | +-------------------------------+--------------------+-------------------------+-------------------+----------------------+-------------------+------------------+ | Ubuntu 24.04 | PASS | SKIPPED | SKIPPED | SKIPPED | WARN | PASS | +-------------------------------+--------------------+-------------------------+-------------------+----------------------+-------------------+------------------+ | Alpine Linux 3.22.0 | PASS | SKIPPED | SKIPPED | SKIPPED | SKIPPED | SKIPPED | +-------------------------------+--------------------+-------------------------+-------------------+----------------------+-------------------+------------------+ | Windows Server 2022 | SKIPPED | PASS | PASS | PASS | SKIPPED | SKIPPED | +-------------------------------+--------------------+-------------------------+-------------------+----------------------+-------------------+------------------+ ==== 20 line log output for Ubuntu 24.04 (dpdk_compile_spdk): ==== --- Failed to get log output --- ==== End log output ==== Ubuntu 20.04 Kernel: 4.19 Compiler: gcc gcc (Ubuntu 9.4.0-1ubuntu1~20.04.2) 9.4.0 FreeBSD 14.2 Kernel: 14.2-RELEASE Compiler: clang 18.1.6 CentOS Stream 9 Kernel: 5.15 Compiler: gcc gcc (GCC) 11.5.0 20240719 (Red Hat 11.5.0-11) CentOS Stream 10 Kernel: 5.15 Compiler: gcc gcc (GCC) 14.2.1 20250110 (Red Hat 14.2.1-8) Debian GNU/Linux 12 Kernel: 5.15 Compiler: gcc gcc (Debian 12.2.0-14+deb12u1) 12.2.0 Fedora Linux 42 Kernel: 5.15 Compiler: clang gcc (GCC) 15.2.1 20250808 (Red Hat 15.2.1-1) openSUSE Leap 15.6 Kernel: 5.15 Compiler: gcc gcc (SUSE Linux) 7.5.0 Red Hat Enterprise Linux 8.10 Kernel: 5.15 Compiler: gcc gcc (GCC) 8.5.0 20210514 (Red Hat 8.5.0-22) Red Hat Enterprise Linux 9.5 Kernel: 5.15 Compiler: gcc gcc (GCC) 11.5.0 20240719 (Red Hat 11.5.0-2) Ubuntu 22.04 Kernel: 5.15 Compiler: gcc gcc (Ubuntu 11.4.0-1ubuntu1~22.04) 11.4.0 Ubuntu 24.04 Kernel: 5.15 Compiler: gcc gcc (Ubuntu 13.3.0-6ubuntu2~24.04) 13.3.0 Alpine Linux 3.22.0 Kernel: 5.15 Compiler: gcc gcc (Alpine 14.2.0) 14.2.0 Windows Server 2022 Kernel: 10.0.20348.2031 Compiler: clang 15.0.7, gcc 14.1.0 (MinGW), and MSVC VS 19.39.33521 To view detailed results, visit: https://lab.dpdk.org/results/dashboard/patchsets/34302/ UNH-IOL DPDK Community Lab To manage your email subscriptions, visit: https://lab.dpdk.org/results/dashboard/preferences/subscriptions/