From mboxrd@z Thu Jan 1 00:00:00 1970 Return-Path: Received: from mails.dpdk.org (mails.dpdk.org [217.70.189.124]) by inbox.dpdk.org (Postfix) with ESMTP id 9556348959 for ; Fri, 17 Oct 2025 04:25:27 +0200 (CEST) Received: from mails.dpdk.org (localhost [127.0.0.1]) by mails.dpdk.org (Postfix) with ESMTP id 8FF7340269; Fri, 17 Oct 2025 04:25:27 +0200 (CEST) Received: from mail-yx1-f98.google.com (mail-yx1-f98.google.com [74.125.224.98]) by mails.dpdk.org (Postfix) with ESMTP id 174A240269 for ; Fri, 17 Oct 2025 04:25:26 +0200 (CEST) Received: by mail-yx1-f98.google.com with SMTP id 956f58d0204a3-63605f6f64eso1373192d50.1 for ; Thu, 16 Oct 2025 19:25:26 -0700 (PDT) DKIM-Signature: v=1; a=rsa-sha256; c=relaxed/relaxed; d=iol.unh.edu; s=unh-iol; t=1760667925; x=1761272725; darn=dpdk.org; h=references:in-reply-to:cc:to:from:subject:message-id:date:from:to :cc:subject:date:message-id:reply-to; bh=JxQ9qJ75u07axEL2cPwaZJKSUVjZU9PLBwyZAYPIWM4=; b=Tn21JPL5kViKCNoHiWX0KRn2AnOkgkdfbaJ9bt3BmxcTNnQjOiBeSXnlKtHX+VwybJ 7nLTzG5Cbp9j+ov6fhSi7ZvsHCP13/Ume5jkP99/iu2/dj+3OGYkV8B+77mRIDdrFEga TfBVmRGJ3Enjl5LIAJS2aP/ZoTf9UkwS1/tCM= X-Google-DKIM-Signature: v=1; a=rsa-sha256; c=relaxed/relaxed; d=1e100.net; s=20230601; t=1760667925; x=1761272725; h=references:in-reply-to:cc:to:from:subject:message-id:date :x-gm-message-state:from:to:cc:subject:date:message-id:reply-to; bh=JxQ9qJ75u07axEL2cPwaZJKSUVjZU9PLBwyZAYPIWM4=; b=E/p1GQ5DGPOVDmzhkbz+DbYBJe9ZNtxThi6PczN8wCV1pAd/3ikNTt4iUsZ/JkXsqT eZx7Uoy/wwv/ZIQgrLQyuRcZATL1yNczkjpwqwcTML7/+QO+PcY7V3+g35Zkm8SUjBsS 7OSlrkMnF0oYatkgyP65G8oYqZp4m0SgphN+KOKX2D4frVI1L5zGB9ukWkMZkMXT//+4 Ibq3CYoEQ+ZnjRGZ/ONCdlOog8ekzFthX0fiDxGWW+j/+q0UbF599ClhJAOQVkEF39U9 sv4D8uLkO5cXYD2WIo993JcITGXO5YTpyCr6PXCTEOTov4oeYGFNPxMNGja3yi6kyS36 5HPQ== X-Gm-Message-State: AOJu0YxqVWDUVK+1RRWf/sZ6ZkzIup7tC4s0UE+WAbDBclmD5AU/ar3i /xe5Ll5yRSy7T8rXjXSNVbR22PzaOtgIi3iTIv2XhWjYh+MAMrcthgKN/RCjUIWPIOs4cMTo7gw fASamNzK8talJ1xCC8Fbanrgkvszaungz8QHdBwUpDRHD/sHXnf+qoVg8jVZB X-Gm-Gg: ASbGncsMQR4rbL+L77sJJ3Up4+J2TKQb5fEIM9EG6FQf9LH2LrcQeITrQ0PPYoigGPq QfjvvhPh5e5VKRU0KIWj3bVs6JIBt3SbtlF1XXfBc/IkqGwhQ4t76r8AK5pxYw2CwMIdvbRfXki BDeb7SP4vcq9JvOxzhDjUgOU/fI1ucdhUfJ9HaaHlDih/amTgYUO7QLG1cQfe7uxH6POtTmDVxv yJOAUMa/A5+Cf82vO7/t8OclloVPrvOKSzeoxO+EdDXnAlshH+l0n/ZRrnERj1dykY+MeFBFLfq wCMn/UPFWEgH97uOf4g00onX97CgKdwr/3v6AfcSI51guIp63y6vlC+Lt+9QpP1XTJ6LlXdk++S DCKaHBwfO X-Google-Smtp-Source: AGHT+IELhPoWe6o3q5QfXFxEyVkSBBh2T/yMfT6sr3D5ERViIAngZ4dU/kpNcwiGBsFVAZtObhRjnmDgqp2k X-Received: by 2002:a05:690e:150e:b0:63c:e7e4:65a8 with SMTP id 956f58d0204a3-63e1618788dmr1761398d50.28.1760667925429; Thu, 16 Oct 2025 19:25:25 -0700 (PDT) Received: from postal.iol.unh.edu (postal.iol.unh.edu. [2606:4100:3880:1234::84]) by smtp-relay.gmail.com with ESMTPS id 00721157ae682-782903683e6sm2604797b3.33.2025.10.16.19.25.25 (version=TLS1_2 cipher=ECDHE-ECDSA-AES128-GCM-SHA256 bits=128/128); Thu, 16 Oct 2025 19:25:25 -0700 (PDT) X-Relaying-Domain: iol.unh.edu Date: Thu, 16 Oct 2025 19:25:25 -0700 (PDT) Message-ID: <68f1a915.050a0220.2835dd.d72dSMTPIN_ADDED_MISSING@mx.google.com> Received: from [172.21.0.3] (unknown [172.18.0.240]) by postal.iol.unh.edu (Postfix) with ESMTP id 145426051830; Thu, 16 Oct 2025 22:25:25 -0400 (EDT) Subject: |WARNING| pw157759 [PATCH] [v2] net/zxdh: replace use of rte_memcpy From: dpdklab@iol.unh.edu To: Test Report Cc: dpdk-test-reports@iol.unh.edu, Stephen Hemminger In-Reply-To: <20251016152941.6592-1-stephen@networkplumber.org> References: <20251016152941.6592-1-stephen@networkplumber.org> Content-Type: text/plain X-BeenThere: test-report@dpdk.org X-Mailman-Version: 2.1.29 Precedence: list List-Id: automatic DPDK test reports List-Unsubscribe: , List-Archive: List-Post: List-Help: List-Subscribe: , Errors-To: test-report-bounces@dpdk.org Test-Label: iol-compile-amd64-testing Test-Status: WARNING http://dpdk.org/patch/157759 _Testing issues_ Submitter: Stephen Hemminger Date: Thursday, October 16 2025 15:29:21 DPDK git baseline: Repo:dpdk-next-net Branch: master CommitID:791cea04798a8e2de014b99c009cd25b5929000a 157759 --> testing issues Upstream job id: Generic-DPDK-Compile-Meson#435096 Test environment and result as below: +-------------------------------+--------------------+-------------------------+-------------------+----------------------+-------------------+------------------+ | Environment | dpdk_meson_compile | dpdk_llvm_clang_compile | dpdk_msvc_compile | dpdk_mingw64_compile | dpdk_compile_spdk | dpdk_compile_ovs | +===============================+====================+=========================+===================+======================+===================+==================+ | Ubuntu 20.04 | PASS | SKIPPED | SKIPPED | SKIPPED | SKIPPED | SKIPPED | +-------------------------------+--------------------+-------------------------+-------------------+----------------------+-------------------+------------------+ | FreeBSD 14.2 | PASS | SKIPPED | SKIPPED | SKIPPED | SKIPPED | SKIPPED | +-------------------------------+--------------------+-------------------------+-------------------+----------------------+-------------------+------------------+ | CentOS Stream 9 | PASS | SKIPPED | SKIPPED | SKIPPED | WARN | SKIPPED | +-------------------------------+--------------------+-------------------------+-------------------+----------------------+-------------------+------------------+ | CentOS Stream 10 | PASS | SKIPPED | SKIPPED | SKIPPED | SKIPPED | SKIPPED | +-------------------------------+--------------------+-------------------------+-------------------+----------------------+-------------------+------------------+ | Debian GNU/Linux 12 | PASS | SKIPPED | SKIPPED | SKIPPED | WARN | SKIPPED | +-------------------------------+--------------------+-------------------------+-------------------+----------------------+-------------------+------------------+ | Fedora Linux 42 | PASS | SKIPPED | SKIPPED | SKIPPED | WARN | PASS | +-------------------------------+--------------------+-------------------------+-------------------+----------------------+-------------------+------------------+ | openSUSE Leap 15.6 | PASS | SKIPPED | SKIPPED | SKIPPED | SKIPPED | SKIPPED | +-------------------------------+--------------------+-------------------------+-------------------+----------------------+-------------------+------------------+ | Red Hat Enterprise Linux 8.10 | PASS | SKIPPED | SKIPPED | SKIPPED | SKIPPED | SKIPPED | +-------------------------------+--------------------+-------------------------+-------------------+----------------------+-------------------+------------------+ | Red Hat Enterprise Linux 9.5 | PASS | SKIPPED | SKIPPED | SKIPPED | SKIPPED | SKIPPED | +-------------------------------+--------------------+-------------------------+-------------------+----------------------+-------------------+------------------+ | Ubuntu 22.04 | PASS | SKIPPED | SKIPPED | SKIPPED | WARN | SKIPPED | +-------------------------------+--------------------+-------------------------+-------------------+----------------------+-------------------+------------------+ | Ubuntu 24.04 | PASS | SKIPPED | SKIPPED | SKIPPED | WARN | PASS | +-------------------------------+--------------------+-------------------------+-------------------+----------------------+-------------------+------------------+ | Alpine Linux 3.22.0 | PASS | SKIPPED | SKIPPED | SKIPPED | SKIPPED | SKIPPED | +-------------------------------+--------------------+-------------------------+-------------------+----------------------+-------------------+------------------+ | Windows Server 2022 | SKIPPED | PASS | PASS | PASS | SKIPPED | SKIPPED | +-------------------------------+--------------------+-------------------------+-------------------+----------------------+-------------------+------------------+ ==== 20 line log output for Ubuntu 24.04 (dpdk_compile_spdk): ==== --- Failed to get log output --- ==== End log output ==== Ubuntu 20.04 Kernel: 4.19 Compiler: gcc gcc (Ubuntu 9.4.0-1ubuntu1~20.04.2) 9.4.0 FreeBSD 14.2 Kernel: 14.2-RELEASE Compiler: clang 18.1.6 CentOS Stream 9 Kernel: 5.15 Compiler: gcc gcc (GCC) 11.5.0 20240719 (Red Hat 11.5.0-11) CentOS Stream 10 Kernel: 5.15 Compiler: gcc gcc (GCC) 14.2.1 20250110 (Red Hat 14.2.1-8) Debian GNU/Linux 12 Kernel: 5.15 Compiler: gcc gcc (Debian 12.2.0-14+deb12u1) 12.2.0 Fedora Linux 42 Kernel: 5.15 Compiler: clang gcc (GCC) 15.2.1 20250808 (Red Hat 15.2.1-1) openSUSE Leap 15.6 Kernel: 5.15 Compiler: gcc gcc (SUSE Linux) 7.5.0 Red Hat Enterprise Linux 8.10 Kernel: 5.15 Compiler: gcc gcc (GCC) 8.5.0 20210514 (Red Hat 8.5.0-22) Red Hat Enterprise Linux 9.5 Kernel: 5.15 Compiler: gcc gcc (GCC) 11.5.0 20240719 (Red Hat 11.5.0-2) Ubuntu 22.04 Kernel: 5.15 Compiler: gcc gcc (Ubuntu 11.4.0-1ubuntu1~22.04) 11.4.0 Ubuntu 24.04 Kernel: 5.15 Compiler: gcc gcc (Ubuntu 13.3.0-6ubuntu2~24.04) 13.3.0 Alpine Linux 3.22.0 Kernel: 5.15 Compiler: gcc gcc (Alpine 14.2.0) 14.2.0 Windows Server 2022 Kernel: 10.0.20348.2031 Compiler: clang 15.0.7, gcc 14.1.0 (MinGW), and MSVC VS 19.39.33521 To view detailed results, visit: https://lab.dpdk.org/results/dashboard/patchsets/34302/ UNH-IOL DPDK Community Lab To manage your email subscriptions, visit: https://lab.dpdk.org/results/dashboard/preferences/subscriptions/