From mboxrd@z Thu Jan 1 00:00:00 1970 Return-Path: Received: from mails.dpdk.org (mails.dpdk.org [217.70.189.124]) by inbox.dpdk.org (Postfix) with ESMTP id F0A3A48959 for ; Fri, 17 Oct 2025 04:38:17 +0200 (CEST) Received: from mails.dpdk.org (localhost [127.0.0.1]) by mails.dpdk.org (Postfix) with ESMTP id C41F640269; Fri, 17 Oct 2025 04:38:17 +0200 (CEST) Received: from mail-pf1-f225.google.com (mail-pf1-f225.google.com [209.85.210.225]) by mails.dpdk.org (Postfix) with ESMTP id 0F43F40269 for ; Fri, 17 Oct 2025 04:38:17 +0200 (CEST) Received: by mail-pf1-f225.google.com with SMTP id d2e1a72fcca58-791c287c10dso1220805b3a.1 for ; Thu, 16 Oct 2025 19:38:16 -0700 (PDT) DKIM-Signature: v=1; a=rsa-sha256; c=relaxed/relaxed; d=iol.unh.edu; s=unh-iol; t=1760668696; x=1761273496; darn=dpdk.org; h=cc:to:from:subject:message-id:date:from:to:cc:subject:date :message-id:reply-to; bh=IK/bWUmHGLnJUZbwu7mu1t5QNOx1x0x/un8HwZNu+sE=; b=UPQwLT5gzpg4B8tcvWWjnPPVWZLUXA66DMQY+ro2IQBT8gwI6rqzquXga1EUvnTRGs Jv8XTj7VZvC0qrEpmztKOSWZ9l8OeZ1yqcBJvf4g8mirJ9gkqa3/qhcxWVz/iXKdNxNB ubN9B8LZV/Uct1gbSNu/q+trN+aWMWh01kfAY= X-Google-DKIM-Signature: v=1; a=rsa-sha256; c=relaxed/relaxed; d=1e100.net; s=20230601; t=1760668696; x=1761273496; h=cc:to:from:subject:message-id:date:x-gm-message-state:from:to:cc :subject:date:message-id:reply-to; bh=IK/bWUmHGLnJUZbwu7mu1t5QNOx1x0x/un8HwZNu+sE=; b=M8JrypbKyx2dY7Rxl96+b4VLeck6aepS9n06nspCrTRCqwFHtYBJJXlISjx5zO1qHt r3B4uzuzgihaocz3H9qYECcqHQKrvTggV/P0za8jVsbdudBS99R3lsynJdNVW7QwbNck KQDdqfkGzjayDo6RUId2d9EWSabEx+PhktsRiy8r25TPotWLAPU7YiHCrUvXJuD6cLX7 alEbeXRhaNqhkYb8trCID8wXQGhWmydff1ubHjM5s/CjPqV/WjPl3BPoMKPDHZGLeacM sGlkAbvSkfr02yRaBuYi1C+TrBVLyKHzsShsHwjiZ/eBvyA9IVD5DwddDRQd+q17nDxV dg0g== X-Gm-Message-State: AOJu0YyfdctoA9lWJAAZnjaGtLff3T44J+xJKUJ7eJgtE7vow3/gnLUw jEWMuj1D9JuF//x0JVuuRTeAtWOVESM9jQ4KGHRGd8XcU4+JZYZqcz/zb6KJUvm/54/05Mmac+N f1tKyVJ8M5ZC2y1Gh5yMYfLlr9Fc4RVdfL6SBNbeAQkJbE5c3jljq X-Gm-Gg: ASbGnctYIX8U/sm1rxfuKIkW6FH+1GzvBUEm+U+vFrxeR7YLm5erNs7rLOhK7F+ygnl 0TBDChGbQegGCTffRJUYgNROEJ3NWusDtAQ0r0AsZYjQ+cVAUCEvm+AKMwoQ3zdla6Rt82q3LIc 5jtv7WX/lDxdCF5nPG9F/VdsUp3aO98MhwpC56U8PHUYNkkZp7nen8aJS0+OOQa2Ucrb66U4IBs rl2KqYfhZip8dozHUEcEtCR7zTvZcrGrTVf+Nsz1qqZeYkk5tZjU7wzcIV998h6v7tf08VPpboZ mTwh1hG/a242/4PLA3cbGzpLidLbJyjAl8AiYjcnhgNdEAUUulooSTlEVq1Na+LyWd5QYfj5pXt J95KrYQM8 X-Google-Smtp-Source: AGHT+IEJSVtgRAvaf6u2Nccsbf/rjebBzycNPA/ZfmdTX887fRUJL1vDsxEgso8oi6Cps9KhkOMzRkBJK4or X-Received: by 2002:a05:6a20:939d:b0:2f5:ba02:a2a2 with SMTP id adf61e73a8af0-334a861095emr2940226637.36.1760668696110; Thu, 16 Oct 2025 19:38:16 -0700 (PDT) Received: from postal.iol.unh.edu (postal.iol.unh.edu. [2606:4100:3880:1234::84]) by smtp-relay.gmail.com with ESMTPS id 41be03b00d2f7-b6a22b70be8sm303630a12.14.2025.10.16.19.38.15 (version=TLS1_2 cipher=ECDHE-ECDSA-AES128-GCM-SHA256 bits=128/128); Thu, 16 Oct 2025 19:38:16 -0700 (PDT) X-Relaying-Domain: iol.unh.edu Date: Thu, 16 Oct 2025 19:38:16 -0700 (PDT) Message-ID: <68f1ac18.630a0220.d7ef8.ef17SMTPIN_ADDED_MISSING@mx.google.com> Received: from [172.21.0.3] (unknown [172.18.0.240]) by postal.iol.unh.edu (Postfix) with ESMTP id 3C3936051830; Thu, 16 Oct 2025 22:38:15 -0400 (EDT) Subject: |SUCCESS| [GIT MASTER] 3b43ce3f4a54468e7ef65760c2fd7b4d6ee6d9fc From: dpdklab@iol.unh.edu To: Test Report Cc: dpdk-test-reports@iol.unh.edu, Xueming Li , Christian Ehrhardt , Kevin Traynor , Luca Boccassi Content-Type: text/plain X-BeenThere: test-report@dpdk.org X-Mailman-Version: 2.1.29 Precedence: list List-Id: automatic DPDK test reports List-Unsubscribe: , List-Archive: List-Post: List-Help: List-Subscribe: , Errors-To: test-report-bounces@dpdk.org _Testing PASS_ Branch: tags/v22.11 3b43ce3f4a54468e7ef65760c2fd7b4d6ee6d9fc --> testing pass Upstream job id: Generic-DPDK-Compile-Meson#435098 Test environment and result as below: +-------------------------------+--------------------+-------------------------+----------------------+ | Environment | dpdk_meson_compile | dpdk_llvm_clang_compile | dpdk_mingw64_compile | +===============================+====================+=========================+======================+ | FreeBSD 14.2 | PASS | SKIPPED | SKIPPED | +-------------------------------+--------------------+-------------------------+----------------------+ | openSUSE Leap 15.6 | PASS | SKIPPED | SKIPPED | +-------------------------------+--------------------+-------------------------+----------------------+ | Ubuntu 20.04 | PASS | SKIPPED | SKIPPED | +-------------------------------+--------------------+-------------------------+----------------------+ | CentOS Stream 10 | PASS | SKIPPED | SKIPPED | +-------------------------------+--------------------+-------------------------+----------------------+ | CentOS Stream 9 | PASS | SKIPPED | SKIPPED | +-------------------------------+--------------------+-------------------------+----------------------+ | Ubuntu 22.04 | PASS | SKIPPED | SKIPPED | +-------------------------------+--------------------+-------------------------+----------------------+ | Debian GNU/Linux 12 | PASS | SKIPPED | SKIPPED | +-------------------------------+--------------------+-------------------------+----------------------+ | Fedora Linux 42 | PASS | SKIPPED | SKIPPED | +-------------------------------+--------------------+-------------------------+----------------------+ | Red Hat Enterprise Linux 8.10 | PASS | SKIPPED | SKIPPED | +-------------------------------+--------------------+-------------------------+----------------------+ | Red Hat Enterprise Linux 9.5 | PASS | SKIPPED | SKIPPED | +-------------------------------+--------------------+-------------------------+----------------------+ | Ubuntu 24.04 | PASS | SKIPPED | SKIPPED | +-------------------------------+--------------------+-------------------------+----------------------+ | Windows Server 2022 | SKIPPED | PASS | PASS | +-------------------------------+--------------------+-------------------------+----------------------+ FreeBSD 14.2 Kernel: 14.2-RELEASE Compiler: clang 18.1.6 openSUSE Leap 15.6 Kernel: 5.15 Compiler: gcc gcc (SUSE Linux) 7.5.0 Ubuntu 20.04 Kernel: 5.15 Compiler: gcc gcc (Ubuntu 9.4.0-1ubuntu1~20.04.2) 9.4.0 CentOS Stream 10 Kernel: 5.15 Compiler: gcc gcc (GCC) 14.2.1 20250110 (Red Hat 14.2.1-8) CentOS Stream 9 Kernel: 5.15 Compiler: gcc gcc (GCC) 11.5.0 20240719 (Red Hat 11.5.0-11) Ubuntu 22.04 Kernel: 5.15 Compiler: gcc gcc (Ubuntu 11.4.0-1ubuntu1~22.04) 11.4.0 Debian GNU/Linux 12 Kernel: 5.15 Compiler: gcc gcc (Debian 12.2.0-14+deb12u1) 12.2.0 Fedora Linux 42 Kernel: 5.15 Compiler: clang gcc (GCC) 15.2.1 20250808 (Red Hat 15.2.1-1) Red Hat Enterprise Linux 8.10 Kernel: 5.15 Compiler: gcc gcc (GCC) 8.5.0 20210514 (Red Hat 8.5.0-22) Red Hat Enterprise Linux 9.5 Kernel: 5.15 Compiler: gcc gcc (GCC) 11.5.0 20240719 (Red Hat 11.5.0-2) Ubuntu 24.04 Kernel: 5.15 Compiler: gcc gcc (Ubuntu 13.3.0-6ubuntu2~24.04) 13.3.0 Windows Server 2022 Kernel: 10.0.20348.2031 Compiler: clang 15.0.7, gcc 14.1.0 (MinGW), and MSVC VS 19.39.33521 To view detailed results, visit: https://lab.dpdk.org/results/dashboard/tarballs/35181/ UNH-IOL DPDK Community Lab To manage your email subscriptions, visit: https://lab.dpdk.org/results/dashboard/preferences/subscriptions/