From mboxrd@z Thu Jan 1 00:00:00 1970 Return-Path: Received: from mails.dpdk.org (mails.dpdk.org [217.70.189.124]) by inbox.dpdk.org (Postfix) with ESMTP id 488A048959 for ; Fri, 17 Oct 2025 04:42:11 +0200 (CEST) Received: from mails.dpdk.org (localhost [127.0.0.1]) by mails.dpdk.org (Postfix) with ESMTP id 2B55740269; Fri, 17 Oct 2025 04:42:11 +0200 (CEST) Received: from mail-pl1-f226.google.com (mail-pl1-f226.google.com [209.85.214.226]) by mails.dpdk.org (Postfix) with ESMTP id 781AC40B9A for ; Fri, 17 Oct 2025 04:42:10 +0200 (CEST) Received: by mail-pl1-f226.google.com with SMTP id d9443c01a7336-26c209802c0so15489115ad.0 for ; Thu, 16 Oct 2025 19:42:10 -0700 (PDT) DKIM-Signature: v=1; a=rsa-sha256; c=relaxed/relaxed; d=iol.unh.edu; s=unh-iol; t=1760668929; x=1761273729; darn=dpdk.org; h=references:in-reply-to:cc:to:from:subject:message-id:date:from:to :cc:subject:date:message-id:reply-to; bh=5PJ+RJ1FRVjHo1GI4liKRX5SFzF68lDPfEHIodaEWj8=; b=IxwMc4Y0WNkJl6jRPi4QtIVamanfMqk8iBsFzwZMW1rbJZXSgSNsNo/Bseg3v8xIOi ps3r4xPp+IeSxl4e7AmO/QIQgG7fdEqpo3kvauzd+JkKKlk1FD6NpJ8y+stPXtaTQC+b J7o2wT9ILxD6+heu25UWT2an930rUEGQPIT4Y= X-Google-DKIM-Signature: v=1; a=rsa-sha256; c=relaxed/relaxed; d=1e100.net; s=20230601; t=1760668929; x=1761273729; h=references:in-reply-to:cc:to:from:subject:message-id:date :x-gm-message-state:from:to:cc:subject:date:message-id:reply-to; bh=5PJ+RJ1FRVjHo1GI4liKRX5SFzF68lDPfEHIodaEWj8=; b=MBa2KBpvolhZZd13pRSjF1uoPXNIHc1/6goH7nS9ENeIF506Ruc9EV32207FJmcxkw 9fVj53oB6BPSFw/iwKNxBfzc0s84lLxetJ75jeaStkrAw9ihmqv4ZA7kPz62bU5tXY5/ Kr8BNRQHom4LLVm/nvy7WTQ92xAnwKx2NJyw6/WdS+EQIIklHTi80ijbE7dIbtSYJvI+ Ze4wZ4Fl7ZRdExjaKtGvsfpM72/Gtur+CYH+KK4mg5nuSufHB4d/RMaHCpkgiZFBhXLc FBAqWgAW0YkpQ/fSl/W1mWwJDJy+xmxydU8/Ja5q7GHRadSdR4/7GkmOvyQ2715KwHl2 zvKg== X-Gm-Message-State: AOJu0YzVgT7lNMpv40epUBNiVLkJXnZGkFlolwWiu4PvbrVZeIjyr09V Tr5tI1t6tFZO8c+UcT3C7nG37jX654lriybzVUPgLE/oLaf21DJwMvDvHAWdQGyy20gmN/Mmzsm U2rGcKQokOhyueiLlkthEx04keTKCh+dPocleDgt8KzxB X-Gm-Gg: ASbGncuCIOCug0HpLnJlGlOof7TQUbc3aUoTAbW5mthM2gVFc+WLsKfggzm97vm+hHo oVuVJXIYELWsi/xbwvUkP/Yg5PGH/0gsWd0jy09gW5sBVHCyI0Ar2cQx9e/RTKGC7sGt3lAEYCQ YrkTgdtCW+mSt3YjEL9xNCAsxN7qGGuTkg0/TArodVs0SASdh+2CFeuia92ju7GPYNI8lW/wRP9 0HTyGWCPU5y/jrNa1nPwnLEZx5GWI3Zbw4KORdG2tUtlCdJWVymWTdDlYGg3BzOkA2CJeU0TUJV khUfZe4FHlVHOe7FJk0JkhMMO3N4SSR5xF4Jbd5D6NXPO4ERmG0Z6/ZXrHj64j8Cbxd1oRvZybk +FrhlI+43Qvqh/8o27bXIxKwX4o2luXc= X-Google-Smtp-Source: AGHT+IFHMdldVpipvVfR36XoNOGQwixNyz5932oDxJdKInxN72r0Rj23UBTtQfL2Fw5wGGBAolY5bWXaQAIX X-Received: by 2002:a17:902:d584:b0:275:f156:965c with SMTP id d9443c01a7336-290cb65b61dmr25881295ad.52.1760668929597; Thu, 16 Oct 2025 19:42:09 -0700 (PDT) Received: from postal.iol.unh.edu (postal.iol.unh.edu. [132.177.123.84]) by smtp-relay.gmail.com with ESMTPS id d9443c01a7336-29098fba926sm5145115ad.20.2025.10.16.19.42.09 (version=TLS1_2 cipher=ECDHE-ECDSA-AES128-GCM-SHA256 bits=128/128); Thu, 16 Oct 2025 19:42:09 -0700 (PDT) X-Relaying-Domain: iol.unh.edu Date: Thu, 16 Oct 2025 19:42:09 -0700 (PDT) Message-ID: <68f1ad01.170a0220.1164e5.e9acSMTPIN_ADDED_MISSING@mx.google.com> Received: from [172.21.0.2] (unknown [172.18.0.240]) by postal.iol.unh.edu (Postfix) with ESMTP id C8E576051830; Thu, 16 Oct 2025 22:42:08 -0400 (EDT) Subject: |SUCCESS| pw157718 [PATCH] [v1] maintainers: update for LoongArch From: dpdklab@iol.unh.edu To: Test Report Cc: dpdk-test-reports@iol.unh.edu In-Reply-To: <20251016090948.836029-1-zhoumin@loongson.cn> References: <20251016090948.836029-1-zhoumin@loongson.cn> Content-Type: text/plain X-BeenThere: test-report@dpdk.org X-Mailman-Version: 2.1.29 Precedence: list List-Id: automatic DPDK test reports List-Unsubscribe: , List-Archive: List-Post: List-Help: List-Subscribe: , Errors-To: test-report-bounces@dpdk.org Test-Label: iol-compile-arm64-testing Test-Status: SUCCESS http://dpdk.org/patch/157718 _Testing PASS_ Submitter: zhoumin Date: Thursday, October 16 2025 09:09:48 DPDK git baseline: Repo:dpdk Branch: master CommitID:16f4c522003dcfecf23c8d38e009b95a3bbefd03 157718 --> testing pass Upstream job id: Generic-DPDK-Compile-Meson#434969 Test environment and result as below: +------------------------------+--------------------+ | Environment | dpdk_meson_compile | +==============================+====================+ | Red Hat Enterprise Linux 9.5 | PASS | +------------------------------+--------------------+ | Ubuntu 20.04 | PASS | +------------------------------+--------------------+ | Debian GNU/Linux 12 | PASS | +------------------------------+--------------------+ | Fedora Linux 42 | PASS | +------------------------------+--------------------+ | Ubuntu 22.04 | PASS | +------------------------------+--------------------+ | CentOS Stream 9 | PASS | +------------------------------+--------------------+ | CentOS Stream 10 | PASS | +------------------------------+--------------------+ Red Hat Enterprise Linux 9.5 Kernel: 5.4 Compiler: gcc gcc (GCC) 11.5.0 20240719 (Red Hat 11.5.0-2) Ubuntu 20.04 Kernel: 5.15 Compiler: aarch64-linux-gnu-gcc gcc (Ubuntu 9.4.0-1ubuntu1~20.04.2) 9.4.0 Debian GNU/Linux 12 Kernel: 5.4 Compiler: gcc gcc (Debian 12.2.0-14+deb12u1) 12.2.0 Fedora Linux 42 Kernel: 5.4 Compiler: gcc gcc (GCC) 15.2.1 20250808 (Red Hat 15.2.1-1) Ubuntu 22.04 Kernel: 5.4 Compiler: gcc gcc (Ubuntu 11.4.0-1ubuntu1~22.04) 11.4.0 CentOS Stream 9 Kernel: 5.4 Compiler: gcc gcc (GCC) 11.5.0 20240719 (Red Hat 11.5.0-11) CentOS Stream 10 Kernel: 5.4 Compiler: gcc gcc (GCC) 14.2.1 20250110 (Red Hat 14.2.1-8) To view detailed results, visit: https://lab.dpdk.org/results/dashboard/patchsets/34297/ UNH-IOL DPDK Community Lab To manage your email subscriptions, visit: https://lab.dpdk.org/results/dashboard/preferences/subscriptions/