From mboxrd@z Thu Jan 1 00:00:00 1970 Return-Path: Received: from mails.dpdk.org (mails.dpdk.org [217.70.189.124]) by inbox.dpdk.org (Postfix) with ESMTP id 32BE748959 for ; Fri, 17 Oct 2025 05:27:34 +0200 (CEST) Received: from mails.dpdk.org (localhost [127.0.0.1]) by mails.dpdk.org (Postfix) with ESMTP id 0EA9940269; Fri, 17 Oct 2025 05:27:34 +0200 (CEST) Received: from mail-pl1-f226.google.com (mail-pl1-f226.google.com [209.85.214.226]) by mails.dpdk.org (Postfix) with ESMTP id 3EA1F40269 for ; Fri, 17 Oct 2025 05:27:33 +0200 (CEST) Received: by mail-pl1-f226.google.com with SMTP id d9443c01a7336-27ee41e0798so23207385ad.1 for ; Thu, 16 Oct 2025 20:27:33 -0700 (PDT) DKIM-Signature: v=1; a=rsa-sha256; c=relaxed/relaxed; d=iol.unh.edu; s=unh-iol; t=1760671652; x=1761276452; darn=dpdk.org; h=references:in-reply-to:cc:to:from:subject:message-id:date:from:to :cc:subject:date:message-id:reply-to; bh=hjP4m/+979py62m2HAgb/Ag/m8ACFA/Dv/Rtw4dYCE8=; b=ab/v+sChTE6U19OVXRC0GzwybqbRyKb58vyXdB8197+yFmHCKUiL6XQZe/Ns/H+IAR 2FxM2tK1vN2PeTgiD3dq492q4TfkAm6Slq17Giav86aYu25yYXW7EQaWGOIY+QCQthBQ 88qDZGmPgHUOkeBeEMxK1q9+fNSGZSaN25p+4= X-Google-DKIM-Signature: v=1; a=rsa-sha256; c=relaxed/relaxed; d=1e100.net; s=20230601; t=1760671652; x=1761276452; h=references:in-reply-to:cc:to:from:subject:message-id:date :x-gm-message-state:from:to:cc:subject:date:message-id:reply-to; bh=hjP4m/+979py62m2HAgb/Ag/m8ACFA/Dv/Rtw4dYCE8=; b=eM73aUH7AFFqQpRIltpMHtM9GS0XK6WWVDxdKtCdyDKUXN09Db7H23Q5aCALJPaxF9 Nz/xMfzSCMX7KvFUAPb+06m429kCSaB+gtx4tY5nwqBd9sn4JozlDDW6YQJ1/cQr8bdF tfepYLyBuhqoRgU/GNcwY4j2TRo3b77bzfBxcJ4aOWGqC3TL9oT9Ms5DQv8gB8pM/idu N14OPFasqiudACCUtiCwXbondyZkNESEK4Xj5HcQeNjEwiVUZRBXRDRhalCzKCpe4Sot 10ZJPFInjdtB/DhFDzmnQAn2P4KWjAs2peS7C7iGP9IRQv+pFY2iS751grNlfgGi6US1 CAUQ== X-Gm-Message-State: AOJu0YwIX7M0ufb4NUZeyOaDZpGakH/vL2mhZWa7BM8NR5QkRlRKJIK8 9LB4uAarXMHuyu0UfM5Ga6WACE8Gbo0XCHNzK3HKo0nk/7LyIP29nilOQKve2dVjgw65/ZYSf7J NNBrpgT3hHoCMyfEmtb7gZuFFne3BGkIr6YMI8r5zCyhl X-Gm-Gg: ASbGncsLBg2g5NEk0Mwc+W2QcwQmRUnuHFsx71t0a01H53odYSQkfevSx+gMaanJ7Pp y3CJYJYuZlxoP7Is5XvQ0TxRfSYtpCO9OO8US4o8rTTduX3k6puatZQpUnhYLv/xplc8YnZkKiC pAuz2lJacg0W0wUtwEWbvReDA9yOcC0RgPWNNfQWuRezH6RIyPZmBv9GhLK2xYXPQn3dnlK7H6z IYmrPiwfPqrIEDl6Np47WZe1fjImky+aXuty1xAivQF1tcaHxaJVtHNUOyk/Hg9HkBcGQldJ8qf 6HMQBGBUJqiGfjJ+WTXnhhpqJc7YyJWqivq4NNno20XG3NCUpbKci8OXDKp56ZIwhfM1Z39cu77 9/c/RlfhqyjfleEIBCQDA4vXpAxzNx4s= X-Google-Smtp-Source: AGHT+IHXmj16s9PARrFcwgyM5UqrpXc3PkgQkOxwB+52l5A3bjBU8zAtWzPdr+zxRWlwC8/8NPp+n7Y84h64 X-Received: by 2002:a17:903:1106:b0:27e:f07c:8413 with SMTP id d9443c01a7336-290c9cf8f3amr26612245ad.9.1760671652293; Thu, 16 Oct 2025 20:27:32 -0700 (PDT) Received: from postal.iol.unh.edu (postal.iol.unh.edu. [132.177.123.84]) by smtp-relay.gmail.com with ESMTPS id d9443c01a7336-29099ab46ffsm5142775ad.66.2025.10.16.20.27.32 (version=TLS1_2 cipher=ECDHE-ECDSA-AES128-GCM-SHA256 bits=128/128); Thu, 16 Oct 2025 20:27:32 -0700 (PDT) X-Relaying-Domain: iol.unh.edu Date: Thu, 16 Oct 2025 20:27:32 -0700 (PDT) Message-ID: <68f1b7a4.170a0220.39b8fe.a300SMTPIN_ADDED_MISSING@mx.google.com> Received: from [172.21.0.2] (unknown [172.18.0.240]) by postal.iol.unh.edu (Postfix) with ESMTP id 7DCEC6051830; Thu, 16 Oct 2025 23:27:31 -0400 (EDT) Subject: |WARNING| pw157761-157767 [PATCH] [v7,7/7] usertools/mbuf: parse mbu From: dpdklab@iol.unh.edu To: Test Report Cc: dpdk-test-reports@iol.unh.edu In-Reply-To: <20251016203557.2554678-8-thomas@monjalon.net> References: <20251016203557.2554678-8-thomas@monjalon.net> Content-Type: text/plain X-BeenThere: test-report@dpdk.org X-Mailman-Version: 2.1.29 Precedence: list List-Id: automatic DPDK test reports List-Unsubscribe: , List-Archive: List-Post: List-Help: List-Subscribe: , Errors-To: test-report-bounces@dpdk.org Test-Label: iol-compile-amd64-testing Test-Status: WARNING http://dpdk.org/patch/157767 _Testing issues_ Submitter: Thomas Monjalon Date: Thursday, October 16 2025 20:34:45 DPDK git baseline: Repo:dpdk Branch: master CommitID:438491733c2d8a109574449d3d6de9b25a05c07c 157761-157767 --> testing issues Upstream job id: Generic-DPDK-Compile-Meson#435150 Test environment and result as below: +-------------------------------+-------------------------+--------------------+-------------------+----------------------+-------------------+------------------+ | Environment | dpdk_llvm_clang_compile | dpdk_meson_compile | dpdk_msvc_compile | dpdk_mingw64_compile | dpdk_compile_spdk | dpdk_compile_ovs | +===============================+=========================+====================+===================+======================+===================+==================+ | Windows Server 2022 | PASS | SKIPPED | PASS | PASS | SKIPPED | SKIPPED | +-------------------------------+-------------------------+--------------------+-------------------+----------------------+-------------------+------------------+ | Ubuntu 20.04 | SKIPPED | PASS | SKIPPED | SKIPPED | SKIPPED | SKIPPED | +-------------------------------+-------------------------+--------------------+-------------------+----------------------+-------------------+------------------+ | FreeBSD 14.2 | SKIPPED | PASS | SKIPPED | SKIPPED | SKIPPED | SKIPPED | +-------------------------------+-------------------------+--------------------+-------------------+----------------------+-------------------+------------------+ | CentOS Stream 9 | SKIPPED | PASS | SKIPPED | SKIPPED | WARN | SKIPPED | +-------------------------------+-------------------------+--------------------+-------------------+----------------------+-------------------+------------------+ | CentOS Stream 10 | SKIPPED | PASS | SKIPPED | SKIPPED | SKIPPED | SKIPPED | +-------------------------------+-------------------------+--------------------+-------------------+----------------------+-------------------+------------------+ | Debian GNU/Linux 12 | SKIPPED | PASS | SKIPPED | SKIPPED | WARN | SKIPPED | +-------------------------------+-------------------------+--------------------+-------------------+----------------------+-------------------+------------------+ | Fedora Linux 42 | SKIPPED | PASS | SKIPPED | SKIPPED | WARN | PASS | +-------------------------------+-------------------------+--------------------+-------------------+----------------------+-------------------+------------------+ | openSUSE Leap 15.6 | SKIPPED | PASS | SKIPPED | SKIPPED | SKIPPED | SKIPPED | +-------------------------------+-------------------------+--------------------+-------------------+----------------------+-------------------+------------------+ | Red Hat Enterprise Linux 8.10 | SKIPPED | PASS | SKIPPED | SKIPPED | SKIPPED | SKIPPED | +-------------------------------+-------------------------+--------------------+-------------------+----------------------+-------------------+------------------+ | Red Hat Enterprise Linux 9.5 | SKIPPED | PASS | SKIPPED | SKIPPED | SKIPPED | SKIPPED | +-------------------------------+-------------------------+--------------------+-------------------+----------------------+-------------------+------------------+ | Ubuntu 22.04 | SKIPPED | PASS | SKIPPED | SKIPPED | WARN | SKIPPED | +-------------------------------+-------------------------+--------------------+-------------------+----------------------+-------------------+------------------+ | Ubuntu 24.04 | SKIPPED | PASS | SKIPPED | SKIPPED | WARN | PASS | +-------------------------------+-------------------------+--------------------+-------------------+----------------------+-------------------+------------------+ | Alpine Linux 3.22.0 | SKIPPED | PASS | SKIPPED | SKIPPED | SKIPPED | SKIPPED | +-------------------------------+-------------------------+--------------------+-------------------+----------------------+-------------------+------------------+ ==== 20 line log output for Ubuntu 24.04 (dpdk_compile_spdk): ==== --- Failed to get log output --- ==== End log output ==== Windows Server 2022 Kernel: 10.0.20348.2031 Compiler: clang 15.0.7, gcc 14.1.0 (MinGW), and MSVC VS 19.39.33521 Ubuntu 20.04 Kernel: 4.19 Compiler: gcc gcc (Ubuntu 9.4.0-1ubuntu1~20.04.2) 9.4.0 FreeBSD 14.2 Kernel: 14.2-RELEASE Compiler: clang 18.1.6 CentOS Stream 9 Kernel: 5.15 Compiler: gcc gcc (GCC) 11.5.0 20240719 (Red Hat 11.5.0-11) CentOS Stream 10 Kernel: 5.15 Compiler: gcc gcc (GCC) 14.2.1 20250110 (Red Hat 14.2.1-8) Debian GNU/Linux 12 Kernel: 5.15 Compiler: gcc gcc (Debian 12.2.0-14+deb12u1) 12.2.0 Fedora Linux 42 Kernel: 5.15 Compiler: clang gcc (GCC) 15.2.1 20250808 (Red Hat 15.2.1-1) openSUSE Leap 15.6 Kernel: 5.15 Compiler: gcc gcc (SUSE Linux) 7.5.0 Red Hat Enterprise Linux 8.10 Kernel: 5.15 Compiler: gcc gcc (GCC) 8.5.0 20210514 (Red Hat 8.5.0-22) Red Hat Enterprise Linux 9.5 Kernel: 5.15 Compiler: gcc gcc (GCC) 11.5.0 20240719 (Red Hat 11.5.0-2) Ubuntu 22.04 Kernel: 5.15 Compiler: gcc gcc (Ubuntu 11.4.0-1ubuntu1~22.04) 11.4.0 Ubuntu 24.04 Kernel: 5.15 Compiler: gcc gcc (Ubuntu 13.3.0-6ubuntu2~24.04) 13.3.0 Alpine Linux 3.22.0 Kernel: 5.15 Compiler: gcc gcc (Alpine 14.2.0) 14.2.0 To view detailed results, visit: https://lab.dpdk.org/results/dashboard/patchsets/34304/ UNH-IOL DPDK Community Lab To manage your email subscriptions, visit: https://lab.dpdk.org/results/dashboard/preferences/subscriptions/