From mboxrd@z Thu Jan 1 00:00:00 1970 Return-Path: Received: from mails.dpdk.org (mails.dpdk.org [217.70.189.124]) by inbox.dpdk.org (Postfix) with ESMTP id DCBFE48959 for ; Fri, 17 Oct 2025 05:35:40 +0200 (CEST) Received: from mails.dpdk.org (localhost [127.0.0.1]) by mails.dpdk.org (Postfix) with ESMTP id C615540269; Fri, 17 Oct 2025 05:35:40 +0200 (CEST) Received: from mail-pf1-f226.google.com (mail-pf1-f226.google.com [209.85.210.226]) by mails.dpdk.org (Postfix) with ESMTP id 77FC140269 for ; Fri, 17 Oct 2025 05:35:39 +0200 (CEST) Received: by mail-pf1-f226.google.com with SMTP id d2e1a72fcca58-781206cce18so1515060b3a.0 for ; Thu, 16 Oct 2025 20:35:39 -0700 (PDT) DKIM-Signature: v=1; a=rsa-sha256; c=relaxed/relaxed; d=iol.unh.edu; s=unh-iol; t=1760672138; x=1761276938; darn=dpdk.org; h=cc:to:from:subject:message-id:date:from:to:cc:subject:date :message-id:reply-to; bh=gdo7qayx4j1IHWgP4YyfKj/GuFbOi7ZHOUBCRgKDxSM=; b=SSY2xnh98WD3j50+v5zajidNgulw2ouvXARcqgip9W9W6kxWDoi4MtIky8ORWPdz4G cnxu3ePMO58Se80WUx4vmMLBaoEed8A0GlbUtErGepkXzHmF9tJNDBN8Lwbu1IdiY5E4 NRdQzBFNT5bjNFKFs81dnLTpSAyaTW9f54HvM= X-Google-DKIM-Signature: v=1; a=rsa-sha256; c=relaxed/relaxed; d=1e100.net; s=20230601; t=1760672138; x=1761276938; h=cc:to:from:subject:message-id:date:x-gm-message-state:from:to:cc :subject:date:message-id:reply-to; bh=gdo7qayx4j1IHWgP4YyfKj/GuFbOi7ZHOUBCRgKDxSM=; b=Qlo0xyY6VTtAK56vvqeVOKZOuUCiklDE+Ds/BD3r3LAKLmKkdPfi3iWvvXAEZ+G5K/ sBfCy2LEzFMtK6sufiRiB7C85jQRmRq9/6sgKPvBK/fghkd2yAb1uzI9xI0mlKT7Hde9 +lKY6Lm92rT7YlcrgQlPyH6OjDzn1OpmRkc+YPcDvUDuAnWbC2omRTxyh2CET+rfBZn2 dm0SIhc5GNxKov8JvCxmnZn1Iwy4lOvBWetMxCBQ7wD0PYh0I8srQxH5ObR6vENvZAWR YZBJYAvkRICCB45oMNJia6J7nvihXB89NNMlYuocX7856yBt7XXpZH7piHolmL1L5z5I F/Rw== X-Gm-Message-State: AOJu0YwaiPUVDVVdO1qjEuXkxGNYkh9thZ+WntGeAVRB57rpevoGECP1 4o6fbM64tGfHnHDVkk3IQt+EyA7tNm219sRcBo/jEMyzA/GpA4oe7PNbr38ypUc7b2N689vNwl4 8HAWAYWC3bXQk5sDIgztTYysK0q1gQNkPYPgv X-Gm-Gg: ASbGncsFQnm/xmAvcMlWYyyE7pLW/yLPgjR1oU59ZRSjr8u/Z+gfJArky+SvyJO28+s 3CpzU0X3XPJ+VakB79AOFgPeWJvfQoj3055UsWPR+UpxA2yT0mcdBhrPkNyu7Mo9c2c4x6iawN7 1oTmTxzDP/CT/acWkfrXyH2ZWdhIHvqKf1JLuTZkAddmjAo+EVkA4bkqApiYpVGLNZH7fGk5UQK oK29CpWmL6Awe3asMnJoUU0FRA7/eBreFoPzVarufiFSc0mymXy8zQQi2A3NikN/cCcpDJRwNVH QEhGFcIb9a+16/Qc8TTfcW62/Cdmk5Xoa8kptmox3hmnMsEETy3PLtpRkY7it6HWj2X6/RZqq4B 411pJMCjeRpFsGbqe2VtO+kTEZTJC/l4= X-Google-Smtp-Source: AGHT+IGXrKMJr42JmYCSVTkI4s/l/lk8WH2ySutpoNmPK8BYn7KXbC0yza9BPdrfOSHPpWHpGCP3zHojnxDK X-Received: by 2002:a05:6a00:182a:b0:78a:f6be:74f2 with SMTP id d2e1a72fcca58-7a21f94491dmr3022009b3a.5.1760672138599; Thu, 16 Oct 2025 20:35:38 -0700 (PDT) Received: from postal.iol.unh.edu (postal.iol.unh.edu. [132.177.123.84]) by smtp-relay.gmail.com with ESMTPS id d2e1a72fcca58-79930567c37sm1980730b3a.6.2025.10.16.20.35.38 (version=TLS1_2 cipher=ECDHE-ECDSA-AES128-GCM-SHA256 bits=128/128); Thu, 16 Oct 2025 20:35:38 -0700 (PDT) X-Relaying-Domain: iol.unh.edu Date: Thu, 16 Oct 2025 20:35:38 -0700 (PDT) Message-ID: <68f1b98a.050a0220.1a8e80.134dSMTPIN_ADDED_MISSING@mx.google.com> Received: from [172.21.0.2] (unknown [172.18.0.240]) by postal.iol.unh.edu (Postfix) with ESMTP id 5DBB06051830; Thu, 16 Oct 2025 23:35:37 -0400 (EDT) Subject: |WARNING| [GIT MASTER] 62f583c49bf67dd4d6733ece14e55fe6839e66d1 From: dpdklab@iol.unh.edu To: Test Report Cc: dpdk-test-reports@iol.unh.edu, Xueming Li , Christian Ehrhardt , Kevin Traynor , Luca Boccassi Content-Type: text/plain X-BeenThere: test-report@dpdk.org X-Mailman-Version: 2.1.29 Precedence: list List-Id: automatic DPDK test reports List-Unsubscribe: , List-Archive: List-Post: List-Help: List-Subscribe: , Errors-To: test-report-bounces@dpdk.org _Testing issues_ Branch: tags/v23.11 62f583c49bf67dd4d6733ece14e55fe6839e66d1 --> testing issues Upstream job id: Generic-Unit-Test-DPDK#382030 Test environment and result as below: +------------------------------+----------------+--------------+------------------------------+---------------------------+ | Environment | dpdk_unit_test | lpm_autotest | cryptodev_sw_snow3g_autotest | cryptodev_sw_zuc_autotest | +==============================+================+==============+==============================+===========================+ | CentOS Stream 9 | PASS | SKIPPED | SKIPPED | SKIPPED | +------------------------------+----------------+--------------+------------------------------+---------------------------+ | CentOS Stream 10 | PASS | SKIPPED | SKIPPED | SKIPPED | +------------------------------+----------------+--------------+------------------------------+---------------------------+ | Fedora Linux 40 | PASS | SKIPPED | SKIPPED | SKIPPED | +------------------------------+----------------+--------------+------------------------------+---------------------------+ | Debian GNU/Linux 12 | PASS | SKIPPED | SKIPPED | SKIPPED | +------------------------------+----------------+--------------+------------------------------+---------------------------+ | Fedora Linux 41 | PASS | SKIPPED | SKIPPED | SKIPPED | +------------------------------+----------------+--------------+------------------------------+---------------------------+ | Fedora Linux 42 | PASS | SKIPPED | SKIPPED | SKIPPED | +------------------------------+----------------+--------------+------------------------------+---------------------------+ | Red Hat Enterprise Linux 9.5 | PASS | SKIPPED | SKIPPED | SKIPPED | +------------------------------+----------------+--------------+------------------------------+---------------------------+ | Ubuntu 22.04 | PASS | SKIPPED | SKIPPED | SKIPPED | +------------------------------+----------------+--------------+------------------------------+---------------------------+ | Ubuntu 20.04 | PASS | PASS | SKIPPED | SKIPPED | +------------------------------+----------------+--------------+------------------------------+---------------------------+ | Ubuntu 24.04 | PASS | SKIPPED | SKIPPED | SKIPPED | +------------------------------+----------------+--------------+------------------------------+---------------------------+ | Debian 12 (arm) | SKIPPED | SKIPPED | PASS | PASS | +------------------------------+----------------+--------------+------------------------------+---------------------------+ CentOS Stream 9 Kernel: 5.4 Compiler: gcc gcc (GCC) 11.5.0 20240719 (Red Hat 11.5.0-11) CentOS Stream 10 Kernel: 5.4 Compiler: gcc gcc (GCC) 14.2.1 20250110 (Red Hat 14.2.1-8) Fedora Linux 40 Kernel: 5.4 Compiler: gcc gcc (GCC) 14.2.1 20240912 (Red Hat 14.2.1-3) Debian GNU/Linux 12 Kernel: 5.4 Compiler: gcc gcc (Debian 12.2.0-14+deb12u1) 12.2.0 Fedora Linux 41 Kernel: 5.4 Compiler: gcc gcc (GCC) 14.3.1 20250523 (Red Hat 14.3.1-1) Fedora Linux 42 Kernel: 5.4 Compiler: gcc gcc (GCC) 15.2.1 20250808 (Red Hat 15.2.1-1) Red Hat Enterprise Linux 9.5 Kernel: 5.4 Compiler: gcc gcc (GCC) 11.5.0 20240719 (Red Hat 11.5.0-2) Ubuntu 22.04 Kernel: 5.15 Compiler: gcc gcc (Ubuntu 11.4.0-1ubuntu1~22.04.2) 11.4.0 Ubuntu 20.04 Kernel: 5.4 Compiler: gcc gcc (Ubuntu 9.4.0-1ubuntu1~20.04.2) 9.4.0 Ubuntu 24.04 Kernel: 5.4 Compiler: gcc gcc (Ubuntu 13.3.0-6ubuntu2~24.04) 13.3.0 Debian 12 (arm) Kernel: Depends on container host Compiler: gcc (Debian 12.2.0-14) 12.2.0 To view detailed results, visit: https://lab.dpdk.org/results/dashboard/tarballs/35228/ UNH-IOL DPDK Community Lab To manage your email subscriptions, visit: https://lab.dpdk.org/results/dashboard/preferences/subscriptions/