From mboxrd@z Thu Jan 1 00:00:00 1970 Return-Path: Received: from mails.dpdk.org (mails.dpdk.org [217.70.189.124]) by inbox.dpdk.org (Postfix) with ESMTP id 8EE1448959 for ; Fri, 17 Oct 2025 05:42:32 +0200 (CEST) Received: from mails.dpdk.org (localhost [127.0.0.1]) by mails.dpdk.org (Postfix) with ESMTP id 6449340269; Fri, 17 Oct 2025 05:42:32 +0200 (CEST) Received: from mail-qk1-f227.google.com (mail-qk1-f227.google.com [209.85.222.227]) by mails.dpdk.org (Postfix) with ESMTP id F207F40269 for ; Fri, 17 Oct 2025 05:42:30 +0200 (CEST) Received: by mail-qk1-f227.google.com with SMTP id af79cd13be357-89048f76ec2so134306385a.1 for ; Thu, 16 Oct 2025 20:42:30 -0700 (PDT) DKIM-Signature: v=1; a=rsa-sha256; c=relaxed/relaxed; d=iol.unh.edu; s=unh-iol; t=1760672550; x=1761277350; darn=dpdk.org; h=references:in-reply-to:cc:to:from:subject:message-id:date:from:to :cc:subject:date:message-id:reply-to; bh=3jA8s+n72+rHPOSOioqyUNKelphakq04sQujF1Oa7AY=; b=OeiYQHtV/fYZiw49RgNVu2vvuY4kP1Z/fmfk/XgpTZqZ11EjT7DpbOqMZlOvkGf0zj Xx3JfIU0AYzg5w7sHi22KjePzEpQjin7UZWzX+YEaI9pA6PcN+8jMLxoMZk7bn5IyEF/ snapkJ1mfeUc5U6E8X9Wh4DMCwnamBgzP7Nls= X-Google-DKIM-Signature: v=1; a=rsa-sha256; c=relaxed/relaxed; d=1e100.net; s=20230601; t=1760672550; x=1761277350; h=references:in-reply-to:cc:to:from:subject:message-id:date :x-gm-message-state:from:to:cc:subject:date:message-id:reply-to; bh=3jA8s+n72+rHPOSOioqyUNKelphakq04sQujF1Oa7AY=; b=HT1rRSRgYL9MAd7UY7HblC2QxGY32RU2pTUB9LGKrunMIoMnq1WRhKUrEx/PiHBW0u 1HLNJNHSH0J28OciGYuFV8iDP+dfUIQQ4Qe46ix9+1EAk00XIpfEQ3M80ORwMULXrZvP nKe0JDzZOvfTYifAZ5YjCyzy7hEficbESf9nrzB/fDoZDXvKDJWMxg/iqcAJvqU/FPlo S1cWefQVmxSCvKJVmrbaNOmp0ZaQgadKDd5w6/LJNUhgmJEo4niYbdk5ap0oG+PxIDNo EU/JwaqTclBat35DxrP2yHdENhwskfl9To+TAgI3eKuIY89VUNzSbed6ZzMzvqC/MQTg fjpQ== X-Gm-Message-State: AOJu0YxSJWLPz+9cxmMazSM4da6sxKFuWUZkVnxLXqgR/Vj80jdWsMtU x8AVmdDOxMAI0Bakz6+AoVQJk27mo6QHlQi5JIoHTD+AAq4f7xHZw/5Z3zFSvzLkbLvdNAc4g3H +ajI8X819gvfniVoWU6bfRr0zer42Kv08LEvkE1rWUMLU X-Gm-Gg: ASbGnctBFwRMEQDK+7NSvCC0T8CwE6VKofQebnOxfOjjfcx0UiWCOKAgklFvPS1/3Ay VtvVFqBnTQQphjBCfZjU2hTcTGRAx9XmUpt61pBNvBLAxSVkMBdXsLwCMuq5E0uG7CkhGSPE6XH 3m9JbdM24ojWoJnrbdjVZiZoWHU6OxxO0K9IKGIN8W3NrGRhWoR14qMwPCp8nGcS5DFr1dDQyGw PL3mMENq7tFaHgOkCt+N614pr3mqel2z08fOM+oU53lcfJADIS90J/NuAW6K3DlegiTcwL235iN Dn8GWAbdJ4sXF1DFKRYuPsN23GTPEA8FVqPpbIR8wh0jw9zsgyCOfokB4pKD3/vwwTNHn3HvGqZ xhRgDyIB3f1rEcU4Gm1o3evxeO6o0woU= X-Google-Smtp-Source: AGHT+IFwzUzjbrU14+mkTMOSaWoHY/kAgA+wMXppWH8XoK/HpI6OUKN6Dme/MfW2CIO7C8pbKCmCG4X8ZtYM X-Received: by 2002:ac8:7c49:0:b0:4e7:20a1:45cb with SMTP id d75a77b69052e-4e89d263dd6mr29193061cf.7.1760672550252; Thu, 16 Oct 2025 20:42:30 -0700 (PDT) Received: from postal.iol.unh.edu (postal.iol.unh.edu. [132.177.123.84]) by smtp-relay.gmail.com with ESMTPS id d75a77b69052e-4e881c4e1e9sm1711971cf.4.2025.10.16.20.42.30 (version=TLS1_2 cipher=ECDHE-ECDSA-AES128-GCM-SHA256 bits=128/128); Thu, 16 Oct 2025 20:42:30 -0700 (PDT) X-Relaying-Domain: iol.unh.edu Date: Thu, 16 Oct 2025 20:42:30 -0700 (PDT) Message-ID: <68f1bb26.050a0220.12b01b.9e37SMTPIN_ADDED_MISSING@mx.google.com> Received: from [172.21.0.2] (unknown [172.18.0.240]) by postal.iol.unh.edu (Postfix) with ESMTP id C683B6051830; Thu, 16 Oct 2025 23:42:29 -0400 (EDT) Subject: |WARNING| pw157768-157770 [PATCH] [v2,3/3] net/dpaa2: make total_rx_ From: dpdklab@iol.unh.edu To: Test Report Cc: dpdk-test-reports@iol.unh.edu, Stephen Hemminger In-Reply-To: <20251016220959.15671-4-stephen@networkplumber.org> References: <20251016220959.15671-4-stephen@networkplumber.org> Content-Type: text/plain X-BeenThere: test-report@dpdk.org X-Mailman-Version: 2.1.29 Precedence: list List-Id: automatic DPDK test reports List-Unsubscribe: , List-Archive: List-Post: List-Help: List-Subscribe: , Errors-To: test-report-bounces@dpdk.org Test-Label: iol-compile-amd64-testing Test-Status: WARNING http://dpdk.org/patch/157770 _Testing issues_ Submitter: Stephen Hemminger Date: Thursday, October 16 2025 22:09:03 DPDK git baseline: Repo:dpdk-next-net Branch: master CommitID:6c12368ef1d9b69af2dcf07ac8b502c23860ce90 157768-157770 --> testing issues Upstream job id: Generic-DPDK-Compile-Meson#435168 Test environment and result as below: +---------------------+--------------------+-------------------------+-------------------+----------------------+-------------------+ | Environment | dpdk_meson_compile | dpdk_llvm_clang_compile | dpdk_msvc_compile | dpdk_mingw64_compile | dpdk_compile_spdk | +=====================+====================+=========================+===================+======================+===================+ | Ubuntu 20.04 | PASS | SKIPPED | SKIPPED | SKIPPED | SKIPPED | +---------------------+--------------------+-------------------------+-------------------+----------------------+-------------------+ | FreeBSD 14.2 | PASS | SKIPPED | SKIPPED | SKIPPED | SKIPPED | +---------------------+--------------------+-------------------------+-------------------+----------------------+-------------------+ | CentOS Stream 9 | PEND | SKIPPED | SKIPPED | SKIPPED | PEND | +---------------------+--------------------+-------------------------+-------------------+----------------------+-------------------+ | CentOS Stream 10 | PASS | SKIPPED | SKIPPED | SKIPPED | SKIPPED | +---------------------+--------------------+-------------------------+-------------------+----------------------+-------------------+ | Debian GNU/Linux 12 | PASS | SKIPPED | SKIPPED | SKIPPED | WARN | +---------------------+--------------------+-------------------------+-------------------+----------------------+-------------------+ | Windows Server 2022 | SKIPPED | PASS | PASS | PASS | SKIPPED | +---------------------+--------------------+-------------------------+-------------------+----------------------+-------------------+ ==== 20 line log output for Debian GNU/Linux 12 (dpdk_compile_spdk): ==== --- Failed to get log output --- ==== End log output ==== Ubuntu 20.04 Kernel: 4.19 Compiler: gcc gcc (Ubuntu 9.4.0-1ubuntu1~20.04.2) 9.4.0 FreeBSD 14.2 Kernel: 14.2-RELEASE Compiler: clang 18.1.6 CentOS Stream 9 Kernel: 5.15 Compiler: gcc gcc (GCC) 11.5.0 20240719 (Red Hat 11.5.0-11) CentOS Stream 10 Kernel: 5.15 Compiler: gcc gcc (GCC) 14.2.1 20250110 (Red Hat 14.2.1-8) Debian GNU/Linux 12 Kernel: 5.15 Compiler: gcc gcc (Debian 12.2.0-14+deb12u1) 12.2.0 Windows Server 2022 Kernel: 10.0.20348.2031 Compiler: clang 15.0.7, gcc 14.1.0 (MinGW), and MSVC VS 19.39.33521 To view detailed results, visit: https://lab.dpdk.org/results/dashboard/patchsets/34305/ UNH-IOL DPDK Community Lab To manage your email subscriptions, visit: https://lab.dpdk.org/results/dashboard/preferences/subscriptions/