From mboxrd@z Thu Jan 1 00:00:00 1970 Return-Path: Received: from mails.dpdk.org (mails.dpdk.org [217.70.189.124]) by inbox.dpdk.org (Postfix) with ESMTP id 88BFE4895A for ; Fri, 17 Oct 2025 06:27:30 +0200 (CEST) Received: from mails.dpdk.org (localhost [127.0.0.1]) by mails.dpdk.org (Postfix) with ESMTP id 63C6940269; Fri, 17 Oct 2025 06:27:30 +0200 (CEST) Received: from mail-qv1-f97.google.com (mail-qv1-f97.google.com [209.85.219.97]) by mails.dpdk.org (Postfix) with ESMTP id 9BA8140269 for ; Fri, 17 Oct 2025 06:27:29 +0200 (CEST) Received: by mail-qv1-f97.google.com with SMTP id 6a1803df08f44-87c1ceac7d7so17659266d6.1 for ; Thu, 16 Oct 2025 21:27:29 -0700 (PDT) DKIM-Signature: v=1; a=rsa-sha256; c=relaxed/relaxed; d=iol.unh.edu; s=unh-iol; t=1760675249; x=1761280049; darn=dpdk.org; h=cc:to:from:subject:message-id:date:from:to:cc:subject:date :message-id:reply-to; bh=ECoewDFm5Q/HOmxYBEaSeC0Qlmt1iXaFo5KmMEnSaDw=; b=ZDerq0PHT6MULf5i/VX+VgQfvs06ps7ZHks4Ot1oq2pHi0h0W7UtbfTCGCFgvxmCs3 9Uv7VDtoMSGtVhNPXFeS1MK80vb3nP+6AYsLmwdCDjMM3xy3HtHohlhJtgrj1dt7+J81 HtHXVcQlJnzU3zx97g3bQThNcxZuU//g5DV8s= X-Google-DKIM-Signature: v=1; a=rsa-sha256; c=relaxed/relaxed; d=1e100.net; s=20230601; t=1760675249; x=1761280049; h=cc:to:from:subject:message-id:date:x-gm-message-state:from:to:cc :subject:date:message-id:reply-to; bh=ECoewDFm5Q/HOmxYBEaSeC0Qlmt1iXaFo5KmMEnSaDw=; b=Cd8SwZL7hdYJjw6nYQvdD8clO6tSKV39rem713TXFgS1Agqa7mAiA7L9Vv6lRzpNVZ ajkqXHvDUmeSASu6kS89pkaSTERwTE2o8HLI0ysQKEx9FuBN6Ha8hL2k2hsEj3j2sGxa gUFE0sWXi/lH+iHtOevZH3PFWHICSjbFx9dRHZ9ngQGGEk/3xC1lpsc+mHQ3oniY61C7 VUhEUj/Nu7q57MWtH9d9zj05tPM28lHh1wPsFZVvBZlwzAewo/AxXCofUHd2YFhqGYKg IqBa/fvRhCYvDSFEM/+EJR1B3ZwhLKmSd/tHz2NV0P0+NrMjp38tWr8+wYvYDZFTJXPP yEPQ== X-Gm-Message-State: AOJu0YwrGGO6j6Zj7e1QseW7CvA4NniqJUie5F2bwaiHT3ZNVnzEmF8w /HtJH+LX4vsf5g9c1QWEGlPwEZGwVM7k6KBRki6Qw+7pTA7LA69EIe1mHmCoc4EexIb9TX/VuJR N3lybhx1uqLOnojU4ixvTJkAsV3UtH3V9X6POvssi74Epvvoe8pfU X-Gm-Gg: ASbGncuWq73Jg5qaIWc7dg+0urEx+4Lo9u2BcplhKOIe44jpRTigqXX/sOwfuYgFNNm RJn486qzPBttO9/IJLevPfijoGEa0SQ5zt+mACOOmXH4+K4W2scGrWPOE2qFshbzOl1CvGOLyP1 M2JeHnkaF7Ui/AJlt1t1i/6p/iZ5JU2ZjuGUib3S27Zdxnh/EbINR7iihhAMwlMW4WFI5c8i5u3 TpE+4EHlQUct0sCnhvYP58jKBj4sbqtchVSPK88hpl9RZKCKwHLtkuaDKN2fQ8anNuR+KmCRzru dpY7G4Dj9v4MLE/7eDFfxLGyGPzbeYBKamOsI1SaQ3VV5JCU0d/Ry1d35E/HXPObLpcOy5jBqE9 9aLPFGh7Y X-Google-Smtp-Source: AGHT+IHqu49tyW/zxXsCiKJOiQAC58IpiBAZxUPRPjRXjvG/9NWKg0WvqtkrKyYrxLyt5DXlCk6IrZRKrmPI X-Received: by 2002:a05:6214:f2a:b0:7e9:bba6:511c with SMTP id 6a1803df08f44-87c20545675mr31893066d6.5.1760675248974; Thu, 16 Oct 2025 21:27:28 -0700 (PDT) Received: from postal.iol.unh.edu (postal.iol.unh.edu. [2606:4100:3880:1234::84]) by smtp-relay.gmail.com with ESMTPS id 6a1803df08f44-87c0129f706sm6433286d6.27.2025.10.16.21.27.28 (version=TLS1_2 cipher=ECDHE-ECDSA-AES128-GCM-SHA256 bits=128/128); Thu, 16 Oct 2025 21:27:28 -0700 (PDT) X-Relaying-Domain: iol.unh.edu Date: Thu, 16 Oct 2025 21:27:28 -0700 (PDT) Message-ID: <68f1c5b0.050a0220.24d8ed.15edSMTPIN_ADDED_MISSING@mx.google.com> Received: from [172.21.0.2] (unknown [172.18.0.240]) by postal.iol.unh.edu (Postfix) with ESMTP id 9E3F96051830; Fri, 17 Oct 2025 00:27:28 -0400 (EDT) Subject: |SUCCESS| [GIT MASTER] 3b43ce3f4a54468e7ef65760c2fd7b4d6ee6d9fc From: dpdklab@iol.unh.edu To: Test Report Cc: dpdk-test-reports@iol.unh.edu, Xueming Li , Christian Ehrhardt , Kevin Traynor , Luca Boccassi Content-Type: text/plain X-BeenThere: test-report@dpdk.org X-Mailman-Version: 2.1.29 Precedence: list List-Id: automatic DPDK test reports List-Unsubscribe: , List-Archive: List-Post: List-Help: List-Subscribe: , Errors-To: test-report-bounces@dpdk.org _Testing PASS_ Branch: tags/v22.11 3b43ce3f4a54468e7ef65760c2fd7b4d6ee6d9fc --> testing pass Upstream job id: Generic-VM-DPDK-Compile-Meson#39057 Test environment and result as below: +---------------------+--------------------+-------------------------+----------------------+ | Environment | dpdk_meson_compile | dpdk_llvm_clang_compile | dpdk_mingw64_compile | +=====================+====================+=========================+======================+ | FreeBSD 14.2 | PASS | SKIPPED | SKIPPED | +---------------------+--------------------+-------------------------+----------------------+ | Ubuntu 20.04 | PASS | SKIPPED | SKIPPED | +---------------------+--------------------+-------------------------+----------------------+ | Windows Server 2022 | SKIPPED | PASS | PASS | +---------------------+--------------------+-------------------------+----------------------+ FreeBSD 14.2 Kernel: 14.2-RELEASE Compiler: clang 18.1.6 Ubuntu 20.04 Kernel: 4.19 Compiler: gcc gcc (Ubuntu 9.4.0-1ubuntu1~20.04.2) 9.4.0 Windows Server 2022 Kernel: 10.0.20348.2031 Compiler: clang 15.0.7, gcc 14.1.0 (MinGW), and MSVC VS 19.39.33521 To view detailed results, visit: https://lab.dpdk.org/results/dashboard/tarballs/35243/ UNH-IOL DPDK Community Lab To manage your email subscriptions, visit: https://lab.dpdk.org/results/dashboard/preferences/subscriptions/