From mboxrd@z Thu Jan 1 00:00:00 1970 Return-Path: Received: from mails.dpdk.org (mails.dpdk.org [217.70.189.124]) by inbox.dpdk.org (Postfix) with ESMTP id 988384895A for ; Fri, 17 Oct 2025 06:28:22 +0200 (CEST) Received: from mails.dpdk.org (localhost [127.0.0.1]) by mails.dpdk.org (Postfix) with ESMTP id 9404B40269; Fri, 17 Oct 2025 06:28:22 +0200 (CEST) Received: from mail-io1-f100.google.com (mail-io1-f100.google.com [209.85.166.100]) by mails.dpdk.org (Postfix) with ESMTP id 8D83E40269 for ; Fri, 17 Oct 2025 06:28:16 +0200 (CEST) Received: by mail-io1-f100.google.com with SMTP id ca18e2360f4ac-91f6ccdbfc8so71898039f.1 for ; Thu, 16 Oct 2025 21:28:16 -0700 (PDT) DKIM-Signature: v=1; a=rsa-sha256; c=relaxed/relaxed; d=iol.unh.edu; s=unh-iol; t=1760675296; x=1761280096; darn=dpdk.org; h=cc:to:from:subject:message-id:date:from:to:cc:subject:date :message-id:reply-to; bh=3+BzinEF2NLFuNbut1ue3Q2PP/HCVgtrbgCPQubk2nI=; b=LRkTkXrJVkoI0L70eyNoKCRFxK3s1szNLnyserxSHHZWxwPB9hosFzKuNUcf9h3Q7+ yZjzAvKzd9KXx/P/hpkic4yqoQ0d+AwRba5U1x4pI2OWKvrhoJ3LT9NF3xpq+i3E0SYb ue1IOIyj+Vj0ezo/kBSli2f1ONHr6JRGrODVs= X-Google-DKIM-Signature: v=1; a=rsa-sha256; c=relaxed/relaxed; d=1e100.net; s=20230601; t=1760675296; x=1761280096; h=cc:to:from:subject:message-id:date:x-gm-message-state:from:to:cc :subject:date:message-id:reply-to; bh=3+BzinEF2NLFuNbut1ue3Q2PP/HCVgtrbgCPQubk2nI=; b=PnfQdsGhNLPdDDIaaMgTPFVPJ+gLOqcSxRiKRbFOMfyrxeNlgAfzDLteVICs2pTx5o 2M7bQo062gfISZbNIQw6wxHWPkar/OhZgialXE0rOf15on9D+H+qse9OrxYy7WoWKpLH QLaUAhEg1iIuBFgn/ve5u4YnnIbgA8QL/Z5MFFrEhDKvLQBOMKDeUs84hTUPA/wzEhE1 U0vvbfiI/r5+TznojBWFlokEatu+96nlOLXgvHQWQnNXnH3IoWM3l8EIm1ExrsN5SHOU UGYzXYX7wGBkZGN/V4aEwn9az1peG09bvn3GD1wd3Qa8vvxzJUnOn6lD/VAoNbQlq2Jc ckGg== X-Gm-Message-State: AOJu0YzhuVJajEc05tgd+T5yUzBj7ppXCa+7FwBUWKO06csaXiAyPsk7 uNFSKL38ueRjuaZ6nWRJmak8LdTOzc8ZJGWAcFnQAm1NP/Qbet/534NwT9nhBi5ebEvGQC7RkR5 oinfE2Ia67C2j/352Ky0bgVSi3TOdar/pyCHFwlDvQEPt531dn9AA X-Gm-Gg: ASbGnculFi3sbf+n3foImqAjXRiWOFAsMC+FVyDuiEakJqEv0+97Q2CIHfs4vPuEXcu 3vlPwXeL634N+VeqpApYPSyUdC9YUzOfRxPeyVmoHjQqMotIt49o9U1atjZTDKqZkFVMo3+ehtA SXB/lP6f2x9ikQO2PeFw73qXfA6uQQz83jn3Rkmc5PB3kP7V31LDJxnwofSDcmoGYRM/3s247Md bMwu3t6FNoc0G5sdVKJ5cslZEUUnxZwrhAtEeGMAs9u+ZwPWoCjJBRiFGoDjDinYYImcIn1/hrV gm1B6pLzrsLn1FnPdCRhCgflfl1OKsC4XOmnBO+7MniXSnXrmUwlw0MlYWgxUVY1DxDe5jIb/W8 iadeAjm8q X-Google-Smtp-Source: AGHT+IHWyEjXxVYgiT/r6nJoX9ZA5hNerD7fNk8r417tubha0gS0JhlD40xPwGowIQEW30Vg9FvxwaKB+hoi X-Received: by 2002:a05:6602:148b:b0:887:62d2:4622 with SMTP id ca18e2360f4ac-93e763e99admr361828639f.11.1760675295878; Thu, 16 Oct 2025 21:28:15 -0700 (PDT) Received: from postal.iol.unh.edu (postal.iol.unh.edu. [2606:4100:3880:1234::84]) by smtp-relay.gmail.com with ESMTPS id 8926c6da1cb9f-5a76f533e69sm122918173.5.2025.10.16.21.28.15 (version=TLS1_2 cipher=ECDHE-ECDSA-AES128-GCM-SHA256 bits=128/128); Thu, 16 Oct 2025 21:28:15 -0700 (PDT) X-Relaying-Domain: iol.unh.edu Date: Thu, 16 Oct 2025 21:28:15 -0700 (PDT) Message-ID: <68f1c5df.050a0220.2606f9.6815SMTPIN_ADDED_MISSING@mx.google.com> Received: from [172.21.0.2] (unknown [172.18.0.240]) by postal.iol.unh.edu (Postfix) with ESMTP id 74B566051830; Fri, 17 Oct 2025 00:28:15 -0400 (EDT) Subject: |SUCCESS| [GIT MASTER] b287e404643aeab5bb5db084c142789df187844e From: dpdklab@iol.unh.edu To: Test Report Cc: dpdk-test-reports@iol.unh.edu, Xueming Li , Christian Ehrhardt , Kevin Traynor , Luca Boccassi Content-Type: text/plain X-BeenThere: test-report@dpdk.org X-Mailman-Version: 2.1.29 Precedence: list List-Id: automatic DPDK test reports List-Unsubscribe: , List-Archive: List-Post: List-Help: List-Subscribe: , Errors-To: test-report-bounces@dpdk.org _Testing PASS_ Branch: tags/v24.11 b287e404643aeab5bb5db084c142789df187844e --> testing pass Upstream job id: Windows-Compile-DPDK-Native#31695 Test environment and result as below: +---------------------+--------------------+-------------------+-------------------------+ | Environment | dpdk_meson_compile | dpdk_msvc_compile | dpdk_llvm_clang_compile | +=====================+====================+===================+=========================+ | FreeBSD 14.2 | PASS | SKIPPED | SKIPPED | +---------------------+--------------------+-------------------+-------------------------+ | Ubuntu 20.04 | PASS | SKIPPED | SKIPPED | +---------------------+--------------------+-------------------+-------------------------+ | Windows Server 2022 | SKIPPED | PASS | PASS | +---------------------+--------------------+-------------------+-------------------------+ FreeBSD 14.2 Kernel: 14.2-RELEASE Compiler: clang 18.1.6 Ubuntu 20.04 Kernel: 4.19 Compiler: gcc gcc (Ubuntu 9.4.0-1ubuntu1~20.04.2) 9.4.0 Windows Server 2022 Kernel: 10.0.20348.2031 Compiler: clang 15.0.7, gcc 14.1.0 (MinGW), and MSVC VS 19.39.33521 To view detailed results, visit: https://lab.dpdk.org/results/dashboard/tarballs/35245/ UNH-IOL DPDK Community Lab To manage your email subscriptions, visit: https://lab.dpdk.org/results/dashboard/preferences/subscriptions/