From mboxrd@z Thu Jan 1 00:00:00 1970 Return-Path: Received: from mails.dpdk.org (mails.dpdk.org [217.70.189.124]) by inbox.dpdk.org (Postfix) with ESMTP id 0F18F4895A for ; Fri, 17 Oct 2025 06:30:36 +0200 (CEST) Received: from mails.dpdk.org (localhost [127.0.0.1]) by mails.dpdk.org (Postfix) with ESMTP id 086BD40269; Fri, 17 Oct 2025 06:30:36 +0200 (CEST) Received: from mail-pj1-f97.google.com (mail-pj1-f97.google.com [209.85.216.97]) by mails.dpdk.org (Postfix) with ESMTP id EF5E040269 for ; Fri, 17 Oct 2025 06:30:33 +0200 (CEST) Received: by mail-pj1-f97.google.com with SMTP id 98e67ed59e1d1-33067909400so1161721a91.2 for ; Thu, 16 Oct 2025 21:30:33 -0700 (PDT) DKIM-Signature: v=1; a=rsa-sha256; c=relaxed/relaxed; d=iol.unh.edu; s=unh-iol; t=1760675433; x=1761280233; darn=dpdk.org; h=cc:to:from:subject:message-id:date:from:to:cc:subject:date :message-id:reply-to; bh=lDIdEmQXljLZ557aYrPlEulTX2xtrAnopVAHXAc3nLs=; b=dwyqmYY8UMBTi6F630bKC5qZjNweJr2WJWbDNkPlgSwFrVBrNy/cESID4Vku5Ufi6V AZNzYJrQgOHjJltIxOVyBvVKdIunMAIC31HhVCDApOKBFiOqVQPdS4tRdvy2Ptvs9qQY M9uog6a/KDnfXas8j/Sac5PiQhqG21j3uN9fA= X-Google-DKIM-Signature: v=1; a=rsa-sha256; c=relaxed/relaxed; d=1e100.net; s=20230601; t=1760675433; x=1761280233; h=cc:to:from:subject:message-id:date:x-gm-message-state:from:to:cc :subject:date:message-id:reply-to; bh=lDIdEmQXljLZ557aYrPlEulTX2xtrAnopVAHXAc3nLs=; b=wU2vg7HehcPO+tOeI/9axxHX/9c5PivgWaqgPZp7oVc5qLCjUFD1tusLzYD7EBaX/W CCeQgQVNCFhwFPAfH3aSd2da7JwgKO7E7mQJj5kt1Wy3mR+vJOaQuewvnucr60o9BDpI ts/nvuwDQjEyzFJMY9NQgAGgulpZu5fXUvrG+jFmuhrAlU/9Po9zFY4bo1peqDH2f7b6 EZLWsOFiecbaBqbBKQTtxX96q4UIrx9k5UzljX/CVfi+rCw/lUz15OUMt/V/pl/cWHOz vzSc9HADsO9UuuNP9K7qgo0vylAeyV21+TWN6Xv6QRc3CE2/iEReBDMK+5hlYF8kk/Dp oS/Q== X-Gm-Message-State: AOJu0Yz4OmkUNkAlVdZ5XwSG1x+F7H/hNE+OtoN845/8z2BMdtLukrpl Xkk5/ONHvtYVInmRjHxlWw4HH0U2r/TinjddYJ8JAylhWcYm3Es3ba6cIJfEWEpYnYH79nfquIL pQHklEHCWPMCA8P9hT5YdxCt8F7/8xTjvwVci X-Gm-Gg: ASbGncuhLonVSPAUqhbKzevhb6TnZNvpg7SojBYvXwt/gymw37IHjIc7UYZ0+CHLREs DQhg5WAQ0TQvp6FhA8pNeYtgJPajeo97hVlB89Fa+ZmX4D/XQOwDR9M4zQIX39iLUYLUFK2lEZn hvaMRvlzt/tlGmxuQQWkBB5uQckW61Qw99pEXI34O/xlYtV26DcaGVEzCF0S151jHA1p2PPPx2u Hsx3g5dVKX0Q5MgKKKjtWojmstgFn+YQ6y3gdpG1xDzjt0ZbwBCb+4GzMSfa5JgxXzqedO7ptyB /cuVsQgSSjaR/XBP0O0E0yCbgEcpRZowgMK4gg/Xky8BB7Bmg5XL2hnRD2rHqzBMCYIJCkB6y68 /vs6LFrtUrp69rfzDWovp761NxO3MOnA= X-Google-Smtp-Source: AGHT+IFd+cZgPZgZo6jDKRe9rwAqhCyyfqIz9IdYhipAcA7VYbMLTCHYJuw+FLHlBAoKuQIp6DqGkzZSWkLV X-Received: by 2002:a17:90b:2d06:b0:336:b563:993f with SMTP id 98e67ed59e1d1-33bcf9486cemr2255044a91.34.1760675433123; Thu, 16 Oct 2025 21:30:33 -0700 (PDT) Received: from postal.iol.unh.edu (postal.iol.unh.edu. [132.177.123.84]) by smtp-relay.gmail.com with ESMTPS id 98e67ed59e1d1-33bd7b927fdsm163405a91.7.2025.10.16.21.30.33 (version=TLS1_2 cipher=ECDHE-ECDSA-AES128-GCM-SHA256 bits=128/128); Thu, 16 Oct 2025 21:30:33 -0700 (PDT) X-Relaying-Domain: iol.unh.edu Date: Thu, 16 Oct 2025 21:30:33 -0700 (PDT) Message-ID: <68f1c669.170a0220.15537d.8cd3SMTPIN_ADDED_MISSING@mx.google.com> Received: from [172.21.0.3] (unknown [172.18.0.240]) by postal.iol.unh.edu (Postfix) with ESMTP id 69DE56051830; Fri, 17 Oct 2025 00:30:32 -0400 (EDT) Subject: |SUCCESS| [GIT MASTER] b287e404643aeab5bb5db084c142789df187844e From: dpdklab@iol.unh.edu To: Test Report Cc: dpdk-test-reports@iol.unh.edu, Xueming Li , Christian Ehrhardt , Kevin Traynor , Luca Boccassi Content-Type: text/plain X-BeenThere: test-report@dpdk.org X-Mailman-Version: 2.1.29 Precedence: list List-Id: automatic DPDK test reports List-Unsubscribe: , List-Archive: List-Post: List-Help: List-Subscribe: , Errors-To: test-report-bounces@dpdk.org _Testing PASS_ Branch: tags/v24.11 b287e404643aeab5bb5db084c142789df187844e --> testing pass Upstream job id: Windows-Compile-DPDK-Native#31696 Test environment and result as below: +---------------------+--------------------+-------------------+-------------------------+----------------------+ | Environment | dpdk_meson_compile | dpdk_msvc_compile | dpdk_llvm_clang_compile | dpdk_mingw64_compile | +=====================+====================+===================+=========================+======================+ | FreeBSD 14.2 | PASS | SKIPPED | SKIPPED | SKIPPED | +---------------------+--------------------+-------------------+-------------------------+----------------------+ | Ubuntu 20.04 | PASS | SKIPPED | SKIPPED | SKIPPED | +---------------------+--------------------+-------------------+-------------------------+----------------------+ | Windows Server 2022 | SKIPPED | PASS | PASS | PASS | +---------------------+--------------------+-------------------+-------------------------+----------------------+ FreeBSD 14.2 Kernel: 14.2-RELEASE Compiler: clang 18.1.6 Ubuntu 20.04 Kernel: 4.19 Compiler: gcc gcc (Ubuntu 9.4.0-1ubuntu1~20.04.2) 9.4.0 Windows Server 2022 Kernel: 10.0.20348.2031 Compiler: clang 15.0.7, gcc 14.1.0 (MinGW), and MSVC VS 19.39.33521 To view detailed results, visit: https://lab.dpdk.org/results/dashboard/tarballs/35245/ UNH-IOL DPDK Community Lab To manage your email subscriptions, visit: https://lab.dpdk.org/results/dashboard/preferences/subscriptions/