From mboxrd@z Thu Jan 1 00:00:00 1970 Return-Path: Received: from mails.dpdk.org (mails.dpdk.org [217.70.189.124]) by inbox.dpdk.org (Postfix) with ESMTP id F27964895A for ; Fri, 17 Oct 2025 06:47:17 +0200 (CEST) Received: from mails.dpdk.org (localhost [127.0.0.1]) by mails.dpdk.org (Postfix) with ESMTP id EE02040DD7; Fri, 17 Oct 2025 06:47:17 +0200 (CEST) Received: from mail-io1-f98.google.com (mail-io1-f98.google.com [209.85.166.98]) by mails.dpdk.org (Postfix) with ESMTP id 6F97240DD7 for ; Fri, 17 Oct 2025 06:47:17 +0200 (CEST) Received: by mail-io1-f98.google.com with SMTP id ca18e2360f4ac-9194a0241aaso65231639f.3 for ; Thu, 16 Oct 2025 21:47:17 -0700 (PDT) DKIM-Signature: v=1; a=rsa-sha256; c=relaxed/relaxed; d=iol.unh.edu; s=unh-iol; t=1760676437; x=1761281237; darn=dpdk.org; h=references:in-reply-to:cc:to:from:subject:message-id:date:from:to :cc:subject:date:message-id:reply-to; bh=0gEPXNkedMUe+mZHUyU87CGI5tBr3chzNmCIND27nRE=; b=jd2O1LuFPmk2PzjnZftlFtJ4wSyAL4cd+3awjl46y+PMJJrVtgWMYFHM7HcUQrJi38 RF/nPipQ9vuBdJe5ryuj5bMmBwhx6V+hB7CfT9GTgj2J18lUdzvXk7Vv08e4ZCdfcD8W 38Pasp5zSRkWVxDFfdG63ZRO02Eb5uSG/FPME= X-Google-DKIM-Signature: v=1; a=rsa-sha256; c=relaxed/relaxed; d=1e100.net; s=20230601; t=1760676437; x=1761281237; h=references:in-reply-to:cc:to:from:subject:message-id:date :x-gm-message-state:from:to:cc:subject:date:message-id:reply-to; bh=0gEPXNkedMUe+mZHUyU87CGI5tBr3chzNmCIND27nRE=; b=TMPgbJcTnV5cxNkkyEvb94ildweKtAZ1encNq27eIPSoZJWSHPW2uXxNScKZr71Le2 OZ6699DcAh4LDDyhX8PHMi5xfbyoKvVHQfF1eg/pAvdeT7YIo7pRwMggYwy8TaKBNk/g p/JjltxunAIjDOL98Y5axnv2VH7XqTCBguZalTPOmjG8EEunD9mEzMt59dv6rlC0iJmX gW/3Vl12GVYECLrZ702Sf6OZCAC2uZkuCKgHmVUJ/8n4d5fgxDPJeHNmaD38ZXCETCHA vcX0qAYqToC6kGF0cbingeqrehlhUPXP89JskLaV4kDC4pNGpXSr3+SI6DtTk4GT1J2l g96w== X-Gm-Message-State: AOJu0YwVoPuVpttrL2V82UH4r9qnMUcGFN87KL/mSdXTNbox/CzsL2aA 7HIDqW0xlbQ8qknEw9u1vsyU1ALsLb58OTJHJEN4uaQqBn7Rl6D7B+wHTY0SCidv1xl/9Y34Gjy yFGzjY6Z+iXK8rSruKQYzmkCspl5P2vDSfkZ9XJEytW8C9R4X6cw5hdOVakmL X-Gm-Gg: ASbGncs9GTXvKxfGungxRvuRiMwwwj+iCSDLf5/jLouHIgS0hCZSspnUu91Ml0aShic JOfzvHYbmLVD504YDVf3DQZVbidTXbGlL7hw5u86VxnwQaxQgyHqbZis4ujBfPjv6GYvPZxO/Rs w6l6a8otxbpJZ3AjgNh35XQXclpNCa2nchu8mY4zTtU9xIR96zC1FK8MK7QCibQ8fjuEr9/ekLX aOkq/O8gs4AeV162F20EPhh1Mq9LPdooWVw6daD6PwduHinB+hlBVrukaINcoVd9+XUNknXfha7 VWRJxhC1pr9PdmXidAE62xG2UNLZOTWqVVwXOCKRTY0rFCAaTh98dBPiKxJtDdQOaVPyDLKvRLi qIqAfRW/A X-Google-Smtp-Source: AGHT+IEYBvmGtQO+7VHU3CVpIAh8+qWLdWsoLCeeBFgyUTXM4osoYuRq6UW4U7x7TEdDZiJes96ga6fDF13t X-Received: by 2002:a05:6e02:144e:b0:430:a793:88d6 with SMTP id e9e14a558f8ab-430c5220205mr37304005ab.13.1760676436723; Thu, 16 Oct 2025 21:47:16 -0700 (PDT) Received: from postal.iol.unh.edu (postal.iol.unh.edu. [2606:4100:3880:1234::84]) by smtp-relay.gmail.com with ESMTPS id 8926c6da1cb9f-5a76f705e81sm126391173.20.2025.10.16.21.47.16 (version=TLS1_2 cipher=ECDHE-ECDSA-AES128-GCM-SHA256 bits=128/128); Thu, 16 Oct 2025 21:47:16 -0700 (PDT) X-Relaying-Domain: iol.unh.edu Date: Thu, 16 Oct 2025 21:47:16 -0700 (PDT) Message-ID: <68f1ca54.050a0220.136a8a.69d0SMTPIN_ADDED_MISSING@mx.google.com> Received: from [172.21.0.2] (unknown [172.18.0.240]) by postal.iol.unh.edu (Postfix) with ESMTP id 49A896051830; Fri, 17 Oct 2025 00:47:16 -0400 (EDT) Subject: |WARNING| pw157768-157770 [PATCH] [v2,3/3] net/dpaa2: make total_rx_ From: dpdklab@iol.unh.edu To: Test Report Cc: dpdk-test-reports@iol.unh.edu, Stephen Hemminger In-Reply-To: <20251016220959.15671-4-stephen@networkplumber.org> References: <20251016220959.15671-4-stephen@networkplumber.org> Content-Type: text/plain X-BeenThere: test-report@dpdk.org X-Mailman-Version: 2.1.29 Precedence: list List-Id: automatic DPDK test reports List-Unsubscribe: , List-Archive: List-Post: List-Help: List-Subscribe: , Errors-To: test-report-bounces@dpdk.org Test-Label: iol-compile-amd64-testing Test-Status: WARNING http://dpdk.org/patch/157770 _Testing issues_ Submitter: Stephen Hemminger Date: Thursday, October 16 2025 22:09:03 DPDK git baseline: Repo:dpdk-next-net Branch: master CommitID:6c12368ef1d9b69af2dcf07ac8b502c23860ce90 157768-157770 --> testing issues Upstream job id: Generic-DPDK-Compile-Meson#435177 Test environment and result as below: +-------------------------------+--------------------+-------------------------+-------------------+----------------------+-------------------+------------------+ | Environment | dpdk_meson_compile | dpdk_llvm_clang_compile | dpdk_msvc_compile | dpdk_mingw64_compile | dpdk_compile_spdk | dpdk_compile_ovs | +===============================+====================+=========================+===================+======================+===================+==================+ | Ubuntu 20.04 | PASS | SKIPPED | SKIPPED | SKIPPED | SKIPPED | SKIPPED | +-------------------------------+--------------------+-------------------------+-------------------+----------------------+-------------------+------------------+ | FreeBSD 14.2 | PASS | SKIPPED | SKIPPED | SKIPPED | SKIPPED | SKIPPED | +-------------------------------+--------------------+-------------------------+-------------------+----------------------+-------------------+------------------+ | CentOS Stream 9 | PASS | SKIPPED | SKIPPED | SKIPPED | WARN | SKIPPED | +-------------------------------+--------------------+-------------------------+-------------------+----------------------+-------------------+------------------+ | CentOS Stream 10 | PASS | SKIPPED | SKIPPED | SKIPPED | SKIPPED | SKIPPED | +-------------------------------+--------------------+-------------------------+-------------------+----------------------+-------------------+------------------+ | Debian GNU/Linux 12 | PASS | SKIPPED | SKIPPED | SKIPPED | WARN | SKIPPED | +-------------------------------+--------------------+-------------------------+-------------------+----------------------+-------------------+------------------+ | Fedora Linux 42 | PASS | SKIPPED | SKIPPED | SKIPPED | WARN | PASS | +-------------------------------+--------------------+-------------------------+-------------------+----------------------+-------------------+------------------+ | openSUSE Leap 15.6 | PASS | SKIPPED | SKIPPED | SKIPPED | SKIPPED | SKIPPED | +-------------------------------+--------------------+-------------------------+-------------------+----------------------+-------------------+------------------+ | Red Hat Enterprise Linux 8.10 | PASS | SKIPPED | SKIPPED | SKIPPED | SKIPPED | SKIPPED | +-------------------------------+--------------------+-------------------------+-------------------+----------------------+-------------------+------------------+ | Red Hat Enterprise Linux 9.5 | PASS | SKIPPED | SKIPPED | SKIPPED | SKIPPED | SKIPPED | +-------------------------------+--------------------+-------------------------+-------------------+----------------------+-------------------+------------------+ | Ubuntu 22.04 | PASS | SKIPPED | SKIPPED | SKIPPED | WARN | SKIPPED | +-------------------------------+--------------------+-------------------------+-------------------+----------------------+-------------------+------------------+ | Ubuntu 24.04 | PASS | SKIPPED | SKIPPED | SKIPPED | WARN | PASS | +-------------------------------+--------------------+-------------------------+-------------------+----------------------+-------------------+------------------+ | Alpine Linux 3.22.0 | PASS | SKIPPED | SKIPPED | SKIPPED | SKIPPED | SKIPPED | +-------------------------------+--------------------+-------------------------+-------------------+----------------------+-------------------+------------------+ | Windows Server 2022 | SKIPPED | PASS | PASS | PASS | SKIPPED | SKIPPED | +-------------------------------+--------------------+-------------------------+-------------------+----------------------+-------------------+------------------+ ==== 20 line log output for Ubuntu 24.04 (dpdk_compile_spdk): ==== --- Failed to get log output --- ==== End log output ==== Ubuntu 20.04 Kernel: 4.19 Compiler: gcc gcc (Ubuntu 9.4.0-1ubuntu1~20.04.2) 9.4.0 FreeBSD 14.2 Kernel: 14.2-RELEASE Compiler: clang 18.1.6 CentOS Stream 9 Kernel: 5.15 Compiler: gcc gcc (GCC) 11.5.0 20240719 (Red Hat 11.5.0-11) CentOS Stream 10 Kernel: 5.15 Compiler: gcc gcc (GCC) 14.2.1 20250110 (Red Hat 14.2.1-8) Debian GNU/Linux 12 Kernel: 5.15 Compiler: gcc gcc (Debian 12.2.0-14+deb12u1) 12.2.0 Fedora Linux 42 Kernel: 5.15 Compiler: clang gcc (GCC) 15.2.1 20250808 (Red Hat 15.2.1-1) openSUSE Leap 15.6 Kernel: 5.15 Compiler: gcc gcc (SUSE Linux) 7.5.0 Red Hat Enterprise Linux 8.10 Kernel: 5.15 Compiler: gcc gcc (GCC) 8.5.0 20210514 (Red Hat 8.5.0-22) Red Hat Enterprise Linux 9.5 Kernel: 5.15 Compiler: gcc gcc (GCC) 11.5.0 20240719 (Red Hat 11.5.0-2) Ubuntu 22.04 Kernel: 5.15 Compiler: gcc gcc (Ubuntu 11.4.0-1ubuntu1~22.04) 11.4.0 Ubuntu 24.04 Kernel: 5.15 Compiler: gcc gcc (Ubuntu 13.3.0-6ubuntu2~24.04) 13.3.0 Alpine Linux 3.22.0 Kernel: 5.15 Compiler: gcc gcc (Alpine 14.2.0) 14.2.0 Windows Server 2022 Kernel: 10.0.20348.2031 Compiler: clang 15.0.7, gcc 14.1.0 (MinGW), and MSVC VS 19.39.33521 To view detailed results, visit: https://lab.dpdk.org/results/dashboard/patchsets/34305/ UNH-IOL DPDK Community Lab To manage your email subscriptions, visit: https://lab.dpdk.org/results/dashboard/preferences/subscriptions/