automatic DPDK test reports
 help / color / mirror / Atom feed
From: dpdklab@iol.unh.edu
To: Test Report <test-report@dpdk.org>
Cc: dpdk-test-reports@iol.unh.edu,
	Stephen Hemminger <stephen@networkplumber.org>
Subject: |SUCCESS| pw157778-157782 [PATCH] [v5,6/6] net/dpaa: fix resource le
Date: Thu, 16 Oct 2025 22:54:57 -0700 (PDT)	[thread overview]
Message-ID: <68f1da31.170a0220.1c028a.3b6dSMTPIN_ADDED_MISSING@mx.google.com> (raw)
In-Reply-To: <20251017044848.3269627-7-g.singh@nxp.com>

Test-Label: iol-sample-apps-testing
Test-Status: SUCCESS
http://dpdk.org/patch/157782

_Testing PASS_

Submitter: Gagandeep Singh <g.singh@nxp.com>
Date: Friday, October 17 2025 04:48:48 
DPDK git baseline: Repo:dpdk-next-net
  Branch: master
  CommitID:535c49b6264f1df239703b8250b070e4c4cda2e9

157778-157782 --> testing pass

Upstream job id: ACVP-FIPS-testing#11462

Test environment and result as below:

+--------------+----------------------+----------------------+
| Environment  | compressdev_zlib_pmd | dpdk_fips_validation |
+==============+======================+======================+
| Ubuntu 22.04 | PASS                 | SKIPPED              |
+--------------+----------------------+----------------------+
| Ubuntu 20.04 | SKIPPED              | PASS                 |
+--------------+----------------------+----------------------+


Ubuntu 22.04
	Kernel: 5.15
	Compiler: gcc gcc (Ubuntu 11.4.0-1ubuntu1~22.04.2) 11.4.0

Ubuntu 20.04
	Kernel: 5.15
	Compiler: gcc gcc (Ubuntu 9.4.0-1ubuntu1~20.04.2) 9.4.0

To view detailed results, visit:
https://lab.dpdk.org/results/dashboard/patchsets/34306/

UNH-IOL DPDK Community Lab

To manage your email subscriptions, visit: 
https://lab.dpdk.org/results/dashboard/preferences/subscriptions/

  parent reply	other threads:[~2025-10-17  5:55 UTC|newest]

Thread overview: 26+ messages / expand[flat|nested]  mbox.gz  Atom feed  top
     [not found] <20251017044848.3269627-7-g.singh@nxp.com>
2025-10-17  4:27 ` |SUCCESS| pw157778-157782 [PATCH v5 6/6] net/dpaa: fix resource leak coverity issue qemudev
2025-10-17  4:32 ` qemudev
2025-10-17  4:50 ` |SUCCESS| pw157782 " checkpatch
2025-10-17  5:14 ` |PENDING| pw157778-157782 [PATCH] [v5,6/6] net/dpaa: fix resource le dpdklab
2025-10-17  5:18 ` |SUCCESS| " dpdklab
2025-10-17  5:23 ` dpdklab
2025-10-17  5:26 ` dpdklab
2025-10-17  5:36 ` dpdklab
2025-10-17  5:45 ` dpdklab
2025-10-17  5:51 ` |PENDING| " dpdklab
2025-10-17  5:52 ` |SUCCESS| " dpdklab
2025-10-17  5:54 ` dpdklab [this message]
2025-10-17  6:01 ` |PENDING| " dpdklab
2025-10-17  6:03 ` |SUCCESS| " dpdklab
2025-10-17  6:24 ` |SUCCESS| pw157782 [PATCH v5 6/6] net/dpaa: fix resource leak coverity issue 0-day Robot
2025-10-17  6:24 ` 0-day Robot
2025-10-17  6:53 ` |SUCCESS| pw157778-157782 [PATCH] [v5,6/6] net/dpaa: fix resource le dpdklab
2025-10-17  6:57 ` dpdklab
2025-10-17  7:40 ` dpdklab
2025-10-17  8:02 ` dpdklab
2025-10-17 12:06 ` |PENDING| " dpdklab
2025-10-17 12:12 ` |WARNING| " dpdklab
2025-10-17 13:05 ` dpdklab
2025-10-17 21:04 ` |SUCCESS| " dpdklab
2025-10-17 21:24 ` dpdklab
2025-10-18  4:15 ` dpdklab

Reply instructions:

You may reply publicly to this message via plain-text email
using any one of the following methods:

* Save the following mbox file, import it into your mail client,
  and reply-to-all from there: mbox

  Avoid top-posting and favor interleaved quoting:
  https://en.wikipedia.org/wiki/Posting_style#Interleaved_style

* Reply using the --to, --cc, and --in-reply-to
  switches of git-send-email(1):

  git send-email \
    --in-reply-to=68f1da31.170a0220.1c028a.3b6dSMTPIN_ADDED_MISSING@mx.google.com \
    --to=dpdklab@iol.unh.edu \
    --cc=dpdk-test-reports@iol.unh.edu \
    --cc=stephen@networkplumber.org \
    --cc=test-report@dpdk.org \
    /path/to/YOUR_REPLY

  https://kernel.org/pub/software/scm/git/docs/git-send-email.html

* If your mail client supports setting the In-Reply-To header
  via mailto: links, try the mailto: link
Be sure your reply has a Subject: header at the top and a blank line before the message body.
This is a public inbox, see mirroring instructions
for how to clone and mirror all data and code used for this inbox;
as well as URLs for NNTP newsgroup(s).