From mboxrd@z Thu Jan 1 00:00:00 1970 Return-Path: Received: from mails.dpdk.org (mails.dpdk.org [217.70.189.124]) by inbox.dpdk.org (Postfix) with ESMTP id 2CC804895B for ; Fri, 17 Oct 2025 08:03:10 +0200 (CEST) Received: from mails.dpdk.org (localhost [127.0.0.1]) by mails.dpdk.org (Postfix) with ESMTP id 2843340269; Fri, 17 Oct 2025 08:03:10 +0200 (CEST) Received: from mail-qk1-f227.google.com (mail-qk1-f227.google.com [209.85.222.227]) by mails.dpdk.org (Postfix) with ESMTP id 9CCA740269 for ; Fri, 17 Oct 2025 08:03:09 +0200 (CEST) Received: by mail-qk1-f227.google.com with SMTP id af79cd13be357-88f79ae58f0so266015485a.2 for ; Thu, 16 Oct 2025 23:03:09 -0700 (PDT) DKIM-Signature: v=1; a=rsa-sha256; c=relaxed/relaxed; d=iol.unh.edu; s=unh-iol; t=1760680989; x=1761285789; darn=dpdk.org; h=references:in-reply-to:cc:to:from:subject:message-id:date:from:to :cc:subject:date:message-id:reply-to; bh=qXyKU5f7ajLrMzfum4jdhFAtloprKLZc3zN0pfTaT40=; b=buI3IxDE0FuhN/uHJuT15cPjA4lNUfsa0Xx9ulXlg5jbtkWc1KUBp1hpEtYWIPAlt4 IE4u4FHaUGCHgrrSSVAn8J8qa6g2g9gUCAYET+3F+PTEUng52ugqpQjMZDNblHqrbuxd a4Dv98ZcxQEr7yi2kJVBKBln4rrY91pbiTgF0= X-Google-DKIM-Signature: v=1; a=rsa-sha256; c=relaxed/relaxed; d=1e100.net; s=20230601; t=1760680989; x=1761285789; h=references:in-reply-to:cc:to:from:subject:message-id:date :x-gm-message-state:from:to:cc:subject:date:message-id:reply-to; bh=qXyKU5f7ajLrMzfum4jdhFAtloprKLZc3zN0pfTaT40=; b=xNtrvFo8p/WtWYpIKFRs/esyXQd/Sw1mlbTLTrZ3mKPWQp5kqaY0swzPjaLeqF13MH wyVx8Sgk4Fi/JyYXu/mY47SBl7TLETBW8I9Ot4Shh6ouUm9XGLWu0qqzlLTwC8ztZ0m9 oKP6g4dutJzfW0kbvXWYvNiEj/kssnwFlDn+vhF6Se3cfF8FKaXhncCuwHJxWdHBeDSj GZlfoFF1IPE/RnG+JKaMf36VIFO+jzbbgSPfTtvlA0lBWn77+9iPS23XP6ZdUFJTxzlR tliY+rUY5ZWcRQK07bSZHK+VGiQWrUUrgT7UMydm0FmOU5O1KdvJEZnawEqqq6yR2ue5 uw/g== X-Gm-Message-State: AOJu0YxvwAN3Jt67LjT40amb1WcKzHpVpCBDDY56DW4r1WGk+n9N2Egu l3D4r6XK2nI+dgzJeSt7xX5F2rM6lso1UKCTfh/KNf46jW0nAuJeVtpDGGhYyfAre4tgVScx129 d5z6pQr13fDLhz6oRZNkFAkc+dXswOLBM2DAdLnUOqhUkH0GEFoOm1i59mkMN X-Gm-Gg: ASbGnct1JmLB+tOR7edXwBNkUrbtz9RSlygkqZEbHDAycO9VWV0drdWqdfolyE5kSfc 0sGAM8+LhX9UOk9DiFU9078LBfqqXcZ/p9XlK6B5l4EODGf8YbXde7Yx82xQ+luvaUFHpZsoQbq NU1clhRNnO+NgLy3rrH6NlighwjNXp+nkYH8XDY59lg4XFmTrpfPRPqJEsW2lSKLlaNpUqlSqx9 ll5ggHENVIfHi26POsaAyhQN8/WBgDt9XHAJmx4XIuPVs4qqNZcMpikIvTzNCQsVkr45fXK99U4 AKNzdnxJPyNxLj/MAg3S322mRNdH1yAwcpFTM8IcoS34J4IMuoMIzJmPgZBhKcah7HCnnLE0mU7 o8egHP5pv X-Google-Smtp-Source: AGHT+IFmYTh/M4W6uOecAl3dci+lf5w9C8QYIt+QwfKdznzB2er55aMaJ3gH8gxROS9zQo2FAj8WPxnE+VOc X-Received: by 2002:a05:620a:4621:b0:883:9634:5182 with SMTP id af79cd13be357-8906ea9bac0mr263054285a.2.1760680988768; Thu, 16 Oct 2025 23:03:08 -0700 (PDT) Received: from postal.iol.unh.edu (postal.iol.unh.edu. [2606:4100:3880:1234::84]) by smtp-relay.gmail.com with ESMTPS id af79cd13be357-88f3778ca3bsm36866585a.3.2025.10.16.23.03.08 (version=TLS1_2 cipher=ECDHE-ECDSA-AES128-GCM-SHA256 bits=128/128); Thu, 16 Oct 2025 23:03:08 -0700 (PDT) X-Relaying-Domain: iol.unh.edu Date: Thu, 16 Oct 2025 23:03:08 -0700 (PDT) Message-ID: <68f1dc1c.050a0220.5a281.36e2SMTPIN_ADDED_MISSING@mx.google.com> Received: from [172.21.0.2] (unknown [172.18.0.240]) by postal.iol.unh.edu (Postfix) with ESMTP id 7B3E76051830; Fri, 17 Oct 2025 02:03:08 -0400 (EDT) Subject: |SUCCESS| pw157778-157782 [PATCH] [v5,6/6] net/dpaa: fix resource le From: dpdklab@iol.unh.edu To: Test Report Cc: dpdk-test-reports@iol.unh.edu, Stephen Hemminger In-Reply-To: <20251017044848.3269627-7-g.singh@nxp.com> References: <20251017044848.3269627-7-g.singh@nxp.com> Content-Type: text/plain X-BeenThere: test-report@dpdk.org X-Mailman-Version: 2.1.29 Precedence: list List-Id: automatic DPDK test reports List-Unsubscribe: , List-Archive: List-Post: List-Help: List-Subscribe: , Errors-To: test-report-bounces@dpdk.org Test-Label: iol-compile-amd64-testing Test-Status: SUCCESS http://dpdk.org/patch/157782 _Testing PASS_ Submitter: Gagandeep Singh Date: Friday, October 17 2025 04:48:48 DPDK git baseline: Repo:dpdk-next-net Branch: master CommitID:535c49b6264f1df239703b8250b070e4c4cda2e9 157778-157782 --> testing pass Upstream job id: Windows-Compile-DPDK-Native#31698 Test environment and result as below: +---------------------+--------------------+-------------------------+-------------------+----------------------+ | Environment | dpdk_meson_compile | dpdk_llvm_clang_compile | dpdk_msvc_compile | dpdk_mingw64_compile | +=====================+====================+=========================+===================+======================+ | Ubuntu 20.04 | PASS | SKIPPED | SKIPPED | SKIPPED | +---------------------+--------------------+-------------------------+-------------------+----------------------+ | FreeBSD 14.2 | PASS | SKIPPED | SKIPPED | SKIPPED | +---------------------+--------------------+-------------------------+-------------------+----------------------+ | Windows Server 2022 | SKIPPED | PASS | PASS | PASS | +---------------------+--------------------+-------------------------+-------------------+----------------------+ Ubuntu 20.04 Kernel: 4.19 Compiler: gcc gcc (Ubuntu 9.4.0-1ubuntu1~20.04.2) 9.4.0 FreeBSD 14.2 Kernel: 14.2-RELEASE Compiler: clang 18.1.6 Windows Server 2022 Kernel: 10.0.20348.2031 Compiler: clang 15.0.7, gcc 14.1.0 (MinGW), and MSVC VS 19.39.33521 To view detailed results, visit: https://lab.dpdk.org/results/dashboard/patchsets/34306/ UNH-IOL DPDK Community Lab To manage your email subscriptions, visit: https://lab.dpdk.org/results/dashboard/preferences/subscriptions/