From mboxrd@z Thu Jan 1 00:00:00 1970 Return-Path: Received: from mails.dpdk.org (mails.dpdk.org [217.70.189.124]) by inbox.dpdk.org (Postfix) with ESMTP id 3BDF94895C for ; Fri, 17 Oct 2025 08:24:26 +0200 (CEST) Received: from mails.dpdk.org (localhost [127.0.0.1]) by mails.dpdk.org (Postfix) with ESMTP id 35FAD40269; Fri, 17 Oct 2025 08:24:26 +0200 (CEST) Received: from mail-pj1-f98.google.com (mail-pj1-f98.google.com [209.85.216.98]) by mails.dpdk.org (Postfix) with ESMTP id EB38240269 for ; Fri, 17 Oct 2025 08:24:24 +0200 (CEST) Received: by mail-pj1-f98.google.com with SMTP id 98e67ed59e1d1-339d7c4039aso1492368a91.0 for ; Thu, 16 Oct 2025 23:24:24 -0700 (PDT) DKIM-Signature: v=1; a=rsa-sha256; c=relaxed/relaxed; d=iol.unh.edu; s=unh-iol; t=1760682264; x=1761287064; darn=dpdk.org; h=cc:to:from:subject:message-id:date:from:to:cc:subject:date :message-id:reply-to; bh=wzS3SLRF2f2vTJp1L861i2xA0LM1QFzxAfdnX90Xjqk=; b=ZzkmxIxTwQvnHGUF2nCQeDopHWzo2KK5OlJ5UVju6avz5jfplO94lv3I6JUjV2UF// wU774A9RrYu/D7vTEuStjMp+/YxpU5xg2wllAe3Yegxeec0qzRRweAXgDekdssYQB3uR oonoRMSeL/OGn3V6Mm6Y9gz7yvpRvFaIUI7d4= X-Google-DKIM-Signature: v=1; a=rsa-sha256; c=relaxed/relaxed; d=1e100.net; s=20230601; t=1760682264; x=1761287064; h=cc:to:from:subject:message-id:date:x-gm-message-state:from:to:cc :subject:date:message-id:reply-to; bh=wzS3SLRF2f2vTJp1L861i2xA0LM1QFzxAfdnX90Xjqk=; b=sET+NpeaflnB6eGcQtruE5HuP6+qnujvirvrsluP7MK8A27RMKN8Pw02sSiLaCqnLH mKHb3DXIor4TitTea8PKRvNB/vpQsV4riPqfZ3eCffL7pwRiRI0go93isaIGGFD1rKdQ RvRQbJmFncaRVRuGs6vjk+QzNprJfs4IsarYlA28qyudJ3Q0pCsZvZp+3Q31krRcOEHi cRNfnXvbJKb6JINspUU2OgsdcJqk8Wdv1Ce8zAmy5IqSZ2RJCi0IfQoxf9wOWSCKeeC+ IriCdjXAZ3lnPcthU9IJT+jBI2I/Gi5vRIzOg6FuwAWJ0eQiZ5mrinymYllYYrHNzEjU Gj2Q== X-Gm-Message-State: AOJu0YxGru/Fh+niWARoftmxAWy2/9pBDtqlmLP1XQ4OwgOP4N78PeoK J3zoy3ecZGQHWErvXmrZQKSAo3tfdPrZsRMCyJL7fNOH4R4keeXf2UBJ1bmmzaIBVc8x9X/cFBf r+o0HYpXMqvNT4gTuCeLwoN9uhbwnL04H/mBhJWd10Dtp X-Gm-Gg: ASbGnctblwb1bXLQf3khWTEm0Zb7Kgjs+esJNdz+8QOD/5BLEQmCZmQ24cfAgtIckMm oUuSv6N//cv2uYg0Z4+KAuvpAnedBAmojMKq4AoZL9DypMUT/EWKnUapeqwtn0baoegt69Gg/Lt jcdD7LsjrahA+MjSOQy6iO8AneCSlXWs7c8/BvipokcOsrKKqw0xI1lIYHyzNEd59VOWTN6HvQY frG0RjcENK3KPx2pUtEPBOZk0lGSDLQUeaB30GjFApGFEjW3VDXRA5mTuRdHCpLXnNCiQCquPfb I5rm702aTsf/QRUbvXNYBicBQmUxa0uZPXTUWDKxZU03vb0wXuY2z3YNxa7+CfQfllRVeeKeJjs X/0Vnj6URNHVTknuV1Z0SGn9lZYTn83w= X-Google-Smtp-Source: AGHT+IHCdZTZcSoK99wrcoB3gXuSjncqeJ0x2dpocNxnJVBdhHkwKbSTtjaCJzuMs6Fkz7QJUB/KrJash0PG X-Received: by 2002:a17:90b:3ec1:b0:33b:a5d8:f198 with SMTP id 98e67ed59e1d1-33bcf90b791mr2761783a91.25.1760682264088; Thu, 16 Oct 2025 23:24:24 -0700 (PDT) Received: from postal.iol.unh.edu (postal.iol.unh.edu. [132.177.123.84]) by smtp-relay.gmail.com with ESMTPS id 98e67ed59e1d1-33bd7b565e5sm151228a91.3.2025.10.16.23.24.23 (version=TLS1_2 cipher=ECDHE-ECDSA-AES128-GCM-SHA256 bits=128/128); Thu, 16 Oct 2025 23:24:24 -0700 (PDT) X-Relaying-Domain: iol.unh.edu Date: Thu, 16 Oct 2025 23:24:24 -0700 (PDT) Message-ID: <68f1e118.170a0220.294fa.83c6SMTPIN_ADDED_MISSING@mx.google.com> Received: from [172.21.0.3] (unknown [172.18.0.240]) by postal.iol.unh.edu (Postfix) with ESMTP id 58CD06051830; Fri, 17 Oct 2025 02:24:23 -0400 (EDT) Subject: |SUCCESS| [GIT MASTER] 791cea04798a8e2de014b99c009cd25b5929000a From: dpdklab@iol.unh.edu To: Test Report Cc: dpdk-test-reports@iol.unh.edu, Stephen Hemminger Content-Type: text/plain X-BeenThere: test-report@dpdk.org X-Mailman-Version: 2.1.29 Precedence: list List-Id: automatic DPDK test reports List-Unsubscribe: , List-Archive: List-Post: List-Help: List-Subscribe: , Errors-To: test-report-bounces@dpdk.org _Testing PASS_ Branch: dpdk-next-net 791cea04798a8e2de014b99c009cd25b5929000a --> testing pass Upstream job id: Generic-Unit-Test-DPDK#382085 Test environment and result as below: +------------------------------+--------------+---------------------------+------------------------------+----------------+ | Environment | lpm_autotest | cryptodev_sw_zuc_autotest | cryptodev_sw_snow3g_autotest | dpdk_unit_test | +==============================+==============+===========================+==============================+================+ | Ubuntu 20.04 | PASS | SKIPPED | SKIPPED | PASS | +------------------------------+--------------+---------------------------+------------------------------+----------------+ | Debian 12 (arm) | SKIPPED | PASS | PASS | SKIPPED | +------------------------------+--------------+---------------------------+------------------------------+----------------+ | CentOS Stream 9 | SKIPPED | SKIPPED | SKIPPED | PASS | +------------------------------+--------------+---------------------------+------------------------------+----------------+ | Ubuntu 22.04 | SKIPPED | SKIPPED | SKIPPED | PASS | +------------------------------+--------------+---------------------------+------------------------------+----------------+ | Debian GNU/Linux 12 | SKIPPED | SKIPPED | SKIPPED | PASS | +------------------------------+--------------+---------------------------+------------------------------+----------------+ | CentOS Stream 10 | SKIPPED | SKIPPED | SKIPPED | PASS | +------------------------------+--------------+---------------------------+------------------------------+----------------+ | Fedora Linux 40 | SKIPPED | SKIPPED | SKIPPED | PASS | +------------------------------+--------------+---------------------------+------------------------------+----------------+ | Fedora Linux 41 | SKIPPED | SKIPPED | SKIPPED | PASS | +------------------------------+--------------+---------------------------+------------------------------+----------------+ | Fedora Linux 42 | SKIPPED | SKIPPED | SKIPPED | PASS | +------------------------------+--------------+---------------------------+------------------------------+----------------+ | Red Hat Enterprise Linux 9.5 | SKIPPED | SKIPPED | SKIPPED | PASS | +------------------------------+--------------+---------------------------+------------------------------+----------------+ | Ubuntu 24.04 | SKIPPED | SKIPPED | SKIPPED | PASS | +------------------------------+--------------+---------------------------+------------------------------+----------------+ Ubuntu 20.04 Kernel: 5.4 Compiler: gcc gcc (Ubuntu 9.4.0-1ubuntu1~20.04.2) 9.4.0 Debian 12 (arm) Kernel: Depends on container host Compiler: gcc (Debian 12.2.0-14) 12.2.0 CentOS Stream 9 Kernel: 5.4 Compiler: gcc gcc (GCC) 11.5.0 20240719 (Red Hat 11.5.0-11) Ubuntu 22.04 Kernel: 5.15 Compiler: gcc gcc (Ubuntu 11.4.0-1ubuntu1~22.04.2) 11.4.0 Debian GNU/Linux 12 Kernel: 5.4 Compiler: gcc gcc (Debian 12.2.0-14+deb12u1) 12.2.0 CentOS Stream 10 Kernel: 5.4 Compiler: gcc gcc (GCC) 14.2.1 20250110 (Red Hat 14.2.1-8) Fedora Linux 40 Kernel: 5.4 Compiler: gcc gcc (GCC) 14.2.1 20240912 (Red Hat 14.2.1-3) Fedora Linux 41 Kernel: 5.4 Compiler: clang gcc (GCC) 14.3.1 20250523 (Red Hat 14.3.1-1) Fedora Linux 42 Kernel: 5.4 Compiler: gcc gcc (GCC) 15.2.1 20250808 (Red Hat 15.2.1-1) Red Hat Enterprise Linux 9.5 Kernel: 5.4 Compiler: gcc gcc (GCC) 11.5.0 20240719 (Red Hat 11.5.0-2) Ubuntu 24.04 Kernel: 5.4 Compiler: gcc gcc (Ubuntu 13.3.0-6ubuntu2~24.04) 13.3.0 To view detailed results, visit: https://lab.dpdk.org/results/dashboard/tarballs/35231/ UNH-IOL DPDK Community Lab To manage your email subscriptions, visit: https://lab.dpdk.org/results/dashboard/preferences/subscriptions/