From mboxrd@z Thu Jan 1 00:00:00 1970 Return-Path: Received: from mails.dpdk.org (mails.dpdk.org [217.70.189.124]) by inbox.dpdk.org (Postfix) with ESMTP id A4A5A4895C for ; Fri, 17 Oct 2025 08:27:12 +0200 (CEST) Received: from mails.dpdk.org (localhost [127.0.0.1]) by mails.dpdk.org (Postfix) with ESMTP id 89FBD40269; Fri, 17 Oct 2025 08:27:12 +0200 (CEST) Received: from mail-pj1-f97.google.com (mail-pj1-f97.google.com [209.85.216.97]) by mails.dpdk.org (Postfix) with ESMTP id C4F8640269 for ; Fri, 17 Oct 2025 08:27:11 +0200 (CEST) Received: by mail-pj1-f97.google.com with SMTP id 98e67ed59e1d1-33bbc4e81dfso1471555a91.1 for ; Thu, 16 Oct 2025 23:27:11 -0700 (PDT) DKIM-Signature: v=1; a=rsa-sha256; c=relaxed/relaxed; d=iol.unh.edu; s=unh-iol; t=1760682431; x=1761287231; darn=dpdk.org; h=cc:to:from:subject:message-id:date:from:to:cc:subject:date :message-id:reply-to; bh=KPihcLfGJji0ACOrUGd/utBWQ/JMzOJylG3MSw4G1G0=; b=d82lHTR3DtrVawpAvwi8n8ItrVVrtm2hEgFnDequa/hArQSTey/1i8/FpVYLNVM69M 0Vvs8Y7QwEhyltIu/Uodr1SfxwpjYz/skkdaxLyfgF5Ei+0WLjd6ihFduK3Mtea8CVCG qGiU8gOOYOe5WEkAoe5eT10Rso/wlig12NkdI= X-Google-DKIM-Signature: v=1; a=rsa-sha256; c=relaxed/relaxed; d=1e100.net; s=20230601; t=1760682431; x=1761287231; h=cc:to:from:subject:message-id:date:x-gm-message-state:from:to:cc :subject:date:message-id:reply-to; bh=KPihcLfGJji0ACOrUGd/utBWQ/JMzOJylG3MSw4G1G0=; b=Xr2zbAWz5oiwulw+eoXMY+FBNyT5K0ZoA6Lh3qpEDrI6GwlnKjD2J6IX5o3LAFcZsG pw6O/Zv9Yi2P4cSVVwjYMKRCL4x6jUjCssCrd1rnpyNhYDkvDT5E35eQoqfpel13mQvl zjrJiEkR0eygjoDMAu0W6WEDnzOMnbOELXWcZXY+B4+e8UeKhnCuScvN5x5rAq20pfN+ OxXzvntyliXXXpgeWiIhDipOEjotuJ47coEWIunffuDz53axGIMaMWaVJW0FMVRqaxeB Q5W2jtwNPNqJL01eJk7znJ6Rgnf8gii/eMS/WP2wz1GhY3q189d1+Mj3pafpBr/mthgD P/SA== X-Gm-Message-State: AOJu0YypJW9JKGon2Ddwr7BhUAqf8vt6c/4MB3HJMWjHh/4Mkpm2RnbN VrjfkO1vTOWXxqh66FX0D+Olw0JNvX2iUwolTWzDvRpRoJmgKMMa6idsSMdlOI7yE3JFKHtcenX NrScJOdWmMoNAktnql/IsyNq5DuwGYRRSiQAeUzkNXIYQnNI/XFUx X-Gm-Gg: ASbGncuo60PWP/4tUIcaq9c/MJVMGowkuJBptJDnIkz1L3CqgIATRgCaNE7CLdgSp45 SMXqMptFfdl9A7CzPUzsQaotoXjaRgkO3bfxp2ysI6qFAHWFMBzzAc5KnJwYQjfEb1oyIIMs8Nr Zs+c1XMV+Od9iW9st4DOlYcp+kMbATxk/p6F6K1T4Cwep92+0cJ1EWCwzdBXoyyXdnwmUa/+hgu joFVopYnR6HPJ0JCXw3j11hDtCqn+DHlu5MvZJgrAz+hqgAxm3BgyZlXY7qKcLh+3Wyt9W1o2oB Y37oJhdeo9iI4MVCSWcH5jm5EEm5lZ4qFDp2HfkzdquN9g2swLUFrYf+4IWeWt9yIhOKUb1YsB1 6RfNVbHTD X-Google-Smtp-Source: AGHT+IGNZzeEiF7PmXa1mNr5KhjbLZ3SfURAZjfjNpdGlKv9TTkWqNrUa9xZZ+hfvs3yYDX3X4zrT63rcmFx X-Received: by 2002:a17:90b:4f:b0:330:6c5a:4af4 with SMTP id 98e67ed59e1d1-33bcf93fbd3mr3399527a91.35.1760682430784; Thu, 16 Oct 2025 23:27:10 -0700 (PDT) Received: from postal.iol.unh.edu (postal.iol.unh.edu. [2606:4100:3880:1234::84]) by smtp-relay.gmail.com with ESMTPS id 98e67ed59e1d1-33bb667469csm331948a91.4.2025.10.16.23.27.10 (version=TLS1_2 cipher=ECDHE-ECDSA-AES128-GCM-SHA256 bits=128/128); Thu, 16 Oct 2025 23:27:10 -0700 (PDT) X-Relaying-Domain: iol.unh.edu Date: Thu, 16 Oct 2025 23:27:10 -0700 (PDT) Message-ID: <68f1e1be.170a0220.39ae26.1589SMTPIN_ADDED_MISSING@mx.google.com> Received: from [172.21.0.4] (unknown [172.18.0.240]) by postal.iol.unh.edu (Postfix) with ESMTP id 838B56051830; Fri, 17 Oct 2025 02:27:09 -0400 (EDT) Subject: |SUCCESS| [GIT MASTER] 3b43ce3f4a54468e7ef65760c2fd7b4d6ee6d9fc From: dpdklab@iol.unh.edu To: Test Report Cc: dpdk-test-reports@iol.unh.edu, Xueming Li , Christian Ehrhardt , Kevin Traynor , Luca Boccassi Content-Type: text/plain X-BeenThere: test-report@dpdk.org X-Mailman-Version: 2.1.29 Precedence: list List-Id: automatic DPDK test reports List-Unsubscribe: , List-Archive: List-Post: List-Help: List-Subscribe: , Errors-To: test-report-bounces@dpdk.org _Testing PASS_ Branch: tags/v22.11 3b43ce3f4a54468e7ef65760c2fd7b4d6ee6d9fc --> testing pass Upstream job id: Generic-DPDK-Compile-Meson#435191 Test environment and result as below: +---------------------+--------------------+-------------------------+----------------------+ | Environment | dpdk_meson_compile | dpdk_llvm_clang_compile | dpdk_mingw64_compile | +=====================+====================+=========================+======================+ | FreeBSD 14.2 | PASS | SKIPPED | SKIPPED | +---------------------+--------------------+-------------------------+----------------------+ | Ubuntu 20.04 | PASS | SKIPPED | SKIPPED | +---------------------+--------------------+-------------------------+----------------------+ | CentOS Stream 9 | PASS | SKIPPED | SKIPPED | +---------------------+--------------------+-------------------------+----------------------+ | Windows Server 2022 | SKIPPED | PASS | PASS | +---------------------+--------------------+-------------------------+----------------------+ FreeBSD 14.2 Kernel: 14.2-RELEASE Compiler: clang 18.1.6 Ubuntu 20.04 Kernel: 4.19 Compiler: gcc gcc (Ubuntu 9.4.0-1ubuntu1~20.04.2) 9.4.0 CentOS Stream 9 Kernel: 5.15 Compiler: gcc gcc (GCC) 11.5.0 20240719 (Red Hat 11.5.0-11) Windows Server 2022 Kernel: 10.0.20348.2031 Compiler: clang 15.0.7, gcc 14.1.0 (MinGW), and MSVC VS 19.39.33521 To view detailed results, visit: https://lab.dpdk.org/results/dashboard/tarballs/35243/ UNH-IOL DPDK Community Lab To manage your email subscriptions, visit: https://lab.dpdk.org/results/dashboard/preferences/subscriptions/