From mboxrd@z Thu Jan 1 00:00:00 1970 Return-Path: Received: from mails.dpdk.org (mails.dpdk.org [217.70.189.124]) by inbox.dpdk.org (Postfix) with ESMTP id 9B2074895C for ; Fri, 17 Oct 2025 08:27:22 +0200 (CEST) Received: from mails.dpdk.org (localhost [127.0.0.1]) by mails.dpdk.org (Postfix) with ESMTP id 9657840269; Fri, 17 Oct 2025 08:27:22 +0200 (CEST) Received: from mail-io1-f100.google.com (mail-io1-f100.google.com [209.85.166.100]) by mails.dpdk.org (Postfix) with ESMTP id 4027E40EE1 for ; Fri, 17 Oct 2025 08:27:13 +0200 (CEST) Received: by mail-io1-f100.google.com with SMTP id ca18e2360f4ac-93e2d42d9b4so66710739f.2 for ; Thu, 16 Oct 2025 23:27:13 -0700 (PDT) DKIM-Signature: v=1; a=rsa-sha256; c=relaxed/relaxed; d=iol.unh.edu; s=unh-iol; t=1760682432; x=1761287232; darn=dpdk.org; h=cc:to:from:subject:message-id:date:from:to:cc:subject:date :message-id:reply-to; bh=EXnkZwnJz/f8KzPGoSYZAuw2xrIVnAwtGr/P3pHT9wA=; b=DI9m4v61uTKu6fg1Bm31hmxHF/Z/8y5Q+z2T9CXf3WfGs9dxjqoZtUFZN/xPIzWAwP VSJsMr8teA0odL8+i8sKDQ4KFJ9RsRwqK4wp3WRGfQ+UERsmiwUyDZuyl4Kh4Umcn+V1 CX2KqPSw7Kjad0btx5osMx6JMr9d+AZFfSABk= X-Google-DKIM-Signature: v=1; a=rsa-sha256; c=relaxed/relaxed; d=1e100.net; s=20230601; t=1760682432; x=1761287232; h=cc:to:from:subject:message-id:date:x-gm-message-state:from:to:cc :subject:date:message-id:reply-to; bh=EXnkZwnJz/f8KzPGoSYZAuw2xrIVnAwtGr/P3pHT9wA=; b=IOmYD7v8iVoNyP+OMPkAVBdNAkQDRp9JJ20PTM0GAIWjbto7CCrvtA/2zTYINEIEp2 dIclD8B5HCYLg8eH8j/hmo9BVjuw5GpeVp8/ENrZ8t4mqR7Kg6UiT8t8BUfuRvWYCZCf SftISTYSIRKfl8NsugXNAHkE3G/R8v2Et0w/M8QzYWhE89HtIxsuMV0mwaM8aWeqQj8b rE0Z8edD06OsgMuyy47tl6MhgMh+5djeQOQndm5me11zW/rDBCC3PD2APxE/kGqW436o T1R0jy5rsO+AOnSik5Pq2S1Q9yIxU3cl7ZuUbq8vVQqbC7uDm1CTLAOyJZZ8oukRIzWJ SyLg== X-Gm-Message-State: AOJu0Yxpl+3O85P5Tu+XxwnkCsID09L0S6HshUQUCqZTDmpzF1Y/58WM zv5Fk0/YN5olBl/XOenqTbulrIhka/G/rRqtSvDHxQEGUYK0vQoAkAdtTtIRWRWCkGKqLpebdx+ hbNVirpBQYqg+pEhXQwyg2CgaqOWlO7d+6JCl X-Gm-Gg: ASbGncvpJdy4VgQCAY2MBRxxvQVoptsNRYtAjPB4rLMZosGUB7JUGIgcsbraX/s2iug XdK602w3qDSZoFIk06lSMWttwCW0iKqqmCCkPLFgVXFq0NHghMSNm+y1+dbFF2bQr7OheT98w3Q TnUqJkowSCUEP2MczguTg13KVWJxx6XfvU4yExsrLJgFyYLH3fhbPFxdQcsIxpNseHZbwxwZKq1 P0aFJlMsQj6MnWkX8G1nOxkGkX9/evft+gsNjXGA+YM5qCUE89dkRBKjzHbxg0wLvihoW43Yfhb FxPDtkNneXnq2fnh9bfHNCwHZm1uxvGPOiHKIl0ITixrR071+gC/MA16OBJ4jlgtXuC1WDj/a2R r8RYhtBIuptygI3MHHQ3X3dEtD37lsvg= X-Google-Smtp-Source: AGHT+IGhfoLAyfsTsHgTpt4Q5du/pLasVZ946VK4gjGL7qx4wK1uYPDbVNqR9sjJ6soe4OeI/PraRvkb6D9r X-Received: by 2002:a05:6e02:3e04:b0:42d:878b:6e40 with SMTP id e9e14a558f8ab-430c5263fcbmr44075505ab.13.1760682432523; Thu, 16 Oct 2025 23:27:12 -0700 (PDT) Received: from postal.iol.unh.edu (postal.iol.unh.edu. [132.177.123.84]) by smtp-relay.gmail.com with ESMTPS id 8926c6da1cb9f-5a76f769fb9sm144722173.39.2025.10.16.23.27.12 (version=TLS1_2 cipher=ECDHE-ECDSA-AES128-GCM-SHA256 bits=128/128); Thu, 16 Oct 2025 23:27:12 -0700 (PDT) X-Relaying-Domain: iol.unh.edu Date: Thu, 16 Oct 2025 23:27:12 -0700 (PDT) Message-ID: <68f1e1c0.050a0220.4d13b.764bSMTPIN_ADDED_MISSING@mx.google.com> Received: from [172.21.0.2] (unknown [172.18.0.240]) by postal.iol.unh.edu (Postfix) with ESMTP id 1EEF16051830; Fri, 17 Oct 2025 02:27:12 -0400 (EDT) Subject: |SUCCESS| [GIT MASTER] b287e404643aeab5bb5db084c142789df187844e From: dpdklab@iol.unh.edu To: Test Report Cc: dpdk-test-reports@iol.unh.edu, Xueming Li , Christian Ehrhardt , Kevin Traynor , Luca Boccassi Content-Type: text/plain X-BeenThere: test-report@dpdk.org X-Mailman-Version: 2.1.29 Precedence: list List-Id: automatic DPDK test reports List-Unsubscribe: , List-Archive: List-Post: List-Help: List-Subscribe: , Errors-To: test-report-bounces@dpdk.org _Testing PASS_ Branch: tags/v24.11 b287e404643aeab5bb5db084c142789df187844e --> testing pass Upstream job id: Generic-Unit-Test-DPDK#382500 Test environment and result as below: +-------------------------------+----------------+ | Environment | dpdk_unit_test | +===============================+================+ | CentOS Stream 9 | PASS | +-------------------------------+----------------+ | Fedora Linux 42 | PASS | +-------------------------------+----------------+ | Debian GNU/Linux 12 | PASS | +-------------------------------+----------------+ | Fedora Linux 41 | PASS | +-------------------------------+----------------+ | CentOS Stream 10 | PASS | +-------------------------------+----------------+ | Fedora Linux 40 | PASS | +-------------------------------+----------------+ | Ubuntu 22.04 | PASS | +-------------------------------+----------------+ | Red Hat Enterprise Linux 8.10 | PASS | +-------------------------------+----------------+ | Red Hat Enterprise Linux 9.5 | PASS | +-------------------------------+----------------+ | Ubuntu 20.04 | PASS | +-------------------------------+----------------+ | Ubuntu 24.04 | PASS | +-------------------------------+----------------+ | Windows Server 2022 | PASS | +-------------------------------+----------------+ CentOS Stream 9 Kernel: 5.15 Compiler: gcc gcc (GCC) 11.5.0 20240719 (Red Hat 11.5.0-11) Fedora Linux 42 Kernel: 5.15 Compiler: gcc gcc (GCC) 15.2.1 20250808 (Red Hat 15.2.1-1) Debian GNU/Linux 12 Kernel: 5.15 Compiler: gcc gcc (Debian 12.2.0-14+deb12u1) 12.2.0 Fedora Linux 41 Kernel: 5.15 Compiler: clang gcc (GCC) 14.3.1 20250523 (Red Hat 14.3.1-1) CentOS Stream 10 Kernel: 5.15 Compiler: gcc gcc (GCC) 14.2.1 20250110 (Red Hat 14.2.1-8) Fedora Linux 40 Kernel: 5.15 Compiler: clang gcc (GCC) 14.2.1 20240912 (Red Hat 14.2.1-3) Ubuntu 22.04 Kernel: 5.15 Compiler: gcc gcc (Ubuntu 11.4.0-1ubuntu1~22.04) 11.4.0 Red Hat Enterprise Linux 8.10 Kernel: 5.15 Compiler: gcc gcc (GCC) 8.5.0 20210514 (Red Hat 8.5.0-22) Red Hat Enterprise Linux 9.5 Kernel: 5.15 Compiler: gcc gcc (GCC) 11.5.0 20240719 (Red Hat 11.5.0-2) Ubuntu 20.04 Kernel: 5.15 Compiler: gcc gcc (Ubuntu 9.4.0-1ubuntu1~20.04.2) 9.4.0 Ubuntu 24.04 Kernel: 5.15 Compiler: gcc gcc (Ubuntu 13.3.0-6ubuntu2~24.04) 13.3.0 Windows Server 2022 Kernel: 10.0.20348.2031 Compiler: clang 15.0.7, gcc 14.1.0 (MinGW), and MSVC VS 19.39.33521 To view detailed results, visit: https://lab.dpdk.org/results/dashboard/tarballs/35245/ UNH-IOL DPDK Community Lab To manage your email subscriptions, visit: https://lab.dpdk.org/results/dashboard/preferences/subscriptions/