From mboxrd@z Thu Jan 1 00:00:00 1970 Return-Path: Received: from mails.dpdk.org (mails.dpdk.org [217.70.189.124]) by inbox.dpdk.org (Postfix) with ESMTP id BAADD4895C for ; Fri, 17 Oct 2025 08:53:30 +0200 (CEST) Received: from mails.dpdk.org (localhost [127.0.0.1]) by mails.dpdk.org (Postfix) with ESMTP id 9D11640269; Fri, 17 Oct 2025 08:53:30 +0200 (CEST) Received: from mail-vs1-f99.google.com (mail-vs1-f99.google.com [209.85.217.99]) by mails.dpdk.org (Postfix) with ESMTP id B1F8040269 for ; Fri, 17 Oct 2025 08:53:29 +0200 (CEST) Received: by mail-vs1-f99.google.com with SMTP id ada2fe7eead31-5d613937df1so1296121137.3 for ; Thu, 16 Oct 2025 23:53:29 -0700 (PDT) DKIM-Signature: v=1; a=rsa-sha256; c=relaxed/relaxed; d=iol.unh.edu; s=unh-iol; t=1760684009; x=1761288809; darn=dpdk.org; h=references:in-reply-to:cc:to:from:subject:message-id:date:from:to :cc:subject:date:message-id:reply-to; bh=ZGpvGK2PEWOSPETB9w7QNef7EL9LuBlTc1aGxZCezUM=; b=Za3Nis0/wIRZOe+W0Lp9M43ChtTLDhuOup8QxdgU35X68vQxeh0Zmew4SQzCBpX3H/ drSQ6/+brN82O5YeHHYxmrFU/JpI4LWX4tXmAFL/94djR9OsnZpBGj0fExHs6bUP34a8 b8GY5BKnsn98WbMNwbp+cbUToSeXEkTa4101M= X-Google-DKIM-Signature: v=1; a=rsa-sha256; c=relaxed/relaxed; d=1e100.net; s=20230601; t=1760684009; x=1761288809; h=references:in-reply-to:cc:to:from:subject:message-id:date :x-gm-message-state:from:to:cc:subject:date:message-id:reply-to; bh=ZGpvGK2PEWOSPETB9w7QNef7EL9LuBlTc1aGxZCezUM=; b=D8WTzKoVo0ElB4WDOr8fWioT6kZs5QVGAMvSWC0ZS53qFpA4pboNDA0LG9M+Zh+O3p kYh3IikVwZ+6ONlYImr5cbo/pkfaIy078sbCC18Ce7Y7psV1goBxMh+o/oq8V/Jiym37 WKmDpT65bdOk6E056CrCrL74+pxKgutuMKMyxu+LqWemQhu5fQIdJS5DLF4UAEmum0Q3 F7iauXeUxmMAJVzDgkWXXPtu1PDVJ4Ao4cJLgmS6kiDTFbYAistpgI6oGF/SQrVxcWz+ a5T823kY0oX0CeicEgHdG4g8XlziTPJLzgV3gaM0mXjoBrfViHT2BmBNXLApv8fHKS0v 60qA== X-Gm-Message-State: AOJu0YyL/GsX5RbfFATSDcPweOH91V6MeVzZVeVJl2TFO2oyArRjq38F yvGg+ffk2QKWGcMaXTKr2Mp+79Y+Zh2+r/qfm//+8VsEH48zK5rz0LQd7HlDSyj4qjY3NhiXS/2 HogAa45KbGvMvWlrOIBfeRLUSMwaItvdAuPytwF/807h3 X-Gm-Gg: ASbGncuUy7JJbWiKz23JR3VhNGbxS5xnQNgrqjNHFfgSfCSyjcUFZilPd3imZyFgm/v RS0Kf+xlye03wx13Za95lCBmQlmf4lurYS12Z+Um/T984p4Gw8WRJ2QIm/SzONpUqFLuHrr5UPi OUBpeBBRtHbeXPEYIo7Eud/OllsRsSx7rP9GXaH4IFyFwOq+dS3SoPdeIRBNWuGAAHgOrqh9DDN Xr14rtSv3T+tXYOeEAShIevXbT+/aMY6hJRVRz99VERzX43Iq4OJ8Lp1hpfZRM3DfVmFB1lfqW7 u4Njq2jEzuLCLgwzHQDfrjAhBWp8sclOXDJWvTisHot9YrbRIvMObsNCEYNTXGTxwUCsMKQvYCl TuEWT2En+JrOtMvnusqmRHdm6VKS4cMc= X-Google-Smtp-Source: AGHT+IGLgA0cc4I9PswU+klFL3kQ3E6ZHnDIF5JgJJIx1phzr0jz3SryukLGrKNaOovmo+SGbnw2y9+lWsqn X-Received: by 2002:a05:6102:304e:b0:528:8768:fe7d with SMTP id ada2fe7eead31-5d7dd46b6b6mr1057413137.15.1760684009018; Thu, 16 Oct 2025 23:53:29 -0700 (PDT) Received: from postal.iol.unh.edu (postal.iol.unh.edu. [132.177.123.84]) by smtp-relay.gmail.com with ESMTPS id ada2fe7eead31-5d5fc8a7539sm2564775137.3.2025.10.16.23.53.28 (version=TLS1_2 cipher=ECDHE-ECDSA-AES128-GCM-SHA256 bits=128/128); Thu, 16 Oct 2025 23:53:29 -0700 (PDT) X-Relaying-Domain: iol.unh.edu Date: Thu, 16 Oct 2025 23:53:29 -0700 (PDT) Message-ID: <68f1e7e9.050a0220.11b5b5.e665SMTPIN_ADDED_MISSING@mx.google.com> Received: from [172.21.0.3] (unknown [172.18.0.240]) by postal.iol.unh.edu (Postfix) with ESMTP id 91C6560003F7; Fri, 17 Oct 2025 02:53:28 -0400 (EDT) Subject: |SUCCESS| pw157778-157782 [PATCH] [v5,6/6] net/dpaa: fix resource le From: dpdklab@iol.unh.edu To: Test Report Cc: dpdk-test-reports@iol.unh.edu, Stephen Hemminger In-Reply-To: <20251017044848.3269627-7-g.singh@nxp.com> References: <20251017044848.3269627-7-g.singh@nxp.com> Content-Type: text/plain X-BeenThere: test-report@dpdk.org X-Mailman-Version: 2.1.29 Precedence: list List-Id: automatic DPDK test reports List-Unsubscribe: , List-Archive: List-Post: List-Help: List-Subscribe: , Errors-To: test-report-bounces@dpdk.org Test-Label: iol-unit-amd64-testing Test-Status: SUCCESS http://dpdk.org/patch/157782 _Testing PASS_ Submitter: Gagandeep Singh Date: Friday, October 17 2025 04:48:48 DPDK git baseline: Repo:dpdk-next-net Branch: master CommitID:535c49b6264f1df239703b8250b070e4c4cda2e9 157778-157782 --> testing pass Upstream job id: Generic-Unit-Test-DPDK#382521 Test environment and result as below: +-------------------------------+----------------+ | Environment | dpdk_unit_test | +===============================+================+ | CentOS Stream 9 | PASS | +-------------------------------+----------------+ | CentOS Stream 10 | PASS | +-------------------------------+----------------+ | Debian GNU/Linux 12 | PASS | +-------------------------------+----------------+ | Fedora Linux 40 | PASS | +-------------------------------+----------------+ | Fedora Linux 41 | PASS | +-------------------------------+----------------+ | Windows Server 2022 | PASS | +-------------------------------+----------------+ | Fedora Linux 42 | PASS | +-------------------------------+----------------+ | Red Hat Enterprise Linux 8.10 | PASS | +-------------------------------+----------------+ | Ubuntu 20.04 | PASS | +-------------------------------+----------------+ | Ubuntu 24.04 | PASS | +-------------------------------+----------------+ | Ubuntu 22.04 | PASS | +-------------------------------+----------------+ | Red Hat Enterprise Linux 9.5 | PASS | +-------------------------------+----------------+ CentOS Stream 9 Kernel: 5.15 Compiler: gcc gcc (GCC) 11.5.0 20240719 (Red Hat 11.5.0-11) CentOS Stream 10 Kernel: 5.15 Compiler: gcc gcc (GCC) 14.2.1 20250110 (Red Hat 14.2.1-8) Debian GNU/Linux 12 Kernel: 5.15 Compiler: gcc gcc (Debian 12.2.0-14+deb12u1) 12.2.0 Fedora Linux 40 Kernel: 5.15 Compiler: gcc gcc (GCC) 14.2.1 20240912 (Red Hat 14.2.1-3) Fedora Linux 41 Kernel: 5.15 Compiler: gcc gcc (GCC) 14.3.1 20250523 (Red Hat 14.3.1-1) Windows Server 2022 Kernel: 10.0.20348.2031 Compiler: clang 15.0.7, gcc 14.1.0 (MinGW), and MSVC VS 19.39.33521 Fedora Linux 42 Kernel: 5.15 Compiler: gcc gcc (GCC) 15.2.1 20250808 (Red Hat 15.2.1-1) Red Hat Enterprise Linux 8.10 Kernel: 5.15 Compiler: gcc gcc (GCC) 8.5.0 20210514 (Red Hat 8.5.0-22) Ubuntu 20.04 Kernel: 5.15 Compiler: gcc gcc (Ubuntu 9.4.0-1ubuntu1~20.04.2) 9.4.0 Ubuntu 24.04 Kernel: 5.15 Compiler: gcc gcc (Ubuntu 13.3.0-6ubuntu2~24.04) 13.3.0 Ubuntu 22.04 Kernel: 5.15 Compiler: gcc gcc (Ubuntu 11.4.0-1ubuntu1~22.04) 11.4.0 Red Hat Enterprise Linux 9.5 Kernel: 5.15 Compiler: gcc gcc (GCC) 11.5.0 20240719 (Red Hat 11.5.0-2) To view detailed results, visit: https://lab.dpdk.org/results/dashboard/patchsets/34306/ UNH-IOL DPDK Community Lab To manage your email subscriptions, visit: https://lab.dpdk.org/results/dashboard/preferences/subscriptions/