From mboxrd@z Thu Jan 1 00:00:00 1970 Return-Path: Received: from mails.dpdk.org (mails.dpdk.org [217.70.189.124]) by inbox.dpdk.org (Postfix) with ESMTP id 6461D4895C for ; Fri, 17 Oct 2025 09:11:23 +0200 (CEST) Received: from mails.dpdk.org (localhost [127.0.0.1]) by mails.dpdk.org (Postfix) with ESMTP id 4A58140269; Fri, 17 Oct 2025 09:11:23 +0200 (CEST) Received: from mail-qv1-f98.google.com (mail-qv1-f98.google.com [209.85.219.98]) by mails.dpdk.org (Postfix) with ESMTP id 2D77A40269 for ; Fri, 17 Oct 2025 09:11:22 +0200 (CEST) Received: by mail-qv1-f98.google.com with SMTP id 6a1803df08f44-795be3a3644so14237156d6.0 for ; Fri, 17 Oct 2025 00:11:22 -0700 (PDT) DKIM-Signature: v=1; a=rsa-sha256; c=relaxed/relaxed; d=iol.unh.edu; s=unh-iol; t=1760685081; x=1761289881; darn=dpdk.org; h=references:in-reply-to:cc:to:from:subject:message-id:date:from:to :cc:subject:date:message-id:reply-to; bh=Vq+Nn0bmew8oGnaG9NfKEV/c9qMtfrtxOxjgXYZpmdw=; b=PQ2CnqXtc8jGc2KTm54Yh6uOTBSsKGp2wuMcNscnFxmdZNC/o6G9znmGFAyJBA1m9T JHqCvXoFoiV9nVsQJvIlVTgznPyRWsR/dsNMDqOnYuZU1PV3jEVGw7AwBcl9X+JY3oE/ UqGGWF4cPBXtD1j1GbuG7RE7CuiMPC7olj518= X-Google-DKIM-Signature: v=1; a=rsa-sha256; c=relaxed/relaxed; d=1e100.net; s=20230601; t=1760685081; x=1761289881; h=references:in-reply-to:cc:to:from:subject:message-id:date :x-gm-message-state:from:to:cc:subject:date:message-id:reply-to; bh=Vq+Nn0bmew8oGnaG9NfKEV/c9qMtfrtxOxjgXYZpmdw=; b=IJ74cY31NEHOeLy+jHq+SwtYJHN0212IXNuICR3IjOeM8nwtTr2mAS1/9JzmblpOW+ pNGAk1S8aaH9dOaDWzz04us0x7SwInoHe8/jMvjyo89ppzJXhB7D6ZZYf2+izXng+w+P wye9z7CUN03lvYq+9bGx38D6t74vEFmgJL7dOFG9bOGNSf3uQJ6Guietbojz9m7jwVDg jcLynt2MM2fV2qO0yg3QFa54dp+RQBMi1r0JDxdPPiRI4haDFqK82ZW8KrjCWa7nQZcO LOeSj+qKghDdco5+X6Hih7etUJasEHSY+ISDaFWBLA5tPlRkY0JPVdL196Vi4vozbOWB FvMg== X-Gm-Message-State: AOJu0Yzp2YnIsBoui95pu3KrI0pXLCcqmA7CjgkIRBowc2HNGC1aQsn3 +SOOaOQHdjd8Hpf70wsvR4UE+41foriaqB6yH8X4cr1D0/UMG+RZJ1IuCIniqr1uSGaYQuorHP5 wIbcZjjXmvsDSC72JRWYW+Q99E0fCD8a9n/nQuORbHDHQ X-Gm-Gg: ASbGncsRA4QDcpnjAPxZAt0IasJxdURv+66/FbbIWMZ3qiOy4xBjDksJ3SthiYavePx pG9pM9RfOm630jYCSM4iLgeMFsyibbHDRWFCTHBEVBsZ/S4m/EXEAm20VhxhNdDyt+gviqvgmQV NDPc9bQTusXgNbBx2++d07BHujLqRz5cZV7aAmVjFTWUjgL5LG3BhMB1vurp87SHV5X+TbGrcB2 S2Hf528jgyGvsSyLJjAenElJ4wrqi92lMqEZTEFhCHKkso4SyV7d5DNkOvstEH58cTSXe7X2L/V IKkztPJqsKbsHE4z1QGcawEzmEesDTISzdoB5N7ssh1gh8OI+bU11Rr5CAro9axxaP67xWKP5Am MUxsuneTlrxiQOehbS7tqLY4Wtev3KIQ= X-Google-Smtp-Source: AGHT+IECY/2q10+JRgYbMggVh9RXVqksx2JIQrOjdkyvdzKmrewv7nhXlZQdG3xWjMpIfAwmvFTSRoqwNVRb X-Received: by 2002:a05:6214:240b:b0:87c:2461:3766 with SMTP id 6a1803df08f44-87c24613a91mr14880896d6.37.1760685081485; Fri, 17 Oct 2025 00:11:21 -0700 (PDT) Received: from postal.iol.unh.edu (postal.iol.unh.edu. [132.177.123.84]) by smtp-relay.gmail.com with ESMTPS id 6a1803df08f44-87c20f8f54csm1947376d6.4.2025.10.17.00.11.21 (version=TLS1_2 cipher=ECDHE-ECDSA-AES128-GCM-SHA256 bits=128/128); Fri, 17 Oct 2025 00:11:21 -0700 (PDT) X-Relaying-Domain: iol.unh.edu Date: Fri, 17 Oct 2025 00:11:21 -0700 (PDT) Message-ID: <68f1ec19.d40a0220.295891.9d08SMTPIN_ADDED_MISSING@mx.google.com> Received: from [172.21.0.2] (unknown [172.18.0.240]) by postal.iol.unh.edu (Postfix) with ESMTP id 2A78B6051830; Fri, 17 Oct 2025 03:11:21 -0400 (EDT) Subject: |SUCCESS| pw157783 [PATCH] [v4,1/1] lib/dma: introduce inter-process From: dpdklab@iol.unh.edu To: Test Report Cc: dpdk-test-reports@iol.unh.edu In-Reply-To: <20251017054210.3105218-1-vattunuru@marvell.com> References: <20251017054210.3105218-1-vattunuru@marvell.com> Content-Type: text/plain X-BeenThere: test-report@dpdk.org X-Mailman-Version: 2.1.29 Precedence: list List-Id: automatic DPDK test reports List-Unsubscribe: , List-Archive: List-Post: List-Help: List-Subscribe: , Errors-To: test-report-bounces@dpdk.org Test-Label: iol-unit-amd64-testing Test-Status: SUCCESS http://dpdk.org/patch/157783 _Testing PASS_ Submitter: Vamsi Krishna Attunuru Date: Friday, October 17 2025 05:42:10 DPDK git baseline: Repo:dpdk Branch: master CommitID:438491733c2d8a109574449d3d6de9b25a05c07c 157783 --> testing pass Upstream job id: Generic-VM-Unit-Test-DPDK#31870 Test environment and result as below: +-------------------------------+----------------+ | Environment | dpdk_unit_test | +===============================+================+ | CentOS Stream 9 | PASS | +-------------------------------+----------------+ | Fedora Linux 40 | PASS | +-------------------------------+----------------+ | CentOS Stream 10 | PASS | +-------------------------------+----------------+ | Debian GNU/Linux 12 | PASS | +-------------------------------+----------------+ | Fedora Linux 41 | PASS | +-------------------------------+----------------+ | Windows Server 2022 | PASS | +-------------------------------+----------------+ | Ubuntu 20.04 | PASS | +-------------------------------+----------------+ | Fedora Linux 42 | PASS | +-------------------------------+----------------+ | Red Hat Enterprise Linux 8.10 | PASS | +-------------------------------+----------------+ | Red Hat Enterprise Linux 9.5 | PASS | +-------------------------------+----------------+ | Ubuntu 22.04 | PASS | +-------------------------------+----------------+ | Ubuntu 24.04 | PASS | +-------------------------------+----------------+ CentOS Stream 9 Kernel: 5.15 Compiler: gcc gcc (GCC) 11.5.0 20240719 (Red Hat 11.5.0-11) Fedora Linux 40 Kernel: 5.15 Compiler: gcc gcc (GCC) 14.2.1 20240912 (Red Hat 14.2.1-3) CentOS Stream 10 Kernel: 5.15 Compiler: gcc gcc (GCC) 14.2.1 20250110 (Red Hat 14.2.1-8) Debian GNU/Linux 12 Kernel: 5.15 Compiler: gcc gcc (Debian 12.2.0-14+deb12u1) 12.2.0 Fedora Linux 41 Kernel: 5.15 Compiler: gcc gcc (GCC) 14.3.1 20250523 (Red Hat 14.3.1-1) Windows Server 2022 Kernel: 10.0.20348.2031 Compiler: clang 15.0.7, gcc 14.1.0 (MinGW), and MSVC VS 19.39.33521 Ubuntu 20.04 Kernel: 5.15 Compiler: gcc gcc (Ubuntu 9.4.0-1ubuntu1~20.04.2) 9.4.0 Fedora Linux 42 Kernel: 5.15 Compiler: clang gcc (GCC) 15.2.1 20250808 (Red Hat 15.2.1-1) Red Hat Enterprise Linux 8.10 Kernel: 5.15 Compiler: gcc gcc (GCC) 8.5.0 20210514 (Red Hat 8.5.0-22) Red Hat Enterprise Linux 9.5 Kernel: 5.15 Compiler: gcc gcc (GCC) 11.5.0 20240719 (Red Hat 11.5.0-2) Ubuntu 22.04 Kernel: 5.15 Compiler: gcc gcc (Ubuntu 11.4.0-1ubuntu1~22.04) 11.4.0 Ubuntu 24.04 Kernel: 5.15 Compiler: gcc gcc (Ubuntu 13.3.0-6ubuntu2~24.04) 13.3.0 To view detailed results, visit: https://lab.dpdk.org/results/dashboard/patchsets/34308/ UNH-IOL DPDK Community Lab To manage your email subscriptions, visit: https://lab.dpdk.org/results/dashboard/preferences/subscriptions/