From mboxrd@z Thu Jan 1 00:00:00 1970 Return-Path: Received: from mails.dpdk.org (mails.dpdk.org [217.70.189.124]) by inbox.dpdk.org (Postfix) with ESMTP id 109144895C for ; Fri, 17 Oct 2025 09:39:54 +0200 (CEST) Received: from mails.dpdk.org (localhost [127.0.0.1]) by mails.dpdk.org (Postfix) with ESMTP id DADDA40269; Fri, 17 Oct 2025 09:39:53 +0200 (CEST) Received: from mail-pf1-f227.google.com (mail-pf1-f227.google.com [209.85.210.227]) by mails.dpdk.org (Postfix) with ESMTP id C557640269 for ; Fri, 17 Oct 2025 09:39:52 +0200 (CEST) Received: by mail-pf1-f227.google.com with SMTP id d2e1a72fcca58-7a1603a098eso1108234b3a.1 for ; Fri, 17 Oct 2025 00:39:52 -0700 (PDT) DKIM-Signature: v=1; a=rsa-sha256; c=relaxed/relaxed; d=iol.unh.edu; s=unh-iol; t=1760686792; x=1761291592; darn=dpdk.org; h=references:in-reply-to:cc:to:from:subject:message-id:date:from:to :cc:subject:date:message-id:reply-to; bh=X1+6YaktO+pX2wWiux/LFMUrbKv+DI5H1eABcqpftVQ=; b=Wjc9JiNbrd6tjtkDzJPTwe2p8f93KprIS2ekCSEOuCVEk7EuyEzmjwqCGCwb6CUeSE JHO+DOql5jvSROLZCPIOw86oZ8Hjhenw3CzQGCj3T4BmGRBoqtYbn4delfqFwJWsMz8/ nVqkmgxlnGoEglUoJ1oANaYFM8YQM8tBixB4c= X-Google-DKIM-Signature: v=1; a=rsa-sha256; c=relaxed/relaxed; d=1e100.net; s=20230601; t=1760686792; x=1761291592; h=references:in-reply-to:cc:to:from:subject:message-id:date :x-gm-message-state:from:to:cc:subject:date:message-id:reply-to; bh=X1+6YaktO+pX2wWiux/LFMUrbKv+DI5H1eABcqpftVQ=; b=O3FqmZ0LDD6c57g1AB8k+VgjL9//aLVCCIGHxXYJaxw5XCy0QAzb8v5dQF/KAwawcV zEN/7Og9yUOdKpF4z/YyaiyoGsMv5jRrL9GF9I1lkgWNh44QEmV2eqaRhf1sZrgEhLtC 17ydDO2zoMbVlOHFuGKhEXtzD/khKfMq81T/VAFuh0UBKJr740Lb4wo/0EpboI6ifaDu pLi7n4IGD9oMk1na8K8F2OV4tFUdf8LAtXiPAKUgcNEXxd9JbG2eKiNuCQrOWoBAi2eb wmNqsTBG7eItuQGrCLwTI0kdrH8FE3m5opq3Jmrl32T3twaoBrxcqoJXaYv6vTEwIofX UQSQ== X-Gm-Message-State: AOJu0Yx3di4rur5hESMNol+Xwibd29xF1kF1d4q0SzcWBY49oF/w3kXz e7DEgG/K7P+Ub5uLMOpP8gqz8YQLs7qnZaxq8+MxumuKrjnvGo9oYcxzTlfUokKXwBOqhz8OUJ8 Yh3f4Bmg07zlamIyhxUhfAZeI6/Lp+/wCeP2oHv8+QUprEqwZEUt7CnhWRV2p X-Gm-Gg: ASbGnctgOw8dRGsLoBBTqhBLicMMDyl/R4XvCnwHaJJpQEh5fXNHpigmrxgtEmhh6kZ fvzBCKC38seXvp1GSLhntg740ykX4C9cfXwOrpkrp7j9uiF2JwUFdXb5IAITx5IfXFe3WX5dT4o dq+xysiTvIvE8pgy2huGHl2NmNTTXjLuiIC7vMXwGlPeVl48tO1uHRKgh9tB1y77CX5u9PtSqic JOvmTCPDjrBcomHwURKX7Z9kLwOhy/WEGroIwioh4AqoCFG97q6Id5e7DhSrOPJbv3GN6cRJfC3 fCk4r9i6+pJ8KDFXTpi8lio4zPh2XQLPN8ygmy8cjmHf4Sxd2Ktorwtpoz3FlysG2wGLzy8fptk lw5r698Wk X-Google-Smtp-Source: AGHT+IHd2e4ArrTE1oaJAwzLbzGIYyWqBoLleeoR08QqMKHeaZ+xSJJiS3oSpFW1lAZ49paY6mkgPHSa2aSs X-Received: by 2002:a05:6a21:1fc8:b0:334:a9c5:cb5 with SMTP id adf61e73a8af0-334a9c50d0emr2758721637.3.1760686791945; Fri, 17 Oct 2025 00:39:51 -0700 (PDT) Received: from postal.iol.unh.edu (postal.iol.unh.edu. [2606:4100:3880:1234::84]) by smtp-relay.gmail.com with ESMTPS id 41be03b00d2f7-b6a22871245sm367865a12.1.2025.10.17.00.39.51 (version=TLS1_2 cipher=ECDHE-ECDSA-AES128-GCM-SHA256 bits=128/128); Fri, 17 Oct 2025 00:39:51 -0700 (PDT) X-Relaying-Domain: iol.unh.edu Date: Fri, 17 Oct 2025 00:39:51 -0700 (PDT) Message-ID: <68f1f2c7.050a0220.1d7595.2a74SMTPIN_ADDED_MISSING@mx.google.com> Received: from [172.21.0.3] (unknown [172.18.0.240]) by postal.iol.unh.edu (Postfix) with ESMTP id 2AFFB6051830; Fri, 17 Oct 2025 03:39:51 -0400 (EDT) Subject: |SUCCESS| pw157783 [PATCH] [v4,1/1] lib/dma: introduce inter-process From: dpdklab@iol.unh.edu To: Test Report Cc: dpdk-test-reports@iol.unh.edu In-Reply-To: <20251017054210.3105218-1-vattunuru@marvell.com> References: <20251017054210.3105218-1-vattunuru@marvell.com> Content-Type: text/plain X-BeenThere: test-report@dpdk.org X-Mailman-Version: 2.1.29 Precedence: list List-Id: automatic DPDK test reports List-Unsubscribe: , List-Archive: List-Post: List-Help: List-Subscribe: , Errors-To: test-report-bounces@dpdk.org Test-Label: iol-unit-amd64-testing Test-Status: SUCCESS http://dpdk.org/patch/157783 _Testing PASS_ Submitter: Vamsi Krishna Attunuru Date: Friday, October 17 2025 05:42:10 DPDK git baseline: Repo:dpdk Branch: master CommitID:438491733c2d8a109574449d3d6de9b25a05c07c 157783 --> testing pass Upstream job id: Generic-VM-Unit-Test-DPDK#31871 Test environment and result as below: +-------------------------------+----------------+ | Environment | dpdk_unit_test | +===============================+================+ | CentOS Stream 9 | PASS | +-------------------------------+----------------+ | Fedora Linux 40 | PASS | +-------------------------------+----------------+ | CentOS Stream 10 | PASS | +-------------------------------+----------------+ | Debian GNU/Linux 12 | PASS | +-------------------------------+----------------+ | Fedora Linux 41 | PASS | +-------------------------------+----------------+ | Windows Server 2022 | PASS | +-------------------------------+----------------+ | Ubuntu 20.04 | PASS | +-------------------------------+----------------+ | Fedora Linux 42 | PASS | +-------------------------------+----------------+ | Red Hat Enterprise Linux 8.10 | PASS | +-------------------------------+----------------+ | Red Hat Enterprise Linux 9.5 | PASS | +-------------------------------+----------------+ | Ubuntu 22.04 | PASS | +-------------------------------+----------------+ | Ubuntu 24.04 | PASS | +-------------------------------+----------------+ CentOS Stream 9 Kernel: 5.15 Compiler: gcc gcc (GCC) 11.5.0 20240719 (Red Hat 11.5.0-11) Fedora Linux 40 Kernel: 5.15 Compiler: gcc gcc (GCC) 14.2.1 20240912 (Red Hat 14.2.1-3) CentOS Stream 10 Kernel: 5.15 Compiler: gcc gcc (GCC) 14.2.1 20250110 (Red Hat 14.2.1-8) Debian GNU/Linux 12 Kernel: 5.15 Compiler: gcc gcc (Debian 12.2.0-14+deb12u1) 12.2.0 Fedora Linux 41 Kernel: 5.15 Compiler: gcc gcc (GCC) 14.3.1 20250523 (Red Hat 14.3.1-1) Windows Server 2022 Kernel: 10.0.20348.2031 Compiler: clang 15.0.7, gcc 14.1.0 (MinGW), and MSVC VS 19.39.33521 Ubuntu 20.04 Kernel: 5.15 Compiler: gcc gcc (Ubuntu 9.4.0-1ubuntu1~20.04.2) 9.4.0 Fedora Linux 42 Kernel: 5.15 Compiler: clang gcc (GCC) 15.2.1 20250808 (Red Hat 15.2.1-1) Red Hat Enterprise Linux 8.10 Kernel: 5.15 Compiler: gcc gcc (GCC) 8.5.0 20210514 (Red Hat 8.5.0-22) Red Hat Enterprise Linux 9.5 Kernel: 5.15 Compiler: gcc gcc (GCC) 11.5.0 20240719 (Red Hat 11.5.0-2) Ubuntu 22.04 Kernel: 5.15 Compiler: gcc gcc (Ubuntu 11.4.0-1ubuntu1~22.04) 11.4.0 Ubuntu 24.04 Kernel: 5.15 Compiler: gcc gcc (Ubuntu 13.3.0-6ubuntu2~24.04) 13.3.0 To view detailed results, visit: https://lab.dpdk.org/results/dashboard/patchsets/34308/ UNH-IOL DPDK Community Lab To manage your email subscriptions, visit: https://lab.dpdk.org/results/dashboard/preferences/subscriptions/