From mboxrd@z Thu Jan 1 00:00:00 1970 Return-Path: Received: from mails.dpdk.org (mails.dpdk.org [217.70.189.124]) by inbox.dpdk.org (Postfix) with ESMTP id 5B4874895C for ; Fri, 17 Oct 2025 09:42:39 +0200 (CEST) Received: from mails.dpdk.org (localhost [127.0.0.1]) by mails.dpdk.org (Postfix) with ESMTP id 3494240269; Fri, 17 Oct 2025 09:42:39 +0200 (CEST) Received: from mail-qv1-f98.google.com (mail-qv1-f98.google.com [209.85.219.98]) by mails.dpdk.org (Postfix) with ESMTP id 2099440269 for ; Fri, 17 Oct 2025 09:42:38 +0200 (CEST) Received: by mail-qv1-f98.google.com with SMTP id 6a1803df08f44-81efcad9c90so29795556d6.0 for ; Fri, 17 Oct 2025 00:42:38 -0700 (PDT) DKIM-Signature: v=1; a=rsa-sha256; c=relaxed/relaxed; d=iol.unh.edu; s=unh-iol; t=1760686957; x=1761291757; darn=dpdk.org; h=cc:to:from:subject:message-id:date:from:to:cc:subject:date :message-id:reply-to; bh=i1ZvhCF4ILU/MBLTUFXinWTE0AQumM/8pTCT53QkFSY=; b=DIFWF8qTL8FTfRYGBH2pjTmoBY2wEh6oqz38K1kyKOM3abz8MznQYmoZWmKI1bPi/n 7k8g9la3kckuzh1KXg4D+L4zGZw4ZvMCPd9nv+3lz1jJxlzMg9G9huqjVkMaj+PBA4hA mdk5E+dze/57/NPy5S9pAB4XUsQwiIq15b0gk= X-Google-DKIM-Signature: v=1; a=rsa-sha256; c=relaxed/relaxed; d=1e100.net; s=20230601; t=1760686957; x=1761291757; h=cc:to:from:subject:message-id:date:x-gm-message-state:from:to:cc :subject:date:message-id:reply-to; bh=i1ZvhCF4ILU/MBLTUFXinWTE0AQumM/8pTCT53QkFSY=; b=fBE2szcXFphdfF6uhBXYWeOocrv763E9jO6GRwr5ZEiXxRb0h6CssD201Nx34WSP7R 1czpSxY2tm7Ii66pksAToyjGgxbKD/9mnwtNXcKZwlmwf7pBpFgUjsncaNKu0qqRwevM VKEuc63dG9c6z/DJRbOhA/BE2ZrED3zaDNmz53e5Z3Fooalc6Mccmjckb7Ly+iFhM4Lo 5E5jxqsIGP3qWTi4bA742AjImANi38Uqhp0QYCNFt5OUFxzFVTAQhuEQuB+zw30BsEVg QESjyljoXqLbS8USuchShswkTbCrtkdg6CcMm2Y5euJx6AuBTpy7TSpf8352fLdMBlEi 8fyw== X-Gm-Message-State: AOJu0Yx7NEBoZEWh72RabD7AF9vPqp6fkfM578j6A2NdqOkrGEsP3JlI sgm5t4XWbgQQj6jDU+5xGFL0qFwqUJ1pUjTiw9geTInJGSRW7gUZx790PxwgY2V8b7XJkrTPt1e 0GJGMZQrNkmL92x0tGlL2U3vKwcc0P8MG3+sIDKRK4Iwr X-Gm-Gg: ASbGncsOpVSg6JgdS86mKTja22jq8wKE5deALscEC5AD5pPTepw3rQfQFEGvc4N1WNl VqChRg0FXslPRUS+GIdPO5TXv7BVHiSmutT+Sqfz5fsWavRACk3r/HKlvyFQXJ1517z7uVjZ886 2SZV07i5UQQJoqfqQMcdmPGluO3zqWPV83YbhSxGrbjoKy19ToENX4gn+cxdJo9db5r3tKkbQHN /8XHb9EcAkrpgzHKE8nvwXgzmj06/9YlQt0hMcbIV9Z2CyPSiGFhPkktNXQZ4En4JyVHoMYzWIW dx8L9pGrE5oJKhmvAgX9eBi/5DgWd5MtHnpuXeKRnRm5CAkiAXAvPFtqWUD4VjenrqeoizwImmX UYcAstK8XhMZ56OJ9QqsMU4jFck/gjc8= X-Google-Smtp-Source: AGHT+IFH9FwP5DT8rtbCPAcdBhhBAZSctBc4Vp9CzXCgjP+/wbAoRuReY/lWIVcLLXP8fSwAYVeb7qZYmMsM X-Received: by 2002:ad4:5cc1:0:b0:794:99d3:dd69 with SMTP id 6a1803df08f44-87c2063044bmr41342946d6.45.1760686957021; Fri, 17 Oct 2025 00:42:37 -0700 (PDT) Received: from postal.iol.unh.edu (postal.iol.unh.edu. [132.177.123.84]) by smtp-relay.gmail.com with ESMTPS id 6a1803df08f44-87c0129f706sm6827796d6.27.2025.10.17.00.42.36 (version=TLS1_2 cipher=ECDHE-ECDSA-AES128-GCM-SHA256 bits=128/128); Fri, 17 Oct 2025 00:42:37 -0700 (PDT) X-Relaying-Domain: iol.unh.edu Date: Fri, 17 Oct 2025 00:42:37 -0700 (PDT) Message-ID: <68f1f36d.050a0220.24d8ed.305dSMTPIN_ADDED_MISSING@mx.google.com> Received: from [172.21.0.2] (unknown [172.18.0.240]) by postal.iol.unh.edu (Postfix) with ESMTP id B625D6051830; Fri, 17 Oct 2025 03:42:36 -0400 (EDT) Subject: |SUCCESS| [GIT MASTER] 535c49b6264f1df239703b8250b070e4c4cda2e9 From: dpdklab@iol.unh.edu To: Test Report Cc: dpdk-test-reports@iol.unh.edu, Stephen Hemminger Content-Type: text/plain X-BeenThere: test-report@dpdk.org X-Mailman-Version: 2.1.29 Precedence: list List-Id: automatic DPDK test reports List-Unsubscribe: , List-Archive: List-Post: List-Help: List-Subscribe: , Errors-To: test-report-bounces@dpdk.org _Testing PASS_ Branch: dpdk-next-net 535c49b6264f1df239703b8250b070e4c4cda2e9 --> testing pass Upstream job id: Generic-Unit-Test-DPDK#382581 Test environment and result as below: +-------------------------------+----------------+ | Environment | dpdk_unit_test | +===============================+================+ | CentOS Stream 10 | PASS | +-------------------------------+----------------+ | CentOS Stream 9 | PASS | +-------------------------------+----------------+ | Debian GNU/Linux 12 | PASS | +-------------------------------+----------------+ | Fedora Linux 40 | PASS | +-------------------------------+----------------+ | Fedora Linux 41 | PASS | +-------------------------------+----------------+ | Red Hat Enterprise Linux 8.10 | PASS | +-------------------------------+----------------+ | Ubuntu 20.04 | PASS | +-------------------------------+----------------+ | Red Hat Enterprise Linux 9.5 | PASS | +-------------------------------+----------------+ | Fedora Linux 42 | PASS | +-------------------------------+----------------+ | Ubuntu 22.04 | PASS | +-------------------------------+----------------+ | Ubuntu 24.04 | PASS | +-------------------------------+----------------+ CentOS Stream 10 Kernel: 5.15 Compiler: gcc gcc (GCC) 14.2.1 20250110 (Red Hat 14.2.1-8) CentOS Stream 9 Kernel: 5.15 Compiler: gcc gcc (GCC) 11.5.0 20240719 (Red Hat 11.5.0-11) Debian GNU/Linux 12 Kernel: 5.15 Compiler: gcc gcc (Debian 12.2.0-14+deb12u1) 12.2.0 Fedora Linux 40 Kernel: 5.15 Compiler: gcc gcc (GCC) 14.2.1 20240912 (Red Hat 14.2.1-3) Fedora Linux 41 Kernel: 5.15 Compiler: clang gcc (GCC) 14.3.1 20250523 (Red Hat 14.3.1-1) Red Hat Enterprise Linux 8.10 Kernel: 5.15 Compiler: gcc gcc (GCC) 8.5.0 20210514 (Red Hat 8.5.0-22) Ubuntu 20.04 Kernel: 5.15 Compiler: gcc gcc (Ubuntu 9.4.0-1ubuntu1~20.04.2) 9.4.0 Red Hat Enterprise Linux 9.5 Kernel: 5.15 Compiler: gcc gcc (GCC) 11.5.0 20240719 (Red Hat 11.5.0-2) Fedora Linux 42 Kernel: 5.15 Compiler: clang gcc (GCC) 15.2.1 20250808 (Red Hat 15.2.1-1) Ubuntu 22.04 Kernel: 5.15 Compiler: gcc gcc (Ubuntu 11.4.0-1ubuntu1~22.04) 11.4.0 Ubuntu 24.04 Kernel: 5.15 Compiler: gcc gcc (Ubuntu 13.3.0-6ubuntu2~24.04) 13.3.0 To view detailed results, visit: https://lab.dpdk.org/results/dashboard/tarballs/35248/ UNH-IOL DPDK Community Lab To manage your email subscriptions, visit: https://lab.dpdk.org/results/dashboard/preferences/subscriptions/