From mboxrd@z Thu Jan 1 00:00:00 1970 Return-Path: Received: from mails.dpdk.org (mails.dpdk.org [217.70.189.124]) by inbox.dpdk.org (Postfix) with ESMTP id 44CE54895C for ; Fri, 17 Oct 2025 09:52:51 +0200 (CEST) Received: from mails.dpdk.org (localhost [127.0.0.1]) by mails.dpdk.org (Postfix) with ESMTP id 1C99740269; Fri, 17 Oct 2025 09:52:51 +0200 (CEST) Received: from mail-pl1-f228.google.com (mail-pl1-f228.google.com [209.85.214.228]) by mails.dpdk.org (Postfix) with ESMTP id 554DF40269 for ; Fri, 17 Oct 2025 09:52:49 +0200 (CEST) Received: by mail-pl1-f228.google.com with SMTP id d9443c01a7336-2698d47e776so12125115ad.1 for ; Fri, 17 Oct 2025 00:52:49 -0700 (PDT) DKIM-Signature: v=1; a=rsa-sha256; c=relaxed/relaxed; d=iol.unh.edu; s=unh-iol; t=1760687568; x=1761292368; darn=dpdk.org; h=cc:to:from:subject:message-id:date:from:to:cc:subject:date :message-id:reply-to; bh=w241925Q6kpoW9Q/HTKM+WuKDP4A0OtDtdeEcGKX7uE=; b=T2kdVQ1oqq0an96pLKu3jNtlEMtk741azGd6KDxkLzHX5wMRYe6YhBgWoOilkKjMDN JAX5tcRfkBdLdtHDaoDN35LmFcWNTJuxVDNsFHFAqzqX7mN1b6My5DF1V46UjfHRAByR +wzqrFwK319qVQxBLueu9dJhqy96QapYqfyxE= X-Google-DKIM-Signature: v=1; a=rsa-sha256; c=relaxed/relaxed; d=1e100.net; s=20230601; t=1760687568; x=1761292368; h=cc:to:from:subject:message-id:date:x-gm-message-state:from:to:cc :subject:date:message-id:reply-to; bh=w241925Q6kpoW9Q/HTKM+WuKDP4A0OtDtdeEcGKX7uE=; b=nGRoaYgtBqwxwFPMegbrq9ONe+ojFs6asurRvNn9SFtqWAQr6yeL005uOni3a4dHJf nhrCKrDJd0Qn3uymdsYX5Pyfld3ptqjJ472ATPIJ07Pys23H3q5VPBIMQoRqR5hG3myd iqZGy9YcqQ0DKIOgdYjBcHN7zeAImskEmwwZQobyT8BbSxfaUD+bo8AqO2yOKrT6QZss GmAM0miBFp8I1QX0d1X/TtzHbkzzhU9QpVnXUR6H8dGyjHh/2W0bhSOE0quh+QkAYFzh ptpp60vCqUg2OwHkm+u7RlmK9wPNHi3xB7l7kamOR887Ls5rIUSg4Rp+oMXDfmy+QUG7 yMJQ== X-Gm-Message-State: AOJu0YytVVf56E62dVLBP5vES4CAIR19nMVWeUWjakbMb5VT/1q8haxm JK2ArZaQ/NNZ61nFBHmfCzgZn6odEt3ZpwDQgg/IKG2dSQN6YCLDboJZ2XG67pydLBapgbwLMkp O3agSTr8tRX7Uym8Dg+ggod3mbb2XmC3TWEUo X-Gm-Gg: ASbGncsGLR2JOWsHRyqr8elm+LGjk8N/JVOgA9fS/9mfVH5c+EGXoBj0eOvbpljNY7+ J8ZSEl/3AIqTTbgiQjbH4862WbrbG2i+QPywOQ8QGBDMfjZ6sspuGyW0d8YvgywI6cBZtUygYo+ XY+TO0PLWFsHAQjSUWSM03bjlABvIwpht5K9+9wIs9I3S0bRNoIUTdQ2RntEPuQQMmvRjmlB96c 3lKYH2Pp4diib54/lvQRPttp8sfwb16Fb9ekBMC5ZpscD1QCEgoiSvekvZSMr/6ZkvLl5WcXUbU 7ojYMAOhfCZ7uW1nBEkHAr/3s/I+hIQVQbPZRCmh8eUWk9Oy/0J32P5O1zh+Q8MsyRRas4qpwTD PNsFEi3y2IcJgPZk0eeSrK0rnH2BjdBo= X-Google-Smtp-Source: AGHT+IEgiPVuP0PrPTOzF29KBzU5N2ecuPM6Dd+OmNL6WWgIln1w5Gd7N/dRlGg0nCYjd0Wr2jLXmVhtnRdo X-Received: by 2002:a17:902:ec87:b0:264:70e9:dcb1 with SMTP id d9443c01a7336-290cba481bemr36634245ad.56.1760687568360; Fri, 17 Oct 2025 00:52:48 -0700 (PDT) Received: from postal.iol.unh.edu (postal.iol.unh.edu. [132.177.123.84]) by smtp-relay.gmail.com with ESMTPS id d9443c01a7336-29098fb7b25sm5779445ad.17.2025.10.17.00.52.48 (version=TLS1_2 cipher=ECDHE-ECDSA-AES128-GCM-SHA256 bits=128/128); Fri, 17 Oct 2025 00:52:48 -0700 (PDT) X-Relaying-Domain: iol.unh.edu Date: Fri, 17 Oct 2025 00:52:48 -0700 (PDT) Message-ID: <68f1f5d0.170a0220.146c76.e806SMTPIN_ADDED_MISSING@mx.google.com> Received: from [172.21.0.2] (unknown [172.18.0.240]) by postal.iol.unh.edu (Postfix) with ESMTP id 98C73604D420; Fri, 17 Oct 2025 03:52:47 -0400 (EDT) Subject: |SUCCESS| [GIT MASTER] 3b43ce3f4a54468e7ef65760c2fd7b4d6ee6d9fc From: dpdklab@iol.unh.edu To: Test Report Cc: dpdk-test-reports@iol.unh.edu, Xueming Li , Christian Ehrhardt , Kevin Traynor , Luca Boccassi Content-Type: text/plain X-BeenThere: test-report@dpdk.org X-Mailman-Version: 2.1.29 Precedence: list List-Id: automatic DPDK test reports List-Unsubscribe: , List-Archive: List-Post: List-Help: List-Subscribe: , Errors-To: test-report-bounces@dpdk.org _Testing PASS_ Branch: tags/v22.11 3b43ce3f4a54468e7ef65760c2fd7b4d6ee6d9fc --> testing pass Upstream job id: Generic-DPDK-Compile-Meson#435199 Test environment and result as below: +-------------------------------+--------------------+-------------------------+----------------------+ | Environment | dpdk_meson_compile | dpdk_llvm_clang_compile | dpdk_mingw64_compile | +===============================+====================+=========================+======================+ | FreeBSD 14.2 | PASS | SKIPPED | SKIPPED | +-------------------------------+--------------------+-------------------------+----------------------+ | Ubuntu 20.04 | PASS | SKIPPED | SKIPPED | +-------------------------------+--------------------+-------------------------+----------------------+ | CentOS Stream 9 | PASS | SKIPPED | SKIPPED | +-------------------------------+--------------------+-------------------------+----------------------+ | CentOS Stream 10 | PASS | SKIPPED | SKIPPED | +-------------------------------+--------------------+-------------------------+----------------------+ | Debian GNU/Linux 12 | PASS | SKIPPED | SKIPPED | +-------------------------------+--------------------+-------------------------+----------------------+ | Fedora Linux 42 | PASS | SKIPPED | SKIPPED | +-------------------------------+--------------------+-------------------------+----------------------+ | openSUSE Leap 15.6 | PASS | SKIPPED | SKIPPED | +-------------------------------+--------------------+-------------------------+----------------------+ | Red Hat Enterprise Linux 8.10 | PASS | SKIPPED | SKIPPED | +-------------------------------+--------------------+-------------------------+----------------------+ | Red Hat Enterprise Linux 9.5 | PASS | SKIPPED | SKIPPED | +-------------------------------+--------------------+-------------------------+----------------------+ | Ubuntu 22.04 | PASS | SKIPPED | SKIPPED | +-------------------------------+--------------------+-------------------------+----------------------+ | Ubuntu 24.04 | PASS | SKIPPED | SKIPPED | +-------------------------------+--------------------+-------------------------+----------------------+ | Windows Server 2022 | SKIPPED | PASS | PASS | +-------------------------------+--------------------+-------------------------+----------------------+ FreeBSD 14.2 Kernel: 14.2-RELEASE Compiler: clang 18.1.6 Ubuntu 20.04 Kernel: 4.19 Compiler: gcc gcc (Ubuntu 9.4.0-1ubuntu1~20.04.2) 9.4.0 CentOS Stream 9 Kernel: 5.15 Compiler: gcc gcc (GCC) 11.5.0 20240719 (Red Hat 11.5.0-11) CentOS Stream 10 Kernel: 5.15 Compiler: gcc gcc (GCC) 14.2.1 20250110 (Red Hat 14.2.1-8) Debian GNU/Linux 12 Kernel: 5.15 Compiler: gcc gcc (Debian 12.2.0-14+deb12u1) 12.2.0 Fedora Linux 42 Kernel: 5.15 Compiler: clang gcc (GCC) 15.2.1 20250808 (Red Hat 15.2.1-1) openSUSE Leap 15.6 Kernel: 5.15 Compiler: gcc gcc (SUSE Linux) 7.5.0 Red Hat Enterprise Linux 8.10 Kernel: 5.15 Compiler: gcc gcc (GCC) 8.5.0 20210514 (Red Hat 8.5.0-22) Red Hat Enterprise Linux 9.5 Kernel: 5.15 Compiler: gcc gcc (GCC) 11.5.0 20240719 (Red Hat 11.5.0-2) Ubuntu 22.04 Kernel: 5.15 Compiler: gcc gcc (Ubuntu 11.4.0-1ubuntu1~22.04) 11.4.0 Ubuntu 24.04 Kernel: 5.15 Compiler: gcc gcc (Ubuntu 13.3.0-6ubuntu2~24.04) 13.3.0 Windows Server 2022 Kernel: 10.0.20348.2031 Compiler: clang 15.0.7, gcc 14.1.0 (MinGW), and MSVC VS 19.39.33521 To view detailed results, visit: https://lab.dpdk.org/results/dashboard/tarballs/35243/ UNH-IOL DPDK Community Lab To manage your email subscriptions, visit: https://lab.dpdk.org/results/dashboard/preferences/subscriptions/