From mboxrd@z Thu Jan 1 00:00:00 1970 Return-Path: Received: from mails.dpdk.org (mails.dpdk.org [217.70.189.124]) by inbox.dpdk.org (Postfix) with ESMTP id 25E954895F for ; Fri, 17 Oct 2025 10:03:36 +0200 (CEST) Received: from mails.dpdk.org (localhost [127.0.0.1]) by mails.dpdk.org (Postfix) with ESMTP id 1FCC840269; Fri, 17 Oct 2025 10:03:36 +0200 (CEST) Received: from mail-pl1-f227.google.com (mail-pl1-f227.google.com [209.85.214.227]) by mails.dpdk.org (Postfix) with ESMTP id 6CEF840269 for ; Fri, 17 Oct 2025 10:03:34 +0200 (CEST) Received: by mail-pl1-f227.google.com with SMTP id d9443c01a7336-290ab379d48so15456215ad.2 for ; Fri, 17 Oct 2025 01:03:34 -0700 (PDT) DKIM-Signature: v=1; a=rsa-sha256; c=relaxed/relaxed; d=iol.unh.edu; s=unh-iol; t=1760688213; x=1761293013; darn=dpdk.org; h=references:in-reply-to:cc:to:from:subject:message-id:date:from:to :cc:subject:date:message-id:reply-to; bh=gZsXbbVq3DvWTSaoo0HUgI4HqVW0ccWjMI3+LDuSRtI=; b=P66PK3v76wV4myhM3vMsRtK8/suQUZiOa8+3AurFWGtNed1esdEchBA5ugXsSCtOIs +/leGV8TP9IcF9gSeMrUuh2fgAEj2g7eLBDAMSg8wwqe00jzRy0RFa/cE1VH4OwkWxh6 zHLkR6sh/E78lQeOsR45US/D6EJZaC1ANyt2Q= X-Google-DKIM-Signature: v=1; a=rsa-sha256; c=relaxed/relaxed; d=1e100.net; s=20230601; t=1760688213; x=1761293013; h=references:in-reply-to:cc:to:from:subject:message-id:date :x-gm-message-state:from:to:cc:subject:date:message-id:reply-to; bh=gZsXbbVq3DvWTSaoo0HUgI4HqVW0ccWjMI3+LDuSRtI=; b=aRlukSiee/fqaLA06xWI731EW6o8N9PqDWs/XkKC+ySEFfVx9ThKtt265PVRpChz3h avj8dJdX73lsKnhmSyzk615/yctW0tcgZkXcXW3dSWPL2nLm6qE1vr//dIjaxeZRK5Sl AphO8ipXzryXhrF2uIGc+82/IuXlQlZbc/drcqMRYL4tfKHs1nxm2c9iJ+aKC0nAU/V7 rJZ8Wsq7APcd5hB5s7fN2M4wtMjpPblVoR29h7bBY/HnTXKSgbqXfRZW0xdIp8TKP4b6 OobwySa4lBExeUUOTVEumiCb2JUE3pLGocEtZ3hCJQc7pGjdm4yzhXvWtm8DBmN2aG5v ZgZw== X-Gm-Message-State: AOJu0YyLN5llJ4cqPZAtZjIaKTyVATmCMOJUTFc643sQk3f60nfwkV0c B7JNXcIrgPNOnBa4lgP0fjpwar3wIcUypKh+iT+CmOtLCAJHcG2N0LyLOILM4rF71BOM1dG/axl PEwaZspeMmyP/wWmLc2d8G3RIFQvvD1imYo5QH8HCm0dDtHEwbpt8orUg/ewe X-Gm-Gg: ASbGncuEu/aTU7iUdeRyON12GObmRY61290GBOJvLqINuEeQc7RXpiyjFLhzzDZPtHn lhA1ZUrV+CAYio7LU4o9LJENg46XFUqp7bHh9ddVrwYpHZ4ZmLPvSZHpfysTkqpd29WzDsSxr/D 5E1QikHr7qCMeJAsVTzuWlfhfQJGywLrZn1Dqt/Y+IDr1hAnUFZ27f7cjYwXSRNolrA81di0UHJ I70QfzUR5xvViu+QM2THv+zw5KrfXbDA2a+7FVz8O6YSMPGjTmZFqvNx5XXEPxSGCaE31jTsCyE DSYJ6pjGOqYYAWDzyCqoHZhe1ffKWk3A2fIgjmBlf1i9p2P/+dtVnKBVJeiQvbiz2aO6IvFsXp7 CpTmfk0wj X-Google-Smtp-Source: AGHT+IFuCrQB4B2W+uLcMg2lI/YAAe8E4zQDFhLaycmdhpUwtqftYxtSXgBLWvvJFrjJAMgFHEQ+NxN1b/WM X-Received: by 2002:a17:902:ce12:b0:27e:ec72:f62 with SMTP id d9443c01a7336-290c9c89b06mr34112605ad.6.1760688213487; Fri, 17 Oct 2025 01:03:33 -0700 (PDT) Received: from postal.iol.unh.edu (postal.iol.unh.edu. [2606:4100:3880:1234::84]) by smtp-relay.gmail.com with ESMTPS id d9443c01a7336-290d86bf39dsm1768715ad.58.2025.10.17.01.03.33 (version=TLS1_2 cipher=ECDHE-ECDSA-AES128-GCM-SHA256 bits=128/128); Fri, 17 Oct 2025 01:03:33 -0700 (PDT) X-Relaying-Domain: iol.unh.edu Date: Fri, 17 Oct 2025 01:03:33 -0700 (PDT) Message-ID: <68f1f855.170a0220.27daaf.ae1fSMTPIN_ADDED_MISSING@mx.google.com> Received: from [172.21.0.2] (unknown [172.18.0.240]) by postal.iol.unh.edu (Postfix) with ESMTP id F2E0D6051830; Fri, 17 Oct 2025 04:03:32 -0400 (EDT) Subject: |SUCCESS| pw157714 [PATCH] config/arm: fix inconsistency for Neovers From: dpdklab@iol.unh.edu To: Test Report Cc: dpdk-test-reports@iol.unh.edu In-Reply-To: <20251016080533.535266-1-thierry.herbelot@6wind.com> References: <20251016080533.535266-1-thierry.herbelot@6wind.com> Content-Type: text/plain X-BeenThere: test-report@dpdk.org X-Mailman-Version: 2.1.29 Precedence: list List-Id: automatic DPDK test reports List-Unsubscribe: , List-Archive: List-Post: List-Help: List-Subscribe: , Errors-To: test-report-bounces@dpdk.org Test-Label: iol-unit-arm64-testing Test-Status: SUCCESS http://dpdk.org/patch/157714 _Testing PASS_ Submitter: Thierry Herbelot Date: Thursday, October 16 2025 08:05:33 DPDK git baseline: Repo:dpdk Branch: master CommitID:16f4c522003dcfecf23c8d38e009b95a3bbefd03 157714 --> testing pass Upstream job id: Generic-Unit-Test-DPDK#382104 Test environment and result as below: +------------------------------+----------------+---------------------------+--------------+------------------------------+ | Environment | dpdk_unit_test | cryptodev_sw_zuc_autotest | lpm_autotest | cryptodev_sw_snow3g_autotest | +==============================+================+===========================+==============+==============================+ | Fedora Linux 42 | PASS | SKIPPED | SKIPPED | SKIPPED | +------------------------------+----------------+---------------------------+--------------+------------------------------+ | CentOS Stream 10 | PASS | SKIPPED | SKIPPED | SKIPPED | +------------------------------+----------------+---------------------------+--------------+------------------------------+ | Ubuntu 24.04 | PASS | SKIPPED | SKIPPED | SKIPPED | +------------------------------+----------------+---------------------------+--------------+------------------------------+ | Fedora Linux 40 | PASS | SKIPPED | SKIPPED | SKIPPED | +------------------------------+----------------+---------------------------+--------------+------------------------------+ | CentOS Stream 9 | PASS | SKIPPED | SKIPPED | SKIPPED | +------------------------------+----------------+---------------------------+--------------+------------------------------+ | Fedora Linux 41 | PASS | SKIPPED | SKIPPED | SKIPPED | +------------------------------+----------------+---------------------------+--------------+------------------------------+ | Ubuntu 20.04 | PASS | SKIPPED | PASS | SKIPPED | +------------------------------+----------------+---------------------------+--------------+------------------------------+ | Ubuntu 22.04 | PASS | SKIPPED | SKIPPED | SKIPPED | +------------------------------+----------------+---------------------------+--------------+------------------------------+ | Red Hat Enterprise Linux 9.5 | PASS | SKIPPED | SKIPPED | SKIPPED | +------------------------------+----------------+---------------------------+--------------+------------------------------+ | Debian GNU/Linux 12 | PASS | SKIPPED | SKIPPED | SKIPPED | +------------------------------+----------------+---------------------------+--------------+------------------------------+ | Debian 12 (arm) | SKIPPED | PASS | SKIPPED | PASS | +------------------------------+----------------+---------------------------+--------------+------------------------------+ Fedora Linux 42 Kernel: 5.4 Compiler: gcc gcc (GCC) 15.2.1 20250808 (Red Hat 15.2.1-1) CentOS Stream 10 Kernel: 5.4 Compiler: gcc gcc (GCC) 14.2.1 20250110 (Red Hat 14.2.1-8) Ubuntu 24.04 Kernel: 5.4 Compiler: gcc gcc (Ubuntu 13.3.0-6ubuntu2~24.04) 13.3.0 Fedora Linux 40 Kernel: 5.4 Compiler: gcc gcc (GCC) 14.2.1 20240912 (Red Hat 14.2.1-3) CentOS Stream 9 Kernel: 5.4 Compiler: gcc gcc (GCC) 11.5.0 20240719 (Red Hat 11.5.0-11) Fedora Linux 41 Kernel: 5.4 Compiler: clang gcc (GCC) 14.3.1 20250523 (Red Hat 14.3.1-1) Ubuntu 20.04 Kernel: 5.4 Compiler: gcc gcc (Ubuntu 9.4.0-1ubuntu1~20.04.2) 9.4.0 Ubuntu 22.04 Kernel: 5.15 Compiler: gcc gcc (Ubuntu 11.4.0-1ubuntu1~22.04.2) 11.4.0 Red Hat Enterprise Linux 9.5 Kernel: 5.4 Compiler: gcc gcc (GCC) 11.5.0 20240719 (Red Hat 11.5.0-2) Debian GNU/Linux 12 Kernel: 5.4 Compiler: gcc gcc (Debian 12.2.0-14+deb12u1) 12.2.0 Debian 12 (arm) Kernel: Depends on container host Compiler: gcc (Debian 12.2.0-14) 12.2.0 To view detailed results, visit: https://lab.dpdk.org/results/dashboard/patchsets/34294/ UNH-IOL DPDK Community Lab To manage your email subscriptions, visit: https://lab.dpdk.org/results/dashboard/preferences/subscriptions/