From mboxrd@z Thu Jan 1 00:00:00 1970 Return-Path: Received: from mails.dpdk.org (mails.dpdk.org [217.70.189.124]) by inbox.dpdk.org (Postfix) with ESMTP id 495D14895F for ; Fri, 17 Oct 2025 10:04:49 +0200 (CEST) Received: from mails.dpdk.org (localhost [127.0.0.1]) by mails.dpdk.org (Postfix) with ESMTP id 422B840269; Fri, 17 Oct 2025 10:04:49 +0200 (CEST) Received: from mail-pj1-f98.google.com (mail-pj1-f98.google.com [209.85.216.98]) by mails.dpdk.org (Postfix) with ESMTP id 27E3340269 for ; Fri, 17 Oct 2025 10:04:48 +0200 (CEST) Received: by mail-pj1-f98.google.com with SMTP id 98e67ed59e1d1-33ba2f134f1so1584265a91.2 for ; Fri, 17 Oct 2025 01:04:48 -0700 (PDT) DKIM-Signature: v=1; a=rsa-sha256; c=relaxed/relaxed; d=iol.unh.edu; s=unh-iol; t=1760688287; x=1761293087; darn=dpdk.org; h=cc:to:from:subject:message-id:date:from:to:cc:subject:date :message-id:reply-to; bh=aUhDSnW1621pwKOhA1eoa3x3xgFkPCbjJU0vWi2YGI0=; b=CWXkxYSntbkh3j9Xr04P4NGpxllPopnPKYMtU5zRpthq/7aJ8XtyA1fragjSctgTbE 9IO+Jfyyp9AFU9akTEmxhGo0B0X5k37yQB50ibyJ+qO28DETiHRJ0weHxV6U0lpwFFPv 6q/+Z/hDj7JS8MpZB077slQF6bIS2Dof7JB/0= X-Google-DKIM-Signature: v=1; a=rsa-sha256; c=relaxed/relaxed; d=1e100.net; s=20230601; t=1760688287; x=1761293087; h=cc:to:from:subject:message-id:date:x-gm-message-state:from:to:cc :subject:date:message-id:reply-to; bh=aUhDSnW1621pwKOhA1eoa3x3xgFkPCbjJU0vWi2YGI0=; b=C2MzbO3DjKjvFg+Nsjo6W92H9RZ4AEiE9L3PfVoJXKVDm07hf5fVAvi75uSxlpLoBS DY4NBp3s3y0Q7N2pKRwy+3h2zfLWf+HkIvSWm5G20cTPtfqkK2tmdKQpqZtjnx95Idsq /zVpDNIwDgBKEjBx6FSqOJMLo7vyML8zR61mpDhgwTCVaaWfYUZDAaTw2ulZL9uxHhOu gNM9VRkl9X8MqLs0Pm6xiZvlDmQkgPh6r1xylgskWMP+RwXBguk3JTPq1pV/6WaIqMrL J9E73bsLZMfcTZLA3YrSJzp4rE9yJLs8SspgoHfZiWuL/u4mRb8JDmUluPP2F7dSyX7w LOKQ== X-Gm-Message-State: AOJu0YzYFiH2NUgcwqjoYUZdFhkcTeRUPH3rKZ09nqdD8MNMi+JPDnKL RjN9pEqU90Xwo4z1LXzf3SWDSU2Opdrk3rpMgJDUw4F342ibIMBEoahfvs3P8nGvkMKjDqNBXIM V4pHzKf6L5Afcwt+pVniz4wf5dzzO8mhthWBDnz103VkXRxVi2fPx5x/zfo1s X-Gm-Gg: ASbGncucFrMX7OEOaIhhTlXcdPLoPv6F3Mt8G8Dl8cA9DrtjtI85aiEwhL2CAqBXNON tGgvSYcI74T7+1pNjE5l8nuAYyKtZ/IcUSPe7m/FTLzV67rEWGtra6kUmSz1+FYdZ2adZc9yjSV FcG6VznR1Uq/F1ugl7y40qTuIKObooQAt3ioZ2hvCt31tfWR/kg+fha409ay19cPmWSN/yHZxTj GLSse2xGwckqEHbfNm7/b43SqE/AQfnT9KGERHl46/0x3Doa65uaIIdFBTX6PCuuKGlZ9QX6rip lmww9BUvVd4IJ5pXwQOHIS8+Uh05G2kx0r9qgbOIuYborHEgLDjxcEVkcrmZXNzbRyAj5gDn9D+ bAXlAy1W3 X-Google-Smtp-Source: AGHT+IGiYO6U72nYqA3s4NYn9BTd+zWGM7eU52omAA0Ao2E4yznXP6RgPUXLfY3WokA2iQOkNA+QYHiONhFq X-Received: by 2002:a17:90a:ec8b:b0:32b:6145:fa63 with SMTP id 98e67ed59e1d1-33bcf860229mr3807681a91.4.1760688287276; Fri, 17 Oct 2025 01:04:47 -0700 (PDT) Received: from postal.iol.unh.edu (postal.iol.unh.edu. [2606:4100:3880:1234::84]) by smtp-relay.gmail.com with ESMTPS id 98e67ed59e1d1-33bb66742c1sm377334a91.3.2025.10.17.01.04.47 (version=TLS1_2 cipher=ECDHE-ECDSA-AES128-GCM-SHA256 bits=128/128); Fri, 17 Oct 2025 01:04:47 -0700 (PDT) X-Relaying-Domain: iol.unh.edu Date: Fri, 17 Oct 2025 01:04:47 -0700 (PDT) Message-ID: <68f1f89f.170a0220.2570e5.2e27SMTPIN_ADDED_MISSING@mx.google.com> Received: from [172.21.0.2] (unknown [172.18.0.240]) by postal.iol.unh.edu (Postfix) with ESMTP id 8B74D6051830; Fri, 17 Oct 2025 04:04:46 -0400 (EDT) Subject: |SUCCESS| [GIT MASTER] 535c49b6264f1df239703b8250b070e4c4cda2e9 From: dpdklab@iol.unh.edu To: Test Report Cc: dpdk-test-reports@iol.unh.edu, Stephen Hemminger Content-Type: text/plain X-BeenThere: test-report@dpdk.org X-Mailman-Version: 2.1.29 Precedence: list List-Id: automatic DPDK test reports List-Unsubscribe: , List-Archive: List-Post: List-Help: List-Subscribe: , Errors-To: test-report-bounces@dpdk.org _Testing PASS_ Branch: dpdk-next-net 535c49b6264f1df239703b8250b070e4c4cda2e9 --> testing pass Upstream job id: Windows-Compile-DPDK-Native#31701 Test environment and result as below: +---------------------+--------------------+-------------------+-------------------------+ | Environment | dpdk_meson_compile | dpdk_msvc_compile | dpdk_llvm_clang_compile | +=====================+====================+===================+=========================+ | Ubuntu 20.04 | PASS | SKIPPED | SKIPPED | +---------------------+--------------------+-------------------+-------------------------+ | FreeBSD 14.2 | PASS | SKIPPED | SKIPPED | +---------------------+--------------------+-------------------+-------------------------+ | Windows Server 2022 | SKIPPED | PASS | PASS | +---------------------+--------------------+-------------------+-------------------------+ Ubuntu 20.04 Kernel: 4.19 Compiler: gcc gcc (Ubuntu 9.4.0-1ubuntu1~20.04.2) 9.4.0 FreeBSD 14.2 Kernel: 14.2-RELEASE Compiler: clang 18.1.6 Windows Server 2022 Kernel: 10.0.20348.2031 Compiler: clang 15.0.7, gcc 14.1.0 (MinGW), and MSVC VS 19.39.33521 To view detailed results, visit: https://lab.dpdk.org/results/dashboard/tarballs/35248/ UNH-IOL DPDK Community Lab To manage your email subscriptions, visit: https://lab.dpdk.org/results/dashboard/preferences/subscriptions/