From mboxrd@z Thu Jan 1 00:00:00 1970 Return-Path: Received: from mails.dpdk.org (mails.dpdk.org [217.70.189.124]) by inbox.dpdk.org (Postfix) with ESMTP id 2AABF4895F for ; Fri, 17 Oct 2025 10:12:16 +0200 (CEST) Received: from mails.dpdk.org (localhost [127.0.0.1]) by mails.dpdk.org (Postfix) with ESMTP id E9F7140269; Fri, 17 Oct 2025 10:12:15 +0200 (CEST) Received: from mail-il1-f227.google.com (mail-il1-f227.google.com [209.85.166.227]) by mails.dpdk.org (Postfix) with ESMTP id 308F940269 for ; Fri, 17 Oct 2025 10:12:14 +0200 (CEST) Received: by mail-il1-f227.google.com with SMTP id e9e14a558f8ab-430a4bf6b6dso7567425ab.0 for ; Fri, 17 Oct 2025 01:12:14 -0700 (PDT) DKIM-Signature: v=1; a=rsa-sha256; c=relaxed/relaxed; d=iol.unh.edu; s=unh-iol; t=1760688733; x=1761293533; darn=dpdk.org; h=cc:to:from:subject:message-id:date:from:to:cc:subject:date :message-id:reply-to; bh=xLQc0vHKad0S4Xlu1kb6lScBDMbZKwwDBnTqowtCXPY=; b=DHmAQfEgip2mcCpcVSBl4oz3dvsUcq+mlrNzaPB7B6O5yJTSX36MkDodVjn/osD+Pn NiHCJQA7DiCgDl0CAeYkF3lRzB8FJ7Jq2McaZ5i/qit7zUyNACKtPVUnl6jbSyZPrtcW 3qzwyg8esS0ksu8n83fS9T3FsphvWve8sGoHk= X-Google-DKIM-Signature: v=1; a=rsa-sha256; c=relaxed/relaxed; d=1e100.net; s=20230601; t=1760688733; x=1761293533; h=cc:to:from:subject:message-id:date:x-gm-message-state:from:to:cc :subject:date:message-id:reply-to; bh=xLQc0vHKad0S4Xlu1kb6lScBDMbZKwwDBnTqowtCXPY=; b=D0XKtcOUCjvXXivRNYCtxvCxjFSDnDZ//Ti8BRxO4xF+8QxXCc1SM9MIuZGpqEtA6H /l4wyFOvEOHsrJzU8/qGEXPy30V/WWA8SBvSpRtamc5lVXJ1kLhchBPx/9PoTFvBsXBr sdxA0+c9gUFNccy37dBDeHRVqfraN09KoWnIWq6gJb6uI4OP1G76pl9cPp64QPXwGJqX 7iYywSFo7Y4YpSgcwLS0a1uIohkIQQ6heC/e1I6dzgFVUn+pv/slWsZ+9/UI2JX5wTp8 a/p+GNBI+E84eaFFywPAWkDl2CUp47iiJvXSGPm83TQrExJCwIySyvqNeKNPjWUpAA2V 3P/w== X-Gm-Message-State: AOJu0YyG/XH+1+zYP+uGAd/y/44LZe0qr7uqZ5RnwvUPl20adVEFzC7w LZIiPQU47lkYnfNNitLFOmvyRY+MCYFmNJ70YFpcxwJl46Le8snsZv/15hBhJBSqIQPsma/KSeo DmOcrdgR+ATht/osj3bs8bzlS6DMhnqqIVRJW+fVzxsLz X-Gm-Gg: ASbGncuXFfkSpuijOdkrTNHoRDF7VNABUJJJWTpa8srJrMCEeZU5JE3Pv/fIbrPY6Q5 YMjT+DU9o5wgG/2P2amrUP5/h3epE+LcMuokVewmkZmqEMOgAa67APGv1btPHlCPic93Hq4+fNv +Y7iVj3wdRpA/yvHGe4pWheMdTatMaFGMw9FCcQFgHDndlT95mea/YfkWrGU2c7OCfNVcz7YYQ9 +DQeZgDjPCIU7tEaaz1b16mhW/Yrm4PqPrrJ5BYyCSHc8H4UketpBWGR0pyRArIY0hj8vYmOk7O eVLA9GOpiW5SMz/RgxqrgBDImEm2Cav9d5NYTAw4xZCVXsST82pR+jSQ5UToqMraNyYOQAE4tMN PGOuXdYf1/KDY9095SdIFyw7iUIs/4WM= X-Google-Smtp-Source: AGHT+IHX3o7IgezcLPgDcHH73/jXAkkB+xQTnpeRBygRay78GY7QHBq2q+ISYMqL9np+TA8oD0Ms0Cjyax2f X-Received: by 2002:a05:6e02:1fe1:b0:430:ab8e:9db5 with SMTP id e9e14a558f8ab-430c527077emr43619205ab.3.1760688733469; Fri, 17 Oct 2025 01:12:13 -0700 (PDT) Received: from postal.iol.unh.edu (postal.iol.unh.edu. [132.177.123.84]) by smtp-relay.gmail.com with ESMTPS id e9e14a558f8ab-430c54fb59dsm2143475ab.19.2025.10.17.01.12.13 (version=TLS1_2 cipher=ECDHE-ECDSA-AES128-GCM-SHA256 bits=128/128); Fri, 17 Oct 2025 01:12:13 -0700 (PDT) X-Relaying-Domain: iol.unh.edu Date: Fri, 17 Oct 2025 01:12:13 -0700 (PDT) Message-ID: <68f1fa5d.050a0220.becfd.a7f4SMTPIN_ADDED_MISSING@mx.google.com> Received: from [172.21.0.2] (unknown [172.18.0.240]) by postal.iol.unh.edu (Postfix) with ESMTP id 058F56051830; Fri, 17 Oct 2025 04:12:13 -0400 (EDT) Subject: |SUCCESS| [GIT MASTER] 535c49b6264f1df239703b8250b070e4c4cda2e9 From: dpdklab@iol.unh.edu To: Test Report Cc: dpdk-test-reports@iol.unh.edu, Stephen Hemminger Content-Type: text/plain X-BeenThere: test-report@dpdk.org X-Mailman-Version: 2.1.29 Precedence: list List-Id: automatic DPDK test reports List-Unsubscribe: , List-Archive: List-Post: List-Help: List-Subscribe: , Errors-To: test-report-bounces@dpdk.org _Testing PASS_ Branch: dpdk-next-net 535c49b6264f1df239703b8250b070e4c4cda2e9 --> testing pass Upstream job id: Generic-VM-Unit-Test-DPDK#31872 Test environment and result as below: +-------------------------------+----------------+ | Environment | dpdk_unit_test | +===============================+================+ | CentOS Stream 10 | PASS | +-------------------------------+----------------+ | CentOS Stream 9 | PASS | +-------------------------------+----------------+ | Debian GNU/Linux 12 | PASS | +-------------------------------+----------------+ | Fedora Linux 40 | PASS | +-------------------------------+----------------+ | Fedora Linux 41 | PASS | +-------------------------------+----------------+ | Red Hat Enterprise Linux 8.10 | PASS | +-------------------------------+----------------+ | Ubuntu 20.04 | PASS | +-------------------------------+----------------+ | Red Hat Enterprise Linux 9.5 | PASS | +-------------------------------+----------------+ | Fedora Linux 42 | PASS | +-------------------------------+----------------+ | Ubuntu 22.04 | PASS | +-------------------------------+----------------+ | Ubuntu 24.04 | PASS | +-------------------------------+----------------+ | Windows Server 2022 | PASS | +-------------------------------+----------------+ CentOS Stream 10 Kernel: 5.15 Compiler: gcc gcc (GCC) 14.2.1 20250110 (Red Hat 14.2.1-8) CentOS Stream 9 Kernel: 5.15 Compiler: gcc gcc (GCC) 11.5.0 20240719 (Red Hat 11.5.0-11) Debian GNU/Linux 12 Kernel: 5.15 Compiler: gcc gcc (Debian 12.2.0-14+deb12u1) 12.2.0 Fedora Linux 40 Kernel: 5.15 Compiler: gcc gcc (GCC) 14.2.1 20240912 (Red Hat 14.2.1-3) Fedora Linux 41 Kernel: 5.15 Compiler: clang gcc (GCC) 14.3.1 20250523 (Red Hat 14.3.1-1) Red Hat Enterprise Linux 8.10 Kernel: 5.15 Compiler: gcc gcc (GCC) 8.5.0 20210514 (Red Hat 8.5.0-22) Ubuntu 20.04 Kernel: 5.15 Compiler: gcc gcc (Ubuntu 9.4.0-1ubuntu1~20.04.2) 9.4.0 Red Hat Enterprise Linux 9.5 Kernel: 5.15 Compiler: gcc gcc (GCC) 11.5.0 20240719 (Red Hat 11.5.0-2) Fedora Linux 42 Kernel: 5.15 Compiler: clang gcc (GCC) 15.2.1 20250808 (Red Hat 15.2.1-1) Ubuntu 22.04 Kernel: 5.15 Compiler: gcc gcc (Ubuntu 11.4.0-1ubuntu1~22.04) 11.4.0 Ubuntu 24.04 Kernel: 5.15 Compiler: gcc gcc (Ubuntu 13.3.0-6ubuntu2~24.04) 13.3.0 Windows Server 2022 Kernel: 10.0.20348.2031 Compiler: clang 15.0.7, gcc 14.1.0 (MinGW), and MSVC VS 19.39.33521 To view detailed results, visit: https://lab.dpdk.org/results/dashboard/tarballs/35248/ UNH-IOL DPDK Community Lab To manage your email subscriptions, visit: https://lab.dpdk.org/results/dashboard/preferences/subscriptions/