From mboxrd@z Thu Jan 1 00:00:00 1970 Return-Path: Received: from mails.dpdk.org (mails.dpdk.org [217.70.189.124]) by inbox.dpdk.org (Postfix) with ESMTP id 3847E4895F for ; Fri, 17 Oct 2025 10:14:30 +0200 (CEST) Received: from mails.dpdk.org (localhost [127.0.0.1]) by mails.dpdk.org (Postfix) with ESMTP id 32CB940269; Fri, 17 Oct 2025 10:14:30 +0200 (CEST) Received: from mail-vk1-f225.google.com (mail-vk1-f225.google.com [209.85.221.225]) by mails.dpdk.org (Postfix) with ESMTP id 3C9E440269 for ; Fri, 17 Oct 2025 10:14:28 +0200 (CEST) Received: by mail-vk1-f225.google.com with SMTP id 71dfb90a1353d-54aa0792200so1193161e0c.3 for ; Fri, 17 Oct 2025 01:14:28 -0700 (PDT) DKIM-Signature: v=1; a=rsa-sha256; c=relaxed/relaxed; d=iol.unh.edu; s=unh-iol; t=1760688867; x=1761293667; darn=dpdk.org; h=cc:to:from:subject:message-id:date:from:to:cc:subject:date :message-id:reply-to; bh=SNf/Gd8GEaSizeBJ1E0QBTpTGc1ruNNUiTYSk1ztU5w=; b=TvuvL8ohzQ0AI9BjRfUa28uNCbdWOKXxwi7DpW42aK0rVa83YZ7BzNprk3ywyEeeP/ jaOTSNHBcg4r7sL7jMvgjS2q6IesJKQvumXygd9vhM4usvFAkwE5szWjTMLn5ttwdLh5 xx9+dnCRfoZNHhHbL+5j0UbKMkTrttnm4vXzU= X-Google-DKIM-Signature: v=1; a=rsa-sha256; c=relaxed/relaxed; d=1e100.net; s=20230601; t=1760688867; x=1761293667; h=cc:to:from:subject:message-id:date:x-gm-message-state:from:to:cc :subject:date:message-id:reply-to; bh=SNf/Gd8GEaSizeBJ1E0QBTpTGc1ruNNUiTYSk1ztU5w=; b=uEi2D7MVFGkg5P8W77jU6lfbHjjQLAVJPfzy0MqwQXwf2aBrVv5K6qRHtrGJWSIA4g XlY3ggLiAeelqL96T/F4hufBeOHjVTo5ysAEuRoaB27OQqiI+qIbycEr3Lebu2EdwLXe 7nRmNlRWlu19k0dyzN8K9rZblAJ0JN+NgLPmi9b5GaUGCwdK7qj/Atq33fHnYiLwcPqx qpaYbcYl4D/idpC/SY4WRgjL+pA/idBKy+uR2VJvhdrJMBJMI1TR3Lc9nS5R+m7CCZ6r WLWCMiDli5Q7xX+knpeMqQMrw7nz98NClgwnQmKde1TImlogVrfZp+10RKK+HdP6J3yn VIKA== X-Gm-Message-State: AOJu0Yzbu1FcrxgOdhQqquF1EVq69Wu6a8LIBzUbH4jftJgbDj2RFlXN RhrnYcpHUFlqJTa5RzCZq2uYct1iyDc4tQ6h8pznmG6rqOD+zIFa8ykGCVISDv65NttrRkFG36v YUkDO6F3W5BEjzoqzTPlo6wQQkmELuBPSMbu8evs4g8iQ1Wm6xIlIXVPXArNO X-Gm-Gg: ASbGncvCbSaEs2+iKL5k1s3SQfwT7l6EA3ftAT9TmYFn0Jra9WMK+5QRgCqq9NcArtY y/xg6C4ijDODRz8HSbEnkS8X+rtHvn+xnYa6XrKyC0X2RBK0Q/FiypBnEQfuk98yFtouxzFAZfF UTJ6nySQOcn959nE+ql0YAj3LYSYSlYUJmDgmNKbit1qyq9OdlRi7JhfsBS84kP8vfxnOottMrr 1Liq2P1G+kjrj6TTIk1bl2xfX9SaXzi2r5f+yZhSfT88hfaP2HkKbK1ttxa+Yk0ZzDGQ5/m0umr IGUABA8UeBwirR/n7EjEeShn7DIxl4q+2rW0jscj8EKzWWjQ34PKSn81gXARjf50krP6QQ5mJj6 kHaZHBJBx X-Google-Smtp-Source: AGHT+IF3tpQ+JaveWBXbWR1iZ5wzTjKaV789SAqwEkMivVJkOlV7iMtkyH5k1aFKmfVaYPYzzc6B+m9viq6Z X-Received: by 2002:a05:6122:2222:b0:54a:9cff:6fe7 with SMTP id 71dfb90a1353d-5564ee53244mr1334507e0c.4.1760688867453; Fri, 17 Oct 2025 01:14:27 -0700 (PDT) Received: from postal.iol.unh.edu (postal.iol.unh.edu. [2606:4100:3880:1234::84]) by smtp-relay.gmail.com with ESMTPS id 71dfb90a1353d-554d7ef0fabsm2307022e0c.1.2025.10.17.01.14.27 (version=TLS1_2 cipher=ECDHE-ECDSA-AES128-GCM-SHA256 bits=128/128); Fri, 17 Oct 2025 01:14:27 -0700 (PDT) X-Relaying-Domain: iol.unh.edu Date: Fri, 17 Oct 2025 01:14:27 -0700 (PDT) Message-ID: <68f1fae3.050a0220.2f4f89.345dSMTPIN_ADDED_MISSING@mx.google.com> Received: from [172.21.0.2] (unknown [172.18.0.240]) by postal.iol.unh.edu (Postfix) with ESMTP id 2A7BA6051830; Fri, 17 Oct 2025 04:14:27 -0400 (EDT) Subject: |SUCCESS| [GIT MASTER] 535c49b6264f1df239703b8250b070e4c4cda2e9 From: dpdklab@iol.unh.edu To: Test Report Cc: dpdk-test-reports@iol.unh.edu, Stephen Hemminger Content-Type: text/plain X-BeenThere: test-report@dpdk.org X-Mailman-Version: 2.1.29 Precedence: list List-Id: automatic DPDK test reports List-Unsubscribe: , List-Archive: List-Post: List-Help: List-Subscribe: , Errors-To: test-report-bounces@dpdk.org _Testing PASS_ Branch: dpdk-next-net 535c49b6264f1df239703b8250b070e4c4cda2e9 --> testing pass Upstream job id: Windows-Compile-DPDK-Native#31702 Test environment and result as below: +---------------------+--------------------+-------------------+-------------------------+----------------------+ | Environment | dpdk_meson_compile | dpdk_msvc_compile | dpdk_llvm_clang_compile | dpdk_mingw64_compile | +=====================+====================+===================+=========================+======================+ | Ubuntu 20.04 | PASS | SKIPPED | SKIPPED | SKIPPED | +---------------------+--------------------+-------------------+-------------------------+----------------------+ | FreeBSD 14.2 | PASS | SKIPPED | SKIPPED | SKIPPED | +---------------------+--------------------+-------------------+-------------------------+----------------------+ | Windows Server 2022 | SKIPPED | PASS | PASS | PASS | +---------------------+--------------------+-------------------+-------------------------+----------------------+ Ubuntu 20.04 Kernel: 4.19 Compiler: gcc gcc (Ubuntu 9.4.0-1ubuntu1~20.04.2) 9.4.0 FreeBSD 14.2 Kernel: 14.2-RELEASE Compiler: clang 18.1.6 Windows Server 2022 Kernel: 10.0.20348.2031 Compiler: clang 15.0.7, gcc 14.1.0 (MinGW), and MSVC VS 19.39.33521 To view detailed results, visit: https://lab.dpdk.org/results/dashboard/tarballs/35248/ UNH-IOL DPDK Community Lab To manage your email subscriptions, visit: https://lab.dpdk.org/results/dashboard/preferences/subscriptions/