From mboxrd@z Thu Jan 1 00:00:00 1970 Return-Path: Received: from mails.dpdk.org (mails.dpdk.org [217.70.189.124]) by inbox.dpdk.org (Postfix) with ESMTP id A5F694895F for ; Fri, 17 Oct 2025 10:30:43 +0200 (CEST) Received: from mails.dpdk.org (localhost [127.0.0.1]) by mails.dpdk.org (Postfix) with ESMTP id 8D5D440269; Fri, 17 Oct 2025 10:30:43 +0200 (CEST) Received: from mail-qv1-f100.google.com (mail-qv1-f100.google.com [209.85.219.100]) by mails.dpdk.org (Postfix) with ESMTP id DD03440269 for ; Fri, 17 Oct 2025 10:30:41 +0200 (CEST) Received: by mail-qv1-f100.google.com with SMTP id 6a1803df08f44-87c1f61ba98so18543196d6.0 for ; Fri, 17 Oct 2025 01:30:41 -0700 (PDT) DKIM-Signature: v=1; a=rsa-sha256; c=relaxed/relaxed; d=iol.unh.edu; s=unh-iol; t=1760689841; x=1761294641; darn=dpdk.org; h=cc:to:from:subject:message-id:date:from:to:cc:subject:date :message-id:reply-to; bh=AHY3qNL2Mu0nJejmOgYvbdyCPYQjRNJCLIhDEUtNHaI=; b=JRhk12RK7L2P/bH2KwGtuzkvWFVTa8mnjLxYj88iga9WbmV2t9EdiDABz/rAoW9DAd p+AFPv7taNmZhS6GW32IlS4wYs0Iad8xBAF6CUsPwgz0LzsILSRXDXxDT9JoA2XualAI 5uCLUM87Bh9NH6pz0uVhIIgVR7UFhVRc5XrBc= X-Google-DKIM-Signature: v=1; a=rsa-sha256; c=relaxed/relaxed; d=1e100.net; s=20230601; t=1760689841; x=1761294641; h=cc:to:from:subject:message-id:date:x-gm-message-state:from:to:cc :subject:date:message-id:reply-to; bh=AHY3qNL2Mu0nJejmOgYvbdyCPYQjRNJCLIhDEUtNHaI=; b=c7PyWOFJrYqo696O7/cumeI8hsCEQv3tNczrrOrKY9OV+2gDtlmB5VEuPYBkxkE0Gd J4oA89em1Z+sRbrqXr3BgP8SRrp8EDj7+MCNaACH2z1yHUzkFXS4UX8SpIUwUMJTp7OU rnMathq078806g9gIfhXU3ItjY784LnxesqFhVuvLYDOMEtvP0lTR7K8LdD3l+A3TkPP mQU4t0MHXcyFLIiBWsD88PVr8eUHXM4tM68iKX7DaqCOKZfeuuQzeqWZ6o4clmr76GhC tsZ+McrlKS77V1iCRzQzaXyA38a3b6IWysTnQcMgWW6hGpl+MB5yxFt3dGpr9cyjflAP x6Hg== X-Gm-Message-State: AOJu0YzdxCbJ1H4SOC8DDl2630e0gb5dz5LIzKczWx/zRGoZr8riuf3A e6ZRa8mBVa/jvcFZdUOEDCZONLs2eJsWQRJDI3slYxg0E3evmlXf1JWP8CL2iU3td2m1I8DP3yZ GIIg5bt62JPCWHJf8oEjYY8+jf699TiDJCd3zLK815O2It96EoPl1oLL+V5XE X-Gm-Gg: ASbGncti7j5P0SbGqJTrQ/B8D94V5JmjcZYMQf6UYin8eykIlSd7QXqa6q+ibz0wT1l NzeciSqOXDtYjxqtuHJe0MOX6+CPzn3OMMimZ4FGty3AcyQPy3zmmOFF6Pa26cdFwhPUI3laIaq Ze8oXW+BzSePHwVsgJ/WWgWZZK4Z20WQa68LxfoYXcmbAWs6N17BePz72/gKwFV2hYLUxDg+1Aa N12NHZS4lFJJPoiXdmpF8ZWv5q1hntqxpX6o6cQ134yKdBh5w0/MdFCyzQ95qbKogjLdndkkFs9 xRiFTRcGz8h8UQrVu2J65vN9ndczaOOSuLdsKMQgNTdQioLXVqjZt7bjodbzjSwonsSCKk2jFgd 9dZwxIDjV X-Google-Smtp-Source: AGHT+IGMqUeiUR7Fz7WbaImYaYRafealAoKMdcjLMJxUFdW2ky1lA9vwJL2ngZATNWBT4tVIbrft79sxXQSo X-Received: by 2002:a05:6214:5094:b0:81b:23d:55a8 with SMTP id 6a1803df08f44-87c2065f6femr36701156d6.59.1760689841197; Fri, 17 Oct 2025 01:30:41 -0700 (PDT) Received: from postal.iol.unh.edu (postal.iol.unh.edu. [2606:4100:3880:1234::84]) by smtp-relay.gmail.com with ESMTPS id 6a1803df08f44-87c012abd4csm7304926d6.32.2025.10.17.01.30.41 (version=TLS1_2 cipher=ECDHE-ECDSA-AES128-GCM-SHA256 bits=128/128); Fri, 17 Oct 2025 01:30:41 -0700 (PDT) X-Relaying-Domain: iol.unh.edu Date: Fri, 17 Oct 2025 01:30:41 -0700 (PDT) Message-ID: <68f1feb1.050a0220.11ed98.3f7bSMTPIN_ADDED_MISSING@mx.google.com> Received: from [172.21.0.2] (unknown [172.18.0.240]) by postal.iol.unh.edu (Postfix) with ESMTP id C40426051830; Fri, 17 Oct 2025 04:30:40 -0400 (EDT) Subject: |SUCCESS| [GIT MASTER] 535c49b6264f1df239703b8250b070e4c4cda2e9 From: dpdklab@iol.unh.edu To: Test Report Cc: dpdk-test-reports@iol.unh.edu, Stephen Hemminger Content-Type: text/plain X-BeenThere: test-report@dpdk.org X-Mailman-Version: 2.1.29 Precedence: list List-Id: automatic DPDK test reports List-Unsubscribe: , List-Archive: List-Post: List-Help: List-Subscribe: , Errors-To: test-report-bounces@dpdk.org _Testing PASS_ Branch: dpdk-next-net 535c49b6264f1df239703b8250b070e4c4cda2e9 --> testing pass Upstream job id: Generic-VM-Unit-Test-DPDK#31873 Test environment and result as below: +-------------------------------+----------------+ | Environment | dpdk_unit_test | +===============================+================+ | CentOS Stream 10 | PASS | +-------------------------------+----------------+ | CentOS Stream 9 | PASS | +-------------------------------+----------------+ | Debian GNU/Linux 12 | PASS | +-------------------------------+----------------+ | Fedora Linux 40 | PASS | +-------------------------------+----------------+ | Fedora Linux 41 | PASS | +-------------------------------+----------------+ | Red Hat Enterprise Linux 8.10 | PASS | +-------------------------------+----------------+ | Ubuntu 20.04 | PASS | +-------------------------------+----------------+ | Red Hat Enterprise Linux 9.5 | PASS | +-------------------------------+----------------+ | Fedora Linux 42 | PASS | +-------------------------------+----------------+ | Ubuntu 22.04 | PASS | +-------------------------------+----------------+ | Ubuntu 24.04 | PASS | +-------------------------------+----------------+ | Windows Server 2022 | PASS | +-------------------------------+----------------+ CentOS Stream 10 Kernel: 5.15 Compiler: gcc gcc (GCC) 14.2.1 20250110 (Red Hat 14.2.1-8) CentOS Stream 9 Kernel: 5.15 Compiler: gcc gcc (GCC) 11.5.0 20240719 (Red Hat 11.5.0-11) Debian GNU/Linux 12 Kernel: 5.15 Compiler: gcc gcc (Debian 12.2.0-14+deb12u1) 12.2.0 Fedora Linux 40 Kernel: 5.15 Compiler: gcc gcc (GCC) 14.2.1 20240912 (Red Hat 14.2.1-3) Fedora Linux 41 Kernel: 5.15 Compiler: clang gcc (GCC) 14.3.1 20250523 (Red Hat 14.3.1-1) Red Hat Enterprise Linux 8.10 Kernel: 5.15 Compiler: gcc gcc (GCC) 8.5.0 20210514 (Red Hat 8.5.0-22) Ubuntu 20.04 Kernel: 5.15 Compiler: gcc gcc (Ubuntu 9.4.0-1ubuntu1~20.04.2) 9.4.0 Red Hat Enterprise Linux 9.5 Kernel: 5.15 Compiler: gcc gcc (GCC) 11.5.0 20240719 (Red Hat 11.5.0-2) Fedora Linux 42 Kernel: 5.15 Compiler: clang gcc (GCC) 15.2.1 20250808 (Red Hat 15.2.1-1) Ubuntu 22.04 Kernel: 5.15 Compiler: gcc gcc (Ubuntu 11.4.0-1ubuntu1~22.04) 11.4.0 Ubuntu 24.04 Kernel: 5.15 Compiler: gcc gcc (Ubuntu 13.3.0-6ubuntu2~24.04) 13.3.0 Windows Server 2022 Kernel: 10.0.20348.2031 Compiler: clang 15.0.7, gcc 14.1.0 (MinGW), and MSVC VS 19.39.33521 To view detailed results, visit: https://lab.dpdk.org/results/dashboard/tarballs/35248/ UNH-IOL DPDK Community Lab To manage your email subscriptions, visit: https://lab.dpdk.org/results/dashboard/preferences/subscriptions/