From mboxrd@z Thu Jan 1 00:00:00 1970 Return-Path: Received: from mails.dpdk.org (mails.dpdk.org [217.70.189.124]) by inbox.dpdk.org (Postfix) with ESMTP id 247704895F for ; Fri, 17 Oct 2025 11:28:57 +0200 (CEST) Received: from mails.dpdk.org (localhost [127.0.0.1]) by mails.dpdk.org (Postfix) with ESMTP id 00CB240DDA; Fri, 17 Oct 2025 11:28:57 +0200 (CEST) Received: from mail-pf1-f228.google.com (mail-pf1-f228.google.com [209.85.210.228]) by mails.dpdk.org (Postfix) with ESMTP id 88ED040DDA for ; Fri, 17 Oct 2025 11:28:56 +0200 (CEST) Received: by mail-pf1-f228.google.com with SMTP id d2e1a72fcca58-782a77b5ec7so1676709b3a.1 for ; Fri, 17 Oct 2025 02:28:56 -0700 (PDT) DKIM-Signature: v=1; a=rsa-sha256; c=relaxed/relaxed; d=iol.unh.edu; s=unh-iol; t=1760693336; x=1761298136; darn=dpdk.org; h=references:in-reply-to:cc:to:from:subject:message-id:date:from:to :cc:subject:date:message-id:reply-to; bh=n0NOdvS89l8MUqBkzIsWcaDl0F5JqAJjYlw1SiPg4vY=; b=FtZhvfNHmpMoNalmrSRzgStfO20afc7XY5w9fFQzX19GMk4pOPKdnAeOC2gIxvQFb9 SZOvLwYg3g4adnbFP/y6OnNrzPxGaaIHJqMMLhVsIpLcTP0oxCuPmunQ1l7gTtOhBQcM wdhS/sZiLt8C/Ob8xbWYPmIAc9krcZscHJCDU= X-Google-DKIM-Signature: v=1; a=rsa-sha256; c=relaxed/relaxed; d=1e100.net; s=20230601; t=1760693336; x=1761298136; h=references:in-reply-to:cc:to:from:subject:message-id:date :x-gm-message-state:from:to:cc:subject:date:message-id:reply-to; bh=n0NOdvS89l8MUqBkzIsWcaDl0F5JqAJjYlw1SiPg4vY=; b=A31Zfez0hX82pKSwx+hcyGL/FSURSF1N9h+IOtxbYvYotzLTvlsfBXTYi/wt7q5fVy Rn1vhVJvV6CTMbomY0SxLZmcBXwgT4wZMNpy+GaIB5/Erk3zvvLQZNshY4z9+25tOylE YrcMAh4BTifnc9HNlWe807VaMN6RT0eGkCmyWRsLnX6iBFBXInwtd7YiyQQik/rLqNLH wpIS/a0NzuGvsihnyHffFhcORqvhzjFsiIc0PGtk+BsKsMZBuFpRJtz5ZL7uhl2mnWpc ZODUezNSKEZH85bYfByqEQAwT8XJ5yOCAcVgNNM0rj9B5IfzmSpfMAIlh0+tVssYe16A JycQ== X-Gm-Message-State: AOJu0Yw2HScnX4voOKkw2jzAWQ+wceKi+3Wj9qZw55W5AGoplYlayGxf HCaE0N8cIS+oGLMWvuRwE9e+WE1nHukk9AvgB5fCn4XBlPPbXlrPwLhAqZasYaSRA2mN71IruzE 4YTsRKZRHx4pVWXX/GabzXQK2akc4WIZwTcZAuWNFBnjg X-Gm-Gg: ASbGncs0MCjh5Et70m2KlerJ2NsOFxRBd690+TioWXEeyusm9xWE5ifhx/dP92FPP7J KsKlGngCDa+8DlBqwjDlJXsosLM6HNnq+77iJKO4wEvX3XX6BSx4sKxFpQd/2BXUQJle4O2VLTK hdvfTAoF6fHEWE4XAJfB9HfsyG7zhTXhrjv3tg6Hd0XdUh+1sKe4Z4YSliTk15OFFm8RKd740dk iU3oVz65UyjTMTTk1l9ip/fWOjoTcMkWDNhnxzy8irT7Lu9Jk2DZ9ss9ava+VoczbaD9DbBBb4X EA2PEg90OR1Wk3PPfqQr2yzs7EFH3G/NJK6kf1fxWOQpZPkZKXInv0A0TI35kJ/TLDRa2n1fc+f KJSCLh3RFx/HreVZJGXZhT/PKpz4IVhE= X-Google-Smtp-Source: AGHT+IHjJXCEDzaR8YjIN7ccyxPtcimMO9DUeqKJsoTsjnpDJHEgb5O6U2B1CAMPoFKc7sk+xODhmE05XITe X-Received: by 2002:a17:903:120c:b0:269:b6c4:1005 with SMTP id d9443c01a7336-290cb94b68emr41426445ad.55.1760693335628; Fri, 17 Oct 2025 02:28:55 -0700 (PDT) Received: from postal.iol.unh.edu (postal.iol.unh.edu. [132.177.123.84]) by smtp-relay.gmail.com with ESMTPS id d9443c01a7336-290990be8bcsm5825375ad.24.2025.10.17.02.28.55 (version=TLS1_2 cipher=ECDHE-ECDSA-AES128-GCM-SHA256 bits=128/128); Fri, 17 Oct 2025 02:28:55 -0700 (PDT) X-Relaying-Domain: iol.unh.edu Date: Fri, 17 Oct 2025 02:28:55 -0700 (PDT) Message-ID: <68f20c57.170a0220.7f0f2.d322SMTPIN_ADDED_MISSING@mx.google.com> Received: from [172.21.0.2] (unknown [172.18.0.240]) by postal.iol.unh.edu (Postfix) with ESMTP id C7AC660003EA; Fri, 17 Oct 2025 05:28:54 -0400 (EDT) Subject: |SUCCESS| pw157735-157754 [PATCH] [v5,21/21] doc: update release not From: dpdklab@iol.unh.edu To: Test Report Cc: dpdk-test-reports@iol.unh.edu, Stephen Hemminger In-Reply-To: <20251016111736.25372-22-zaiyuwang@trustnetic.com> References: <20251016111736.25372-22-zaiyuwang@trustnetic.com> Content-Type: text/plain X-BeenThere: test-report@dpdk.org X-Mailman-Version: 2.1.29 Precedence: list List-Id: automatic DPDK test reports List-Unsubscribe: , List-Archive: List-Post: List-Help: List-Subscribe: , Errors-To: test-report-bounces@dpdk.org Test-Label: iol-compile-arm64-testing Test-Status: SUCCESS http://dpdk.org/patch/157754 _Testing PASS_ Submitter: Zaiyu Wang Date: Thursday, October 16 2025 11:17:35 DPDK git baseline: Repo:dpdk-next-net Branch: master CommitID:791cea04798a8e2de014b99c009cd25b5929000a 157735-157754 --> testing pass Upstream job id: Generic-DPDK-Compile-Meson#434996 Test environment and result as below: +------------------------------+--------------------+ | Environment | dpdk_meson_compile | +==============================+====================+ | Red Hat Enterprise Linux 9.5 | PASS | +------------------------------+--------------------+ | Ubuntu 20.04 | PASS | +------------------------------+--------------------+ | Debian GNU/Linux 12 | PASS | +------------------------------+--------------------+ | Fedora Linux 42 | PASS | +------------------------------+--------------------+ | Ubuntu 22.04 | PASS | +------------------------------+--------------------+ | Ubuntu 24.04 | PASS | +------------------------------+--------------------+ | CentOS Stream 9 | PASS | +------------------------------+--------------------+ | CentOS Stream 10 | PASS | +------------------------------+--------------------+ Red Hat Enterprise Linux 9.5 Kernel: 5.4 Compiler: gcc gcc (GCC) 11.5.0 20240719 (Red Hat 11.5.0-2) Ubuntu 20.04 Kernel: 5.15 Compiler: aarch64-linux-gnu-gcc gcc (Ubuntu 9.4.0-1ubuntu1~20.04.2) 9.4.0 Debian GNU/Linux 12 Kernel: 5.4 Compiler: gcc gcc (Debian 12.2.0-14+deb12u1) 12.2.0 Fedora Linux 42 Kernel: 5.4 Compiler: gcc gcc (GCC) 15.2.1 20250808 (Red Hat 15.2.1-1) Ubuntu 22.04 Kernel: 5.4 Compiler: gcc gcc (Ubuntu 11.4.0-1ubuntu1~22.04) 11.4.0 Ubuntu 24.04 Kernel: 5.4 Compiler: gcc gcc (Ubuntu 13.3.0-6ubuntu2~24.04) 13.3.0 CentOS Stream 9 Kernel: 5.4 Compiler: gcc gcc (GCC) 11.5.0 20240719 (Red Hat 11.5.0-11) CentOS Stream 10 Kernel: 5.4 Compiler: gcc gcc (GCC) 14.2.1 20250110 (Red Hat 14.2.1-8) To view detailed results, visit: https://lab.dpdk.org/results/dashboard/patchsets/34299/ UNH-IOL DPDK Community Lab To manage your email subscriptions, visit: https://lab.dpdk.org/results/dashboard/preferences/subscriptions/