From mboxrd@z Thu Jan 1 00:00:00 1970 Return-Path: Received: from mails.dpdk.org (mails.dpdk.org [217.70.189.124]) by inbox.dpdk.org (Postfix) with ESMTP id 90FFA4895F for ; Fri, 17 Oct 2025 11:33:46 +0200 (CEST) Received: from mails.dpdk.org (localhost [127.0.0.1]) by mails.dpdk.org (Postfix) with ESMTP id 6E87440DCF; Fri, 17 Oct 2025 11:33:46 +0200 (CEST) Received: from mail-il1-f226.google.com (mail-il1-f226.google.com [209.85.166.226]) by mails.dpdk.org (Postfix) with ESMTP id B6E2240DCF for ; Fri, 17 Oct 2025 11:33:45 +0200 (CEST) Received: by mail-il1-f226.google.com with SMTP id e9e14a558f8ab-430c97cbe0eso3727475ab.2 for ; Fri, 17 Oct 2025 02:33:45 -0700 (PDT) DKIM-Signature: v=1; a=rsa-sha256; c=relaxed/relaxed; d=iol.unh.edu; s=unh-iol; t=1760693625; x=1761298425; darn=dpdk.org; h=references:in-reply-to:cc:to:from:subject:message-id:date:from:to :cc:subject:date:message-id:reply-to; bh=bGCERZA5XVJtLbGKT1bF1ZAtTuO6TZ2kSr7+C1XWrfM=; b=IMgCDgIe8VLFGCOx4bmXEcG66lameol/X8HwHv2d0+x9mt248NDq30Yn9R4M/VHgD+ WJuYmzfDWyHU9hW5OlcGtfH9eagIAW0PvmPfwJxARvTfNRJeSKbuFZD7Ukeq0uerEbLQ VB84DhrY2BKqKcLLDTfHXff2No3IGeyNmvQ4M= X-Google-DKIM-Signature: v=1; a=rsa-sha256; c=relaxed/relaxed; d=1e100.net; s=20230601; t=1760693625; x=1761298425; h=references:in-reply-to:cc:to:from:subject:message-id:date :x-gm-message-state:from:to:cc:subject:date:message-id:reply-to; bh=bGCERZA5XVJtLbGKT1bF1ZAtTuO6TZ2kSr7+C1XWrfM=; b=n4NYAU5cP6mJrpHVQ3wJJM0WN02wrl3uH1KmBAng91HWZfJ9Zer8iLXrJ+SXRCo58f 9YTs9nZCIr54erohRKEEek12iDXYRdWg/7yqmle3qDy1T3rao/T8rKCOHeAz53KYm5mq JYI07nnHr9+H6tBa+H9YrC7r6S+BJlUrJMvllzE42WOLVIPuzUkLmRZppFTIRFSb32QG xOkAR8DbiIuLWBlQrGCFJv5wdCGY7J3ddx+wTSWNuAW/EB1u3o0zGwPvyT63Jcdk7412 28iy7wwfOHlbgBJpFzcGMXoFoZkMf8ZNMXRcHcPF8EJiEr3RiV/2oIbnE6SE/WdXfGIm Ty9w== X-Gm-Message-State: AOJu0YzAlOEB23gN+QwKYHgzF6HQrU5zl6ifv9XZoYWGvOK5wkncfnfh fgRBDFAjXcobQXSghMnkiMO+mM456xzeFUTIuhX++xPqQzvhIN8EGtcdmKJ95qJobdUAesHEMgb E1sITQZ+O0AifTaEMqCqbvSbYHvquk8JSrnYHABc4cpvH X-Gm-Gg: ASbGncsXXdK2vPUk1wi2zcUxCEqloYLufwj5a5Id1O4Zr0+u9QOAtpmyOyiqwmKPrTK GHcki0ek3TO8J7eupbU0ueu0SGp460dQTKhY0s1m8ASXPX4UaIzzQbCHSLoxrcitUItOc1N/CYw bbjk8OoLmBzWhzS7nrAGuJ+gUr960v6MYFwUeDZGos9Tzmr8wS0bGyebF5Rfhc6GLar3rtbIJCl Uvs2ep58hewyKS5slk4El27AMwyC9eweTpkdB43dSqGkolpdTJHmvyt0cHaWd4u10KYoR+3xW4B UdgJl3BOEY7zM/czVoUN1h9k/T+sJzXou6xxONpafB5CxnHIdKNXEBuxqxQhs4lB4x22eCKLvD+ mrZfYWVpuR/xDTkQsCF/OBV3EwtriJi8= X-Google-Smtp-Source: AGHT+IHBZfhE44Y0oYQp3QIuel00vT4fKOLiI6cn/NvDsBmXcfunoUxv6Xljr8QZu3tVazsjGWdzo7/8h3mE X-Received: by 2002:a05:6e02:2291:b0:42f:9187:f6e0 with SMTP id e9e14a558f8ab-430c5270233mr49910555ab.13.1760693625030; Fri, 17 Oct 2025 02:33:45 -0700 (PDT) Received: from postal.iol.unh.edu (postal.iol.unh.edu. [132.177.123.84]) by smtp-relay.gmail.com with ESMTPS id 8926c6da1cb9f-5a76f7069absm176206173.24.2025.10.17.02.33.44 (version=TLS1_2 cipher=ECDHE-ECDSA-AES128-GCM-SHA256 bits=128/128); Fri, 17 Oct 2025 02:33:45 -0700 (PDT) X-Relaying-Domain: iol.unh.edu Date: Fri, 17 Oct 2025 02:33:45 -0700 (PDT) Message-ID: <68f20d79.050a0220.fbe34.8fefSMTPIN_ADDED_MISSING@mx.google.com> Received: from [172.21.0.3] (unknown [172.18.0.240]) by postal.iol.unh.edu (Postfix) with ESMTP id A917460003EA; Fri, 17 Oct 2025 05:33:44 -0400 (EDT) Subject: |SUCCESS| pw157756-157758 [PATCH] [v7,3/3] dts: update tx_offload te From: dpdklab@iol.unh.edu To: Test Report Cc: dpdk-test-reports@iol.unh.edu In-Reply-To: <20251016132421.12176-4-abailey@iol.unh.edu> References: <20251016132421.12176-4-abailey@iol.unh.edu> Content-Type: text/plain X-BeenThere: test-report@dpdk.org X-Mailman-Version: 2.1.29 Precedence: list List-Id: automatic DPDK test reports List-Unsubscribe: , List-Archive: List-Post: List-Help: List-Subscribe: , Errors-To: test-report-bounces@dpdk.org Test-Label: iol-compile-arm64-testing Test-Status: SUCCESS http://dpdk.org/patch/157758 _Testing PASS_ Submitter: Andrew Bailey Date: Thursday, October 16 2025 13:24:21 DPDK git baseline: Repo:dpdk-next-dts Branch: master CommitID:c1a9d3e5a721be9be66f0c4bfd9fa4d6e6af3b98 157756-157758 --> testing pass Upstream job id: Generic-DPDK-Compile-Meson#435062 Test environment and result as below: +------------------------------+--------------------+ | Environment | dpdk_meson_compile | +==============================+====================+ | Red Hat Enterprise Linux 9.5 | PASS | +------------------------------+--------------------+ | Ubuntu 20.04 | PASS | +------------------------------+--------------------+ | Debian GNU/Linux 12 | PASS | +------------------------------+--------------------+ | Fedora Linux 42 | PASS | +------------------------------+--------------------+ | Ubuntu 22.04 | PASS | +------------------------------+--------------------+ | Ubuntu 24.04 | PASS | +------------------------------+--------------------+ | CentOS Stream 9 | PASS | +------------------------------+--------------------+ | CentOS Stream 10 | PASS | +------------------------------+--------------------+ Red Hat Enterprise Linux 9.5 Kernel: 5.4 Compiler: gcc gcc (GCC) 11.5.0 20240719 (Red Hat 11.5.0-2) Ubuntu 20.04 Kernel: 5.15 Compiler: aarch64-linux-gnu-gcc gcc (Ubuntu 9.4.0-1ubuntu1~20.04.2) 9.4.0 Debian GNU/Linux 12 Kernel: 5.4 Compiler: gcc gcc (Debian 12.2.0-14+deb12u1) 12.2.0 Fedora Linux 42 Kernel: 5.4 Compiler: gcc gcc (GCC) 15.2.1 20250808 (Red Hat 15.2.1-1) Ubuntu 22.04 Kernel: 5.4 Compiler: gcc gcc (Ubuntu 11.4.0-1ubuntu1~22.04) 11.4.0 Ubuntu 24.04 Kernel: 5.4 Compiler: gcc gcc (Ubuntu 13.3.0-6ubuntu2~24.04) 13.3.0 CentOS Stream 9 Kernel: 5.4 Compiler: gcc gcc (GCC) 11.5.0 20240719 (Red Hat 11.5.0-11) CentOS Stream 10 Kernel: 5.4 Compiler: gcc gcc (GCC) 14.2.1 20250110 (Red Hat 14.2.1-8) To view detailed results, visit: https://lab.dpdk.org/results/dashboard/patchsets/34301/ UNH-IOL DPDK Community Lab To manage your email subscriptions, visit: https://lab.dpdk.org/results/dashboard/preferences/subscriptions/