From mboxrd@z Thu Jan 1 00:00:00 1970 Return-Path: Received: from mails.dpdk.org (mails.dpdk.org [217.70.189.124]) by inbox.dpdk.org (Postfix) with ESMTP id 8035B4895F for ; Fri, 17 Oct 2025 11:33:56 +0200 (CEST) Received: from mails.dpdk.org (localhost [127.0.0.1]) by mails.dpdk.org (Postfix) with ESMTP id 7AE7440DCF; Fri, 17 Oct 2025 11:33:56 +0200 (CEST) Received: from mail-oa1-f100.google.com (mail-oa1-f100.google.com [209.85.160.100]) by mails.dpdk.org (Postfix) with ESMTP id 6345840DCF for ; Fri, 17 Oct 2025 11:33:55 +0200 (CEST) Received: by mail-oa1-f100.google.com with SMTP id 586e51a60fabf-3c8f62cae4bso1097864fac.1 for ; Fri, 17 Oct 2025 02:33:55 -0700 (PDT) DKIM-Signature: v=1; a=rsa-sha256; c=relaxed/relaxed; d=iol.unh.edu; s=unh-iol; t=1760693634; x=1761298434; darn=dpdk.org; h=references:in-reply-to:cc:to:from:subject:message-id:date:from:to :cc:subject:date:message-id:reply-to; bh=9rio5ZsioXxyl5OgtJRj0PY47cvmdX7Gc/mK0ZoXbNY=; b=bLjh5mToV2xLyoFl5OLlFudOnTEk4v9/e2tKywlM/sx8K5Kl9DwSKpXkSIJoOIb17I ShJml5md26bZTsg1npWhFBmsLtkiCJYkblVHD47BDysd5THqyWLx1IAzNHwG0x1kkQmk VfQZt5jHPrVayIAz5PmzCOHdEsh54NCLADUWM= X-Google-DKIM-Signature: v=1; a=rsa-sha256; c=relaxed/relaxed; d=1e100.net; s=20230601; t=1760693634; x=1761298434; h=references:in-reply-to:cc:to:from:subject:message-id:date :x-gm-message-state:from:to:cc:subject:date:message-id:reply-to; bh=9rio5ZsioXxyl5OgtJRj0PY47cvmdX7Gc/mK0ZoXbNY=; b=BbKAd75UXgRPSVtM2W0CztkVytJ3onMLnSdAkNXeCqcNlokwywCNeRPlorCjHPmpC8 LLLNdRcHp1u6LX0P/fLPjKlvcbo+hp/OA9TqNofVP9IhZJt+JsV/Tyb4qOwNFViWfdQd +m57na1E6cXycVfdCuD0fsGYZn9coypZFk8Ly0HCm+t0fCNKazy4tV2QYifzsvsddxqF ZD1qbCQOTZYSSV3bCKrgtLgNminmkk1x0s2dLqX0jlBP9UJBGys8d0hoKl87ikhHbns+ mmnC5US1g0gGt6a3xXKRA0kkV1sNCtSJSBWjNd6AIq4H20RjsVNpLM1KBQ6jVS5Y2es4 Y8Ew== X-Gm-Message-State: AOJu0YwNTnLJtF840ZUzqijMYQgSzohPTG+uccsY1i5GsZBqAfSZe04h 9h7fIkhwV9S2CCv6jYUZ4ncFGhsyy6kVRfQ7CjIzrE47ky7RW/eAueYI2S3tA/LrYTRl0NptVd/ oaNLkGbwj429BfDH+XiyPJBjDDgsHkk3hwuUsKXWKlhyy X-Gm-Gg: ASbGncueSfSotNVYB1Gsib7SX5UfjmwCFLqwFDIhFmWVXiS6Y7HlLK5zrCT2WXiRoh1 gXelnsur1BRBZPd9gZdiag2+JPQML6u8myEpw9Cq3T5d34nFENdYA7hC7GjE6BQ5oc5fqjBMV+d jzAYbN5BAYLxIDtjV1mB0nx8eA6koFDuUG/pTqjlb9UtTvsARwbnujA+pIzMYtwzWl0tzvYcvbk dHKmyevJtlLJlOVtaYoRhok0lokuIf4Tb0bxrip0+fEU5GTzrnokxstnKlgxFMxnxEUmPjy30wK 8ydVPsMKoguu9qEmrF4nN0FG8aTJbUQ6mV17raRHm+Uw5vvBTn+4G0Xos/aZA4NhBSUMdGxon5I Fpg+B/O7/hPBeq40mfRx4KpvM9669Qa0= X-Google-Smtp-Source: AGHT+IFB30l4v6jHPO5qIaPgwHv5IGYwLX7uzCPTvXG6ZQP+ixoHDVF1F1rPYzGD9kpMuKtYdhAJmLWnXGT6 X-Received: by 2002:a05:6871:2ea3:b0:33d:c5bc:1a05 with SMTP id 586e51a60fabf-3c96886210cmr3213587fac.10.1760693634612; Fri, 17 Oct 2025 02:33:54 -0700 (PDT) Received: from postal.iol.unh.edu (postal.iol.unh.edu. [132.177.123.84]) by smtp-relay.gmail.com with ESMTPS id 586e51a60fabf-3c9a4a09bcdsm16001fac.4.2025.10.17.02.33.54 (version=TLS1_2 cipher=ECDHE-ECDSA-AES128-GCM-SHA256 bits=128/128); Fri, 17 Oct 2025 02:33:54 -0700 (PDT) X-Relaying-Domain: iol.unh.edu Date: Fri, 17 Oct 2025 02:33:54 -0700 (PDT) Message-ID: <68f20d82.050a0220.3718ad.0b16SMTPIN_ADDED_MISSING@mx.google.com> Received: from [172.21.0.2] (unknown [172.18.0.240]) by postal.iol.unh.edu (Postfix) with ESMTP id A57586051830; Fri, 17 Oct 2025 05:33:52 -0400 (EDT) Subject: |SUCCESS| pw157755 [PATCH] net/iavf: ensure no polling during VF ini From: dpdklab@iol.unh.edu To: Test Report Cc: dpdk-test-reports@iol.unh.edu, Bruce Richardson In-Reply-To: <20251016113224.1652880-1-ciara.loftus@intel.com> References: <20251016113224.1652880-1-ciara.loftus@intel.com> Content-Type: text/plain X-BeenThere: test-report@dpdk.org X-Mailman-Version: 2.1.29 Precedence: list List-Id: automatic DPDK test reports List-Unsubscribe: , List-Archive: List-Post: List-Help: List-Subscribe: , Errors-To: test-report-bounces@dpdk.org Test-Label: iol-compile-arm64-testing Test-Status: SUCCESS http://dpdk.org/patch/157755 _Testing PASS_ Submitter: Ciara Loftus Date: Thursday, October 16 2025 11:32:24 DPDK git baseline: Repo:dpdk-next-net-intel Branch: master CommitID:4b71a661aa14d6e2491a612a4347495c9e06eb0e 157755 --> testing pass Upstream job id: Generic-DPDK-Compile-Meson#435031 Test environment and result as below: +------------------------------+--------------------+ | Environment | dpdk_meson_compile | +==============================+====================+ | Red Hat Enterprise Linux 9.5 | PASS | +------------------------------+--------------------+ | Ubuntu 20.04 | PASS | +------------------------------+--------------------+ | Debian GNU/Linux 12 | PASS | +------------------------------+--------------------+ | Fedora Linux 42 | PASS | +------------------------------+--------------------+ | Ubuntu 22.04 | PASS | +------------------------------+--------------------+ | Ubuntu 24.04 | PASS | +------------------------------+--------------------+ | CentOS Stream 9 | PASS | +------------------------------+--------------------+ | CentOS Stream 10 | PASS | +------------------------------+--------------------+ Red Hat Enterprise Linux 9.5 Kernel: 5.4 Compiler: gcc gcc (GCC) 11.5.0 20240719 (Red Hat 11.5.0-2) Ubuntu 20.04 Kernel: 5.15 Compiler: aarch64-linux-gnu-gcc gcc (Ubuntu 9.4.0-1ubuntu1~20.04.2) 9.4.0 Debian GNU/Linux 12 Kernel: 5.4 Compiler: gcc gcc (Debian 12.2.0-14+deb12u1) 12.2.0 Fedora Linux 42 Kernel: 5.4 Compiler: gcc gcc (GCC) 15.2.1 20250808 (Red Hat 15.2.1-1) Ubuntu 22.04 Kernel: 5.4 Compiler: gcc gcc (Ubuntu 11.4.0-1ubuntu1~22.04) 11.4.0 Ubuntu 24.04 Kernel: 5.4 Compiler: gcc gcc (Ubuntu 13.3.0-6ubuntu2~24.04) 13.3.0 CentOS Stream 9 Kernel: 5.4 Compiler: gcc gcc (GCC) 11.5.0 20240719 (Red Hat 11.5.0-11) CentOS Stream 10 Kernel: 5.4 Compiler: gcc gcc (GCC) 14.2.1 20250110 (Red Hat 14.2.1-8) To view detailed results, visit: https://lab.dpdk.org/results/dashboard/patchsets/34300/ UNH-IOL DPDK Community Lab To manage your email subscriptions, visit: https://lab.dpdk.org/results/dashboard/preferences/subscriptions/