From mboxrd@z Thu Jan 1 00:00:00 1970 Return-Path: Received: from mails.dpdk.org (mails.dpdk.org [217.70.189.124]) by inbox.dpdk.org (Postfix) with ESMTP id 94D124895F for ; Fri, 17 Oct 2025 11:34:20 +0200 (CEST) Received: from mails.dpdk.org (localhost [127.0.0.1]) by mails.dpdk.org (Postfix) with ESMTP id 912B440DCF; Fri, 17 Oct 2025 11:34:20 +0200 (CEST) Received: from mail-pf1-f227.google.com (mail-pf1-f227.google.com [209.85.210.227]) by mails.dpdk.org (Postfix) with ESMTP id 1981A40DCF for ; Fri, 17 Oct 2025 11:34:19 +0200 (CEST) Received: by mail-pf1-f227.google.com with SMTP id d2e1a72fcca58-7835321bc98so1658079b3a.2 for ; Fri, 17 Oct 2025 02:34:19 -0700 (PDT) DKIM-Signature: v=1; a=rsa-sha256; c=relaxed/relaxed; d=iol.unh.edu; s=unh-iol; t=1760693658; x=1761298458; darn=dpdk.org; h=references:in-reply-to:cc:to:from:subject:message-id:date:from:to :cc:subject:date:message-id:reply-to; bh=YkySlETyT8M7khLdhBB9dr7LM1t2EaH4U7JjYqEv9vI=; b=PAEY+JYAnzPSbirsuzWfAfW5XW52KWeY4LnXxxcEDG3iLgY8VQWb6lQd87OWQM9QLE lWDIXRF6l6Srz0KBT/+VkQnf1SmOaK46aPxBNGS8lBO5YnVOA0KyaiPb7UjNbF3zDk6L QVmSax3yLzYN3IvRwpcM7nq4Zun/JDQjgb/YE= X-Google-DKIM-Signature: v=1; a=rsa-sha256; c=relaxed/relaxed; d=1e100.net; s=20230601; t=1760693658; x=1761298458; h=references:in-reply-to:cc:to:from:subject:message-id:date :x-gm-message-state:from:to:cc:subject:date:message-id:reply-to; bh=YkySlETyT8M7khLdhBB9dr7LM1t2EaH4U7JjYqEv9vI=; b=r5+8FPUHJMRV10zOy9NUI+qYHSqHWSOv78kBl+i3fyNH+Wr10gqdpA+71dqhlQzfiX 2wET20uT1EkjLq8UQ/AEVZ2/ccX3NInKippBk61CjmsvnnTx4Dior/X/Z87tvV8VD0Kf 3dnuz82AYWvCPz8+X0Xp3clvcUzyx/4fqQdHCT9yfRAbTejUWzgkSqMWJgo1GnovgDKX pih1d5C7m1eAWd7vYsbaZ2YElO1X76LVvBxhMcMO+Dnch82VwdGLfAEuTcvHSmMhhpwr DLuXNqyrrJesv7AkpAmKEc93mCranUeniPAxRIDN3HXycQ/Wy1go3CAA5BB6aMAN0ZNy U3og== X-Gm-Message-State: AOJu0Yx6ttIm0T6u8DK3kqlkC3GTfD3ePtOPQI33ZqgZFCfcm5/sjAJ5 xs5yuTVDQI37oYSCJdh5q5FkFQUsZvdqT27fGhwqESzcd1IuPcPKoxxmTEtxoGQvwg5pBduGhUL 71278+4f46np0Idbk9Bm7pRsp93hxbZu0gWgXQPOPK/1t X-Gm-Gg: ASbGncuc80/JaMXnyAJv3iDZOrONG7rjqQ9K6TyCx+Y7T/FW9qK2svJtmRRjC1cc3zo s02Az63XxQJoTGiSVp5aSV/sLTvPERT5fg7TzuxGjvIjN8f0mQ6ct59AxwmWK0DhvsPWlHG9EW+ HR0uP4ZJDbZodFxd3OdcKxSA0gQ4FqyuC6DwYvbfX41V0R/MN00V5rWd9CuiXy+0L9DavUWWQnB 5kAK9RY6kC3LP+Z5PklwL4Jh4eF+TnySlGkgcGUKbDurimSfBQNB9n5Dhvaz9UThXJb7TIZDfXZ pb0fehhTjkJsRX5bUM4Y5Cs83QRogvWNppRgLkm2XQp3isEyMWlGl3koWF7+B+sSnYuqUHdeqC2 4RpwX/uahOZW/B2kbBSoyhedFVUulz1Q= X-Google-Smtp-Source: AGHT+IHO4V2fTGC44oPrPnc45qX9/UZRjWIEW/DF6qKS2DMT1hMGsQ/viITagKikiGL3YsxKmcdb0U1CyNQn X-Received: by 2002:a05:6a20:7491:b0:301:26ad:9143 with SMTP id adf61e73a8af0-334a8536f59mr4208401637.20.1760693658205; Fri, 17 Oct 2025 02:34:18 -0700 (PDT) Received: from postal.iol.unh.edu (postal.iol.unh.edu. [132.177.123.84]) by smtp-relay.gmail.com with ESMTPS id 98e67ed59e1d1-33bd79c4154sm214499a91.1.2025.10.17.02.34.18 (version=TLS1_2 cipher=ECDHE-ECDSA-AES128-GCM-SHA256 bits=128/128); Fri, 17 Oct 2025 02:34:18 -0700 (PDT) X-Relaying-Domain: iol.unh.edu Date: Fri, 17 Oct 2025 02:34:18 -0700 (PDT) Message-ID: <68f20d9a.170a0220.4170b.aaaaSMTPIN_ADDED_MISSING@mx.google.com> Received: from [172.21.0.2] (unknown [172.18.0.240]) by postal.iol.unh.edu (Postfix) with ESMTP id 7E45D6051830; Fri, 17 Oct 2025 05:34:17 -0400 (EDT) Subject: |SUCCESS| pw157759 [PATCH] [v2] net/zxdh: replace use of rte_memcpy From: dpdklab@iol.unh.edu To: Test Report Cc: dpdk-test-reports@iol.unh.edu, Stephen Hemminger In-Reply-To: <20251016152941.6592-1-stephen@networkplumber.org> References: <20251016152941.6592-1-stephen@networkplumber.org> Content-Type: text/plain X-BeenThere: test-report@dpdk.org X-Mailman-Version: 2.1.29 Precedence: list List-Id: automatic DPDK test reports List-Unsubscribe: , List-Archive: List-Post: List-Help: List-Subscribe: , Errors-To: test-report-bounces@dpdk.org Test-Label: iol-compile-arm64-testing Test-Status: SUCCESS http://dpdk.org/patch/157759 _Testing PASS_ Submitter: Stephen Hemminger Date: Thursday, October 16 2025 15:29:21 DPDK git baseline: Repo:dpdk-next-net Branch: master CommitID:791cea04798a8e2de014b99c009cd25b5929000a 157759 --> testing pass Upstream job id: Generic-DPDK-Compile-Meson#435079 Test environment and result as below: +------------------------------+--------------------+ | Environment | dpdk_meson_compile | +==============================+====================+ | Red Hat Enterprise Linux 9.5 | PASS | +------------------------------+--------------------+ | Ubuntu 20.04 | PASS | +------------------------------+--------------------+ | Debian GNU/Linux 12 | PASS | +------------------------------+--------------------+ | Fedora Linux 42 | PASS | +------------------------------+--------------------+ | Ubuntu 22.04 | PASS | +------------------------------+--------------------+ | Ubuntu 24.04 | PASS | +------------------------------+--------------------+ | CentOS Stream 9 | PASS | +------------------------------+--------------------+ | CentOS Stream 10 | PASS | +------------------------------+--------------------+ Red Hat Enterprise Linux 9.5 Kernel: 5.4 Compiler: gcc gcc (GCC) 11.5.0 20240719 (Red Hat 11.5.0-2) Ubuntu 20.04 Kernel: 5.15 Compiler: aarch64-linux-gnu-gcc gcc (Ubuntu 9.4.0-1ubuntu1~20.04.2) 9.4.0 Debian GNU/Linux 12 Kernel: 5.4 Compiler: gcc gcc (Debian 12.2.0-14+deb12u1) 12.2.0 Fedora Linux 42 Kernel: 5.4 Compiler: gcc gcc (GCC) 15.2.1 20250808 (Red Hat 15.2.1-1) Ubuntu 22.04 Kernel: 5.4 Compiler: gcc gcc (Ubuntu 11.4.0-1ubuntu1~22.04) 11.4.0 Ubuntu 24.04 Kernel: 5.4 Compiler: gcc gcc (Ubuntu 13.3.0-6ubuntu2~24.04) 13.3.0 CentOS Stream 9 Kernel: 5.4 Compiler: gcc gcc (GCC) 11.5.0 20240719 (Red Hat 11.5.0-11) CentOS Stream 10 Kernel: 5.4 Compiler: gcc gcc (GCC) 14.2.1 20250110 (Red Hat 14.2.1-8) To view detailed results, visit: https://lab.dpdk.org/results/dashboard/patchsets/34302/ UNH-IOL DPDK Community Lab To manage your email subscriptions, visit: https://lab.dpdk.org/results/dashboard/preferences/subscriptions/