From mboxrd@z Thu Jan 1 00:00:00 1970 Return-Path: Received: from mails.dpdk.org (mails.dpdk.org [217.70.189.124]) by inbox.dpdk.org (Postfix) with ESMTP id A2BFC4895F for ; Fri, 17 Oct 2025 11:34:27 +0200 (CEST) Received: from mails.dpdk.org (localhost [127.0.0.1]) by mails.dpdk.org (Postfix) with ESMTP id 9EB0440DCF; Fri, 17 Oct 2025 11:34:27 +0200 (CEST) Received: from mail-il1-f225.google.com (mail-il1-f225.google.com [209.85.166.225]) by mails.dpdk.org (Postfix) with ESMTP id 2445C40DCF for ; Fri, 17 Oct 2025 11:34:26 +0200 (CEST) Received: by mail-il1-f225.google.com with SMTP id e9e14a558f8ab-42d8b15548eso9085445ab.2 for ; Fri, 17 Oct 2025 02:34:26 -0700 (PDT) DKIM-Signature: v=1; a=rsa-sha256; c=relaxed/relaxed; d=iol.unh.edu; s=unh-iol; t=1760693665; x=1761298465; darn=dpdk.org; h=references:in-reply-to:cc:to:from:subject:message-id:date:from:to :cc:subject:date:message-id:reply-to; bh=rMwu4I8Z03Zid+IcJjIlcflnE589odiceQquHJVfqOA=; b=aemkXFq6BDtt26LArrmVvrVnLa3D2aH/Vllkt/l+8BFw9n9CA4x+iP2UW+0Jxds5NZ QNnGC13j4oobMrNsVwzKY9xwII1cT3gndonefZUCuD3qhkJkyGAlLGnIImZQ0yeLAaOR EF816gezhKhwd3b2q3SzsHCxqjDz1+WcDoR2c= X-Google-DKIM-Signature: v=1; a=rsa-sha256; c=relaxed/relaxed; d=1e100.net; s=20230601; t=1760693665; x=1761298465; h=references:in-reply-to:cc:to:from:subject:message-id:date :x-gm-message-state:from:to:cc:subject:date:message-id:reply-to; bh=rMwu4I8Z03Zid+IcJjIlcflnE589odiceQquHJVfqOA=; b=XQtxHjQv0IF3je3APlObs1X07peGEKln/5k+E1xIQF+3GZtmYkjveE2kVJNfFODsP1 juW5UAt98+I3PXsy1rP3RZzNc9yNICSduZDkY9ht84MNOei1Kkilq+Hj6l0D+yWrobKt 8DIUImOlaq3hB3BWJ4QJ5faAOh97qkl1QZk9ADELhPZHMjG3OBtRY+9rKCMsltleaGHJ gH9cLltEcHUaJVxzyDX1gPe6j/Mq3bBLtrkCQROBUH56wDfpyJ8MlmUYX7zqaqLUqnNW 4UOdFO1uqXAIGuWbb7U6nW6ve2vhA8b5S9I5WWMZJiLp/LBLPqqL8oENLhFr6qKVJ3F6 KoNA== X-Gm-Message-State: AOJu0Yy6MC+UkQENEVcaE6mFKMjXN1cA09HfqqXj8MDTX603jDc7HNRk O/7WITsUgJwmKNWz9u1F6yckQU0C3KSauQrx7Unn/4XTtO0Q++XRAV/PA1jB4RhOBsf9C6qtSg+ nivBed4G+kBZ/XnIJN5VvtQ9+EZWGhEQwcP6xQ5zYcDHvh8amYI4qxzpv9GKZ X-Gm-Gg: ASbGncv2fGOouSKPqB1vyulZeNuXFKKLOY+x1NTe2ZJ45iFv20oNusAZLOIBXAvcxDT OplDmDVcYEJ1gdtQRaD0eHkJigWqwLVivz0iHhYC3DcCzqxMsq8Ew2izE8eT94b+VNgkcdPTEXT FZQroPmVHdo9xL2ZAmlS9LNFc8//Ws0hQZoPfDssK+tRe6M/FyZzLCwfmhBVeIPTmsHLOVSGXGi uqbM17NK1maNI5fdlDwQdF9XpSjDDeSMJBc3rhUOHm3IaO5dkEi1Jy4msHWEH6oJbEM4JdQNwbJ Ar+vnmuU8iecd7LyZ35mEmoQcgkX2rfWVjuOxSrQD9gdHpismecInz5D1JMkLR4gHZDGMlC8k/5 Xnpa8byTo X-Google-Smtp-Source: AGHT+IGcz3MglmROnzXQLNN+W8KFW4TbMYlIAV25Yo7KyQOtnQeF6+drs0ArCzSxDVg5x38wf3fPsZgxJhXW X-Received: by 2002:a05:6e02:2167:b0:430:ac80:7fff with SMTP id e9e14a558f8ab-430c52d772amr41078825ab.23.1760693665468; Fri, 17 Oct 2025 02:34:25 -0700 (PDT) Received: from postal.iol.unh.edu (postal.iol.unh.edu. [2606:4100:3880:1234::84]) by smtp-relay.gmail.com with ESMTPS id e9e14a558f8ab-430b513e770sm5149625ab.28.2025.10.17.02.34.25 (version=TLS1_2 cipher=ECDHE-ECDSA-AES128-GCM-SHA256 bits=128/128); Fri, 17 Oct 2025 02:34:25 -0700 (PDT) X-Relaying-Domain: iol.unh.edu Date: Fri, 17 Oct 2025 02:34:25 -0700 (PDT) Message-ID: <68f20da1.050a0220.23054d.a00aSMTPIN_ADDED_MISSING@mx.google.com> Received: from [172.21.0.3] (unknown [172.18.0.240]) by postal.iol.unh.edu (Postfix) with ESMTP id 2392E6051830; Fri, 17 Oct 2025 05:34:25 -0400 (EDT) Subject: |SUCCESS| pw157759 [PATCH] [v2] net/zxdh: replace use of rte_memcpy From: dpdklab@iol.unh.edu To: Test Report Cc: dpdk-test-reports@iol.unh.edu, Stephen Hemminger In-Reply-To: <20251016152941.6592-1-stephen@networkplumber.org> References: <20251016152941.6592-1-stephen@networkplumber.org> Content-Type: text/plain X-BeenThere: test-report@dpdk.org X-Mailman-Version: 2.1.29 Precedence: list List-Id: automatic DPDK test reports List-Unsubscribe: , List-Archive: List-Post: List-Help: List-Subscribe: , Errors-To: test-report-bounces@dpdk.org Test-Label: iol-compile-arm64-testing Test-Status: SUCCESS http://dpdk.org/patch/157759 _Testing PASS_ Submitter: Stephen Hemminger Date: Thursday, October 16 2025 15:29:21 DPDK git baseline: Repo:dpdk-next-net Branch: master CommitID:791cea04798a8e2de014b99c009cd25b5929000a 157759 --> testing pass Upstream job id: Generic-DPDK-Compile-Meson#435076 Test environment and result as below: +------------------------------+--------------------+ | Environment | dpdk_meson_compile | +==============================+====================+ | Red Hat Enterprise Linux 9.5 | PASS | +------------------------------+--------------------+ | Ubuntu 20.04 | PASS | +------------------------------+--------------------+ | Debian GNU/Linux 12 | PASS | +------------------------------+--------------------+ | Fedora Linux 42 | PASS | +------------------------------+--------------------+ | Ubuntu 22.04 | PASS | +------------------------------+--------------------+ | Ubuntu 24.04 | PASS | +------------------------------+--------------------+ | CentOS Stream 9 | PASS | +------------------------------+--------------------+ | CentOS Stream 10 | PASS | +------------------------------+--------------------+ Red Hat Enterprise Linux 9.5 Kernel: 5.4 Compiler: gcc gcc (GCC) 11.5.0 20240719 (Red Hat 11.5.0-2) Ubuntu 20.04 Kernel: 5.15 Compiler: aarch64-linux-gnu-gcc gcc (Ubuntu 9.4.0-1ubuntu1~20.04.2) 9.4.0 Debian GNU/Linux 12 Kernel: 5.4 Compiler: gcc gcc (Debian 12.2.0-14+deb12u1) 12.2.0 Fedora Linux 42 Kernel: 5.4 Compiler: gcc gcc (GCC) 15.2.1 20250808 (Red Hat 15.2.1-1) Ubuntu 22.04 Kernel: 5.4 Compiler: gcc gcc (Ubuntu 11.4.0-1ubuntu1~22.04) 11.4.0 Ubuntu 24.04 Kernel: 5.4 Compiler: gcc gcc (Ubuntu 13.3.0-6ubuntu2~24.04) 13.3.0 CentOS Stream 9 Kernel: 5.4 Compiler: gcc gcc (GCC) 11.5.0 20240719 (Red Hat 11.5.0-11) CentOS Stream 10 Kernel: 5.4 Compiler: gcc gcc (GCC) 14.2.1 20250110 (Red Hat 14.2.1-8) To view detailed results, visit: https://lab.dpdk.org/results/dashboard/patchsets/34302/ UNH-IOL DPDK Community Lab To manage your email subscriptions, visit: https://lab.dpdk.org/results/dashboard/preferences/subscriptions/