From mboxrd@z Thu Jan 1 00:00:00 1970 Return-Path: Received: from mails.dpdk.org (mails.dpdk.org [217.70.189.124]) by inbox.dpdk.org (Postfix) with ESMTP id 871A248960 for ; Fri, 17 Oct 2025 12:34:16 +0200 (CEST) Received: from mails.dpdk.org (localhost [127.0.0.1]) by mails.dpdk.org (Postfix) with ESMTP id 7FC7240269; Fri, 17 Oct 2025 12:34:16 +0200 (CEST) Received: from mail-il1-f228.google.com (mail-il1-f228.google.com [209.85.166.228]) by mails.dpdk.org (Postfix) with ESMTP id 89D9840269 for ; Fri, 17 Oct 2025 12:34:15 +0200 (CEST) Received: by mail-il1-f228.google.com with SMTP id e9e14a558f8ab-430cd27de3eso418275ab.1 for ; Fri, 17 Oct 2025 03:34:15 -0700 (PDT) DKIM-Signature: v=1; a=rsa-sha256; c=relaxed/relaxed; d=iol.unh.edu; s=unh-iol; t=1760697255; x=1761302055; darn=dpdk.org; h=references:in-reply-to:cc:to:from:subject:message-id:date:from:to :cc:subject:date:message-id:reply-to; bh=qMqWSKCHS3pxy5VuwnN0MxYdCcyvVJQ+z7xHO5gG31k=; b=UD4KqsIw19XOsn8PZ+PBIsj1MPlaafDGkVW7DxhuIpug7kAIr88/a1e6p9/Cc1+995 au+s/Bp54V5ONwDUwdAez4scdn4ZU92VmK6zqgDcavKiqGDfpF+w4uTGZ4x+S2cPgxAG fdOR7ecGZPxMuJ6cdS83uKpKiJFWEjUjpKM88= X-Google-DKIM-Signature: v=1; a=rsa-sha256; c=relaxed/relaxed; d=1e100.net; s=20230601; t=1760697255; x=1761302055; h=references:in-reply-to:cc:to:from:subject:message-id:date :x-gm-message-state:from:to:cc:subject:date:message-id:reply-to; bh=qMqWSKCHS3pxy5VuwnN0MxYdCcyvVJQ+z7xHO5gG31k=; b=sU/6xZgsto31TPdqr/SAtdOIdgupnjbI+cxi6ndVPcMzi2yg5/mJwVv/IXyykxC/tR 5qSH4gLKeRGKDrXRUNvAAycWEFD1z06v2vT5KBFfHNa7kiNIFA8yHzUAFi3ZLO+leq/B ld5pyvyeX6YOuqjo/D6Zfb0yEYCmF4x5zZFodZkhxLAP5S7CnCD0wqgDRTSjokwpxLYv bStXubyP8Ck24fOIt+tgiSYfMyatAYLsorreGeQ4wJthExBzO8CFETd3K5QvrSdP88E1 W7kcsq61q9HIEP02B7TcTEi5cwPkBk2mnGORVfi4uBxvnhvJGPF6xFG31Uf3O8fNgvSj 8MOg== X-Gm-Message-State: AOJu0Yxl1H0YXiBtDc1eY8zXJ1+qrhrjFdevsOOWUtCPgtKqbxJhgfxj HvfmKBHkpzoPmHWbwlU7lotSkgY9mVWKRAzCTHjUTC81DNzkXGLHGsi4cQG9dAvznEw2rSxg2IB Xjh2mqQfoV74iPsfAo89U0pJ9ZFhgsfC9MzzezSzpO2PJegTO4RGED2TnLe2e X-Gm-Gg: ASbGnct3buE2CGRsIhc3+CqS6SJPIIELMlCKWYteU7UPTEGJxt30y0JzccTof5OugJ1 GN0uY4e+cFTWP2WDYFwlVUciIYJlChSiQcSQ/uV8mBtTyFBM2i1qyP1CH77qZ88zbZYgOT7l+i3 +aQx5+A8POZO4yRZTErF+Z6ELtIslKBFQVmrJgvGTqcToIsbeyYBLz5ie+vM17xZzHWiqVN9xRf URJ7eSkTv66C8qIfYZqO7R09W7+Z040Q6Y47EUqvsdbzzvwF7uHrWL451Xd3v1ldlsSCXiZI8as eXzI7CuVXq7vSAcc1V3/04OgFlVOnI8ntHvmHR2ybxse6rcqd4XA0NWV169zIGShL9ndJoFGEJL oyhi6KE4q X-Google-Smtp-Source: AGHT+IED0ZK2sce8fwS764QIBFOodj/vDqcNyZ3Yk11kQgOWqwVUwbJLRSR+DpLC2w4BfoTitL06MHVsDwrZ X-Received: by 2002:a92:c266:0:b0:42a:dd1d:c3e4 with SMTP id e9e14a558f8ab-430c527dc49mr48674295ab.15.1760697254823; Fri, 17 Oct 2025 03:34:14 -0700 (PDT) Received: from postal.iol.unh.edu (postal.iol.unh.edu. [2606:4100:3880:1234::84]) by smtp-relay.gmail.com with ESMTPS id e9e14a558f8ab-430b50ddfbbsm4840455ab.16.2025.10.17.03.34.14 (version=TLS1_2 cipher=ECDHE-ECDSA-AES128-GCM-SHA256 bits=128/128); Fri, 17 Oct 2025 03:34:14 -0700 (PDT) X-Relaying-Domain: iol.unh.edu Date: Fri, 17 Oct 2025 03:34:14 -0700 (PDT) Message-ID: <68f21ba6.050a0220.1a4b3c.7f59SMTPIN_ADDED_MISSING@mx.google.com> Received: from [172.21.0.2] (unknown [172.18.0.240]) by postal.iol.unh.edu (Postfix) with ESMTP id 304FA6051830; Fri, 17 Oct 2025 06:34:14 -0400 (EDT) Subject: |SUCCESS| pw157784-157795 [PATCH] [v2,12/12] net/enetc: Add support From: dpdklab@iol.unh.edu To: Test Report Cc: dpdk-test-reports@iol.unh.edu, Stephen Hemminger In-Reply-To: <20251017091929.2723044-13-vanshika.shukla@nxp.com> References: <20251017091929.2723044-13-vanshika.shukla@nxp.com> Content-Type: text/plain X-BeenThere: test-report@dpdk.org X-Mailman-Version: 2.1.29 Precedence: list List-Id: automatic DPDK test reports List-Unsubscribe: , List-Archive: List-Post: List-Help: List-Subscribe: , Errors-To: test-report-bounces@dpdk.org Test-Label: iol-unit-amd64-testing Test-Status: SUCCESS http://dpdk.org/patch/157795 _Testing PASS_ Submitter: Vanshika Shukla Date: Friday, October 17 2025 09:19:29 DPDK git baseline: Repo:dpdk-next-net Branch: master CommitID:535c49b6264f1df239703b8250b070e4c4cda2e9 157784-157795 --> testing pass Upstream job id: Generic-VM-Unit-Test-DPDK#31874 Test environment and result as below: +-------------------------------+----------------+ | Environment | dpdk_unit_test | +===============================+================+ | Fedora Linux 41 | PASS | +-------------------------------+----------------+ | CentOS Stream 9 | PASS | +-------------------------------+----------------+ | Debian GNU/Linux 12 | PASS | +-------------------------------+----------------+ | CentOS Stream 10 | PASS | +-------------------------------+----------------+ | Fedora Linux 42 | PASS | +-------------------------------+----------------+ | Fedora Linux 40 | PASS | +-------------------------------+----------------+ | Red Hat Enterprise Linux 8.10 | PASS | +-------------------------------+----------------+ | Ubuntu 20.04 | PASS | +-------------------------------+----------------+ | Ubuntu 22.04 | PASS | +-------------------------------+----------------+ | Red Hat Enterprise Linux 9.5 | PASS | +-------------------------------+----------------+ | Ubuntu 24.04 | PASS | +-------------------------------+----------------+ | Windows Server 2022 | PASS | +-------------------------------+----------------+ Fedora Linux 41 Kernel: 5.15 Compiler: gcc gcc (GCC) 14.3.1 20250523 (Red Hat 14.3.1-1) CentOS Stream 9 Kernel: 5.15 Compiler: gcc gcc (GCC) 11.5.0 20240719 (Red Hat 11.5.0-11) Debian GNU/Linux 12 Kernel: 5.15 Compiler: gcc gcc (Debian 12.2.0-14+deb12u1) 12.2.0 CentOS Stream 10 Kernel: 5.15 Compiler: gcc gcc (GCC) 14.2.1 20250110 (Red Hat 14.2.1-8) Fedora Linux 42 Kernel: 5.15 Compiler: gcc gcc (GCC) 15.2.1 20250808 (Red Hat 15.2.1-1) Fedora Linux 40 Kernel: 5.15 Compiler: clang gcc (GCC) 14.2.1 20240912 (Red Hat 14.2.1-3) Red Hat Enterprise Linux 8.10 Kernel: 5.15 Compiler: gcc gcc (GCC) 8.5.0 20210514 (Red Hat 8.5.0-22) Ubuntu 20.04 Kernel: 5.15 Compiler: gcc gcc (Ubuntu 9.4.0-1ubuntu1~20.04.2) 9.4.0 Ubuntu 22.04 Kernel: 5.15 Compiler: gcc gcc (Ubuntu 11.4.0-1ubuntu1~22.04) 11.4.0 Red Hat Enterprise Linux 9.5 Kernel: 5.15 Compiler: gcc gcc (GCC) 11.5.0 20240719 (Red Hat 11.5.0-2) Ubuntu 24.04 Kernel: 5.15 Compiler: gcc gcc (Ubuntu 13.3.0-6ubuntu2~24.04) 13.3.0 Windows Server 2022 Kernel: 10.0.20348.2031 Compiler: clang 15.0.7, gcc 14.1.0 (MinGW), and MSVC VS 19.39.33521 To view detailed results, visit: https://lab.dpdk.org/results/dashboard/patchsets/34309/ UNH-IOL DPDK Community Lab To manage your email subscriptions, visit: https://lab.dpdk.org/results/dashboard/preferences/subscriptions/