From mboxrd@z Thu Jan 1 00:00:00 1970 Return-Path: Received: from mails.dpdk.org (mails.dpdk.org [217.70.189.124]) by inbox.dpdk.org (Postfix) with ESMTP id 52ACD48960 for ; Fri, 17 Oct 2025 12:37:08 +0200 (CEST) Received: from mails.dpdk.org (localhost [127.0.0.1]) by mails.dpdk.org (Postfix) with ESMTP id 4B5B240269; Fri, 17 Oct 2025 12:37:08 +0200 (CEST) Received: from mail-ot1-f100.google.com (mail-ot1-f100.google.com [209.85.210.100]) by mails.dpdk.org (Postfix) with ESMTP id E921D40269 for ; Fri, 17 Oct 2025 12:37:06 +0200 (CEST) Received: by mail-ot1-f100.google.com with SMTP id 46e09a7af769-7a9a2b27c44so1273628a34.0 for ; Fri, 17 Oct 2025 03:37:06 -0700 (PDT) DKIM-Signature: v=1; a=rsa-sha256; c=relaxed/relaxed; d=iol.unh.edu; s=unh-iol; t=1760697426; x=1761302226; darn=dpdk.org; h=references:in-reply-to:cc:to:from:subject:message-id:date:from:to :cc:subject:date:message-id:reply-to; bh=m7BKBvt8v95pcRgGWw2jkErO+QI7eq10m4g7NSnCT8g=; b=FpLlC6GhRGGLHnMMzIFTI/IKrFnK9yG+DHJyb5E7a5NvB3qCR2BH9hhpilJLwvVQ/y wg3xsqd7BZqaMMkzfBJsgemFf/QWysmKKUY1bQhPzwkAiftkCY6XaZDtSe2NJwNCh+gd diDrPc8WwVd15B2X6hKqVPgzXKym3MCQXYOxs= X-Google-DKIM-Signature: v=1; a=rsa-sha256; c=relaxed/relaxed; d=1e100.net; s=20230601; t=1760697426; x=1761302226; h=references:in-reply-to:cc:to:from:subject:message-id:date :x-gm-message-state:from:to:cc:subject:date:message-id:reply-to; bh=m7BKBvt8v95pcRgGWw2jkErO+QI7eq10m4g7NSnCT8g=; b=F56OuDV2/sygZnY0EZss3N5lhAKg158KoZ9MCfuxD4soBYTSkH/skYCqBWdQMqoCju q+eKbIbYwgTBRojy1+VKb2Nqlb/GovFfTNwu0ZsUH46p+LtAgdqua9jcpqHmQuMtybjQ VFh1hETUfZIVebY4U1DRl28DOTh8N+E04VWZio5okmp40Jyx2g5/LHxIY9woBA/GX6PW 6S4itOajbM9tZIIm7J5y4wjnkv57pFXxkZ8/1KyYzhrHz+/nx9EurPcv5N7kpKQW21jG AWw0t4M0KdodH+IPaK+Hlwta0QRIfA73GdTyBVMdBlX0TUhyebGsCB7Bubsy6k5UQ35e /MNw== X-Gm-Message-State: AOJu0YytJnus1+uOOYKQDlokjpcAQbloJPoXGtH6YTNEMQShOTNqPs85 qNrJX8mlfG0f1Egz3DDcLBD+kIcB5CSOetEXVPROQ7z3Dd+kkv1JVWk6PljYSeYPgbQOGTOFQlX mak2mI0h3lglUTJghSC0VBmhFs9BF0AMHX0gLZUPR7fhU X-Gm-Gg: ASbGncvcFcd/7JSRbPaLRrNpgIbdpLkPeGMaBApWPh9yA2wmztcXTV1IgItJ9Ann/VA m+TI9hkiSHhza0jxOrNhQxFm7EbICo0l2w7UZ7s7IPzoKoY63m254YIV18t+MY6C+GzuFIQIXZ2 4q7G0XqIRFJtm8PynLYFUOuA10nspj2xLnRSnw99UvhYyY+YqiPZeMInXnwExvCnjrL/E3fL+e8 4pk4RAtGnp75RAffs8zmcEfyqro25ts3gT+MwTSDgHuA7HL1YaYMgZIZSeAs9iaWo5tlPM9dcXW uf855L9KqyOiGCxw+H6HaCg1ZDphGp0z/Lf8Seg7riWwLd20t733CECGABBk2o+dMzCeT9XukYt zcfLpc+9EjGdmT6F75CFiTqe4wc5gJ64= X-Google-Smtp-Source: AGHT+IG1ZzkUIhDK7gN7YLsGRCDCwbs0uVdDJWlIRBJ346WOA9iwoWoow4JK9rSAE1KqO9wNUPPr03WidXBi X-Received: by 2002:a05:6830:d06:b0:79a:2e2e:4f9d with SMTP id 46e09a7af769-7c13d9aa64emr4222696a34.12.1760697426102; Fri, 17 Oct 2025 03:37:06 -0700 (PDT) Received: from postal.iol.unh.edu (postal.iol.unh.edu. [132.177.123.84]) by smtp-relay.gmail.com with ESMTPS id 46e09a7af769-7c0f8eff6b9sm1769761a34.0.2025.10.17.03.37.06 (version=TLS1_2 cipher=ECDHE-ECDSA-AES128-GCM-SHA256 bits=128/128); Fri, 17 Oct 2025 03:37:06 -0700 (PDT) X-Relaying-Domain: iol.unh.edu Date: Fri, 17 Oct 2025 03:37:06 -0700 (PDT) Message-ID: <68f21c52.050a0220.3dabbf.8155SMTPIN_ADDED_MISSING@mx.google.com> Received: from [172.21.0.2] (unknown [172.18.0.240]) by postal.iol.unh.edu (Postfix) with ESMTP id 2927B60003EA; Fri, 17 Oct 2025 06:37:05 -0400 (EDT) Subject: |SUCCESS| pw157784-157795 [PATCH] [v2,12/12] net/enetc: Add support From: dpdklab@iol.unh.edu To: Test Report Cc: dpdk-test-reports@iol.unh.edu, Stephen Hemminger In-Reply-To: <20251017091929.2723044-13-vanshika.shukla@nxp.com> References: <20251017091929.2723044-13-vanshika.shukla@nxp.com> Content-Type: text/plain X-BeenThere: test-report@dpdk.org X-Mailman-Version: 2.1.29 Precedence: list List-Id: automatic DPDK test reports List-Unsubscribe: , List-Archive: List-Post: List-Help: List-Subscribe: , Errors-To: test-report-bounces@dpdk.org Test-Label: iol-compile-amd64-testing Test-Status: SUCCESS http://dpdk.org/patch/157795 _Testing PASS_ Submitter: Vanshika Shukla Date: Friday, October 17 2025 09:19:29 DPDK git baseline: Repo:dpdk-next-net Branch: master CommitID:535c49b6264f1df239703b8250b070e4c4cda2e9 157784-157795 --> testing pass Upstream job id: Windows-Compile-DPDK-Native#31704 Test environment and result as below: +---------------------+--------------------+-------------------------+-------------------+----------------------+ | Environment | dpdk_meson_compile | dpdk_llvm_clang_compile | dpdk_msvc_compile | dpdk_mingw64_compile | +=====================+====================+=========================+===================+======================+ | Ubuntu 20.04 | PASS | SKIPPED | SKIPPED | SKIPPED | +---------------------+--------------------+-------------------------+-------------------+----------------------+ | FreeBSD 14.2 | PASS | SKIPPED | SKIPPED | SKIPPED | +---------------------+--------------------+-------------------------+-------------------+----------------------+ | Windows Server 2022 | SKIPPED | PASS | PASS | PASS | +---------------------+--------------------+-------------------------+-------------------+----------------------+ Ubuntu 20.04 Kernel: 4.19 Compiler: gcc gcc (Ubuntu 9.4.0-1ubuntu1~20.04.2) 9.4.0 FreeBSD 14.2 Kernel: 14.2-RELEASE Compiler: clang 18.1.6 Windows Server 2022 Kernel: 10.0.20348.2031 Compiler: clang 15.0.7, gcc 14.1.0 (MinGW), and MSVC VS 19.39.33521 To view detailed results, visit: https://lab.dpdk.org/results/dashboard/patchsets/34309/ UNH-IOL DPDK Community Lab To manage your email subscriptions, visit: https://lab.dpdk.org/results/dashboard/preferences/subscriptions/