From mboxrd@z Thu Jan 1 00:00:00 1970 Return-Path: Received: from mails.dpdk.org (mails.dpdk.org [217.70.189.124]) by inbox.dpdk.org (Postfix) with ESMTP id E7D9D48960 for ; Fri, 17 Oct 2025 12:43:10 +0200 (CEST) Received: from mails.dpdk.org (localhost [127.0.0.1]) by mails.dpdk.org (Postfix) with ESMTP id E170640269; Fri, 17 Oct 2025 12:43:10 +0200 (CEST) Received: from mail-qv1-f97.google.com (mail-qv1-f97.google.com [209.85.219.97]) by mails.dpdk.org (Postfix) with ESMTP id 7E83C40269 for ; Fri, 17 Oct 2025 12:43:09 +0200 (CEST) Received: by mail-qv1-f97.google.com with SMTP id 6a1803df08f44-87c11268b97so29044206d6.3 for ; Fri, 17 Oct 2025 03:43:09 -0700 (PDT) DKIM-Signature: v=1; a=rsa-sha256; c=relaxed/relaxed; d=iol.unh.edu; s=unh-iol; t=1760697789; x=1761302589; darn=dpdk.org; h=references:in-reply-to:cc:to:from:subject:message-id:date:from:to :cc:subject:date:message-id:reply-to; bh=h8x3zUDPWkd55E604mNPmduDpi4q+QQRRl5iBxf+BAI=; b=TwK3SaWea/2krZ7JqcdiUZyb3hS9b+4b+CmV/LoTEASO70VAp1oELlolCO2tBa/s7T nTJTU00p29/4nHnzhsfQAKhRLXa3Yv8TbJH3d4GUwKwv6xKlcsqItQ8Rq3hpSe+Zn/Hw a25nzy95UAGRK6vwdvnOF8IRLLfq8p+xtzgkI= X-Google-DKIM-Signature: v=1; a=rsa-sha256; c=relaxed/relaxed; d=1e100.net; s=20230601; t=1760697789; x=1761302589; h=references:in-reply-to:cc:to:from:subject:message-id:date :x-gm-message-state:from:to:cc:subject:date:message-id:reply-to; bh=h8x3zUDPWkd55E604mNPmduDpi4q+QQRRl5iBxf+BAI=; b=tVqE5gz3TFWUlAr5NVMhGcaaG0+u5aGoLcbjbiOHwppyvcilb2i3DbhQobQTdLvcYQ a6osEbQVBrdEySBMblmogHMa+t3p7/FQeHApeVTpfUWo4k1V28yDnDoXqFjLF+Obg3+b cE0cmmKJ+GTwZk617N1CTtFnv/4qA/Ua1JSBNEFymiWxlh5IWerD/kARvPuGVaf5gYGU KEtDtbNrZ8m6Kuh0iPrxAMG9BvZbeWmo9yCYqzaUSX2sgCW1O4xL76plQ2d0ZfDxMUy4 kErMRVsWfutyM3PeyKvJybYSKTzMbmpq+RYIC2UJrTSBZr3yIyCTBN7cyFiExYK7Kx4H sd6g== X-Gm-Message-State: AOJu0YzZ9TKYKcH0wPf4P0eM3MegC828UhHJBUi/z/7NojZgPYfna93o /aP54SLwQVlsyJvxq488utosbGUswYi6Z3Tgk8wYUmITstW3/JasxZgRHA2HzWmkW9PZVkRFvKL ulevaKMagag7F1ZtY4xt9A+Pge+Jh66CCwArjOWQlCcOj X-Gm-Gg: ASbGncu9b7zIRJuF/aSE+c8Hc67HR6jm8lcEQoGOae0bEzrYXRfB/tJJDK4bejbCjqC 8/JlAUc2ETyBuAlwMog3Z14uJ4noAvs2oPaBE0aOE2QhMbUHOXjFF63ebMGPhApwEahwAEAurt3 I4NsLzUxj4g6ZH2Lt0a1pJcjuMT3wSjLBSOV1y1hSf1O/r7M/Cgh/CUc4qFzyVACKyEX5dFA6wD vbAiXGzKFAFYG6/BlOMsoyTAfOZqexUk+EKH9AhWi84fEsB+qXDVqnfZc+RTrD68fBxxUIeR2eL Mp83fPv1K1Ehzsuuv5y6ez9XQMj6NlYD2R4Sn4tyz+QqUC9SyYiZ/ZoL7+K8AiHPkAU1Ny1B47m Irm8o1J7g1NSKkmMeFkGpZlxOkW2uNSg= X-Google-Smtp-Source: AGHT+IHAkH9r/NJxY7YaYsDwQ6q1LWXZ4MCG+3BfjcaFHI+4h4krVN0r77HenY4UuRKinCvw0ATfc1tLcCMK X-Received: by 2002:a05:6214:d62:b0:709:6582:86d8 with SMTP id 6a1803df08f44-87c2075b851mr41949196d6.21.1760697788765; Fri, 17 Oct 2025 03:43:08 -0700 (PDT) Received: from postal.iol.unh.edu (postal.iol.unh.edu. [132.177.123.84]) by smtp-relay.gmail.com with ESMTPS id 6a1803df08f44-87c0120fcb3sm7467986d6.5.2025.10.17.03.43.08 (version=TLS1_2 cipher=ECDHE-ECDSA-AES128-GCM-SHA256 bits=128/128); Fri, 17 Oct 2025 03:43:08 -0700 (PDT) X-Relaying-Domain: iol.unh.edu Date: Fri, 17 Oct 2025 03:43:08 -0700 (PDT) Message-ID: <68f21dbc.050a0220.2f62f5.50aaSMTPIN_ADDED_MISSING@mx.google.com> Received: from [172.21.0.2] (unknown [172.18.0.240]) by postal.iol.unh.edu (Postfix) with ESMTP id 7215E6051830; Fri, 17 Oct 2025 06:43:08 -0400 (EDT) Subject: |SUCCESS| pw157796 [PATCH] [v2,1/1] riscv support rte_memcpy in vect From: dpdklab@iol.unh.edu To: Test Report Cc: dpdk-test-reports@iol.unh.edu In-Reply-To: <20251017093617.1219267-2-chen.qiguo@zte.com.cn> References: <20251017093617.1219267-2-chen.qiguo@zte.com.cn> Content-Type: text/plain X-BeenThere: test-report@dpdk.org X-Mailman-Version: 2.1.29 Precedence: list List-Id: automatic DPDK test reports List-Unsubscribe: , List-Archive: List-Post: List-Help: List-Subscribe: , Errors-To: test-report-bounces@dpdk.org Test-Label: iol-unit-amd64-testing Test-Status: SUCCESS http://dpdk.org/patch/157796 _Testing PASS_ Submitter: Qiguo Chen Date: Friday, October 17 2025 09:36:17 DPDK git baseline: Repo:dpdk Branch: master CommitID:438491733c2d8a109574449d3d6de9b25a05c07c 157796 --> testing pass Upstream job id: Generic-Unit-Test-DPDK#382643 Test environment and result as below: +-------------------------------+----------------+ | Environment | dpdk_unit_test | +===============================+================+ | Debian GNU/Linux 12 | PASS | +-------------------------------+----------------+ | Fedora Linux 40 | PASS | +-------------------------------+----------------+ | Fedora Linux 42 | PASS | +-------------------------------+----------------+ | CentOS Stream 9 | PASS | +-------------------------------+----------------+ | Fedora Linux 41 | PASS | +-------------------------------+----------------+ | CentOS Stream 10 | PASS | +-------------------------------+----------------+ | Ubuntu 22.04 | PASS | +-------------------------------+----------------+ | Red Hat Enterprise Linux 8.10 | PASS | +-------------------------------+----------------+ | Ubuntu 24.04 | PASS | +-------------------------------+----------------+ | Red Hat Enterprise Linux 9.5 | PASS | +-------------------------------+----------------+ | Ubuntu 20.04 | PASS | +-------------------------------+----------------+ Debian GNU/Linux 12 Kernel: 5.15 Compiler: gcc gcc (Debian 12.2.0-14+deb12u1) 12.2.0 Fedora Linux 40 Kernel: 5.15 Compiler: gcc gcc (GCC) 14.2.1 20240912 (Red Hat 14.2.1-3) Fedora Linux 42 Kernel: 5.15 Compiler: clang gcc (GCC) 15.2.1 20250808 (Red Hat 15.2.1-1) CentOS Stream 9 Kernel: 5.15 Compiler: gcc gcc (GCC) 11.5.0 20240719 (Red Hat 11.5.0-11) Fedora Linux 41 Kernel: 5.15 Compiler: gcc gcc (GCC) 14.3.1 20250523 (Red Hat 14.3.1-1) CentOS Stream 10 Kernel: 5.15 Compiler: gcc gcc (GCC) 14.2.1 20250110 (Red Hat 14.2.1-8) Ubuntu 22.04 Kernel: 5.15 Compiler: gcc gcc (Ubuntu 11.4.0-1ubuntu1~22.04) 11.4.0 Red Hat Enterprise Linux 8.10 Kernel: 5.15 Compiler: gcc gcc (GCC) 8.5.0 20210514 (Red Hat 8.5.0-22) Ubuntu 24.04 Kernel: 5.15 Compiler: gcc gcc (Ubuntu 13.3.0-6ubuntu2~24.04) 13.3.0 Red Hat Enterprise Linux 9.5 Kernel: 5.15 Compiler: gcc gcc (GCC) 11.5.0 20240719 (Red Hat 11.5.0-2) Ubuntu 20.04 Kernel: 5.15 Compiler: gcc gcc (Ubuntu 9.4.0-1ubuntu1~20.04.2) 9.4.0 To view detailed results, visit: https://lab.dpdk.org/results/dashboard/patchsets/34310/ UNH-IOL DPDK Community Lab To manage your email subscriptions, visit: https://lab.dpdk.org/results/dashboard/preferences/subscriptions/