From mboxrd@z Thu Jan 1 00:00:00 1970 Return-Path: Received: from mails.dpdk.org (mails.dpdk.org [217.70.189.124]) by inbox.dpdk.org (Postfix) with ESMTP id B4FF948960 for ; Fri, 17 Oct 2025 12:59:21 +0200 (CEST) Received: from mails.dpdk.org (localhost [127.0.0.1]) by mails.dpdk.org (Postfix) with ESMTP id B07DD40269; Fri, 17 Oct 2025 12:59:21 +0200 (CEST) Received: from mail-qv1-f97.google.com (mail-qv1-f97.google.com [209.85.219.97]) by mails.dpdk.org (Postfix) with ESMTP id 6418E40269 for ; Fri, 17 Oct 2025 12:59:20 +0200 (CEST) Received: by mail-qv1-f97.google.com with SMTP id 6a1803df08f44-7f7835f4478so20159206d6.1 for ; Fri, 17 Oct 2025 03:59:20 -0700 (PDT) DKIM-Signature: v=1; a=rsa-sha256; c=relaxed/relaxed; d=iol.unh.edu; s=unh-iol; t=1760698760; x=1761303560; darn=dpdk.org; h=references:in-reply-to:cc:to:from:subject:message-id:date:from:to :cc:subject:date:message-id:reply-to; bh=OX5ZLVoTvqfOMNdcJEKqKLYShKHEJjMlFuk2PbQdH7E=; b=ZIrx0imMknwywGOL7F7Oi1u11Hn8rZfTZlpLQYawjHfgDhzzqhMX87+c+7NAi4uX+3 LpecUtnXT0C18lCPDLeGnSDDhix5ely5z8NN4VBZUgPt9NnNaHs04W/Idq8Xa8dPFi8t rfIJew1ivto5q6AWAiBjRDifyuDcpd8ESj+Ic= X-Google-DKIM-Signature: v=1; a=rsa-sha256; c=relaxed/relaxed; d=1e100.net; s=20230601; t=1760698760; x=1761303560; h=references:in-reply-to:cc:to:from:subject:message-id:date :x-gm-message-state:from:to:cc:subject:date:message-id:reply-to; bh=OX5ZLVoTvqfOMNdcJEKqKLYShKHEJjMlFuk2PbQdH7E=; b=vuvkjX4ahIXbbsyqR3/GS0L24gzq7F4DFE9vqgBz9OK9jJmssgcHdykLbNjk8vtqBG TEdCY0YnPUUVR3whre5k/T13UnNTYduB9O53pbWnuEl5Ki1/C/GL9Miwk570jw+rkF6d FYfanGHKP1Dg1I0LLgLmxmLgusFf0Bs2Hx8ENbA3aoj6qRRtTeIKnvCPN/rVGQc8so1+ HQShoJzqHOV1bOqudSBRBBQm8l3c3bRMARzQPjTEaGBAIcN2TvFUD61wYCbOEM2UHLEf jXvPz5Ou89J/Emj55vV2GawHTRo9DAcCAMA7uxlCFwNaviqRR71tv36leFH/di1coxTp E0GQ== X-Gm-Message-State: AOJu0YwOPI0zGO1G1zUSYZgyAXEp5orxNMDUmCZdKoHtPQRHe4/8eacZ 8E20S/Gv74bxAMFAXES+BvUPMgcN6jlaxgvV/01tJdm6YJetRBdwMxErFdWXuM8DviP2BVCtY62 4jpchiOBjTfqp3CwduLx6+KUT6lYgWKkJ1vrXHoTzUK4GbTFtqEF3yRINiR0r X-Gm-Gg: ASbGnctnKh+DOU37c3zsDPc+G1ekwMX48XaVKJmE3vSS+n/N0FalibgT/21logPko73 UAa1FejlzWqZ0nn+q8SNWOnFHhMelwi4cX0V/WnOwIcXTcFyXuRBVzRb1OELwPmm+de5uKWxnSy j60HghTWD26EFKgSKwfN0aa0yKYzu3LG2epvR63AWSePI3bCdgGCOyoI0WEyZODi7IDSTVWjDae 9ITvIP3mOYfx4uV21MSpK2iFNSzMOq9X6aonISBCURkmoQGEeivhg8v0mC9QcWcGPXO0rKmTDip 3eN8Ul7zapYAkXU2Qua+MGx+Erk/CGWC7Y2UopylvI4DapBsJvqJfWmAKZnHQSDQIQG6bna/fo8 Bzg/gsdTK X-Google-Smtp-Source: AGHT+IEEEdlr5bZxpaSZnvGrBnad9DlWM8qSLwv1hhP4K3JpsnO4Dsrf2EdrwTGyXw4I01V0pHxyWGgX/sfn X-Received: by 2002:ad4:5def:0:b0:87b:cdf4:809b with SMTP id 6a1803df08f44-87c2061b72amr46068576d6.35.1760698759742; Fri, 17 Oct 2025 03:59:19 -0700 (PDT) Received: from postal.iol.unh.edu (postal.iol.unh.edu. [2606:4100:3880:1234::84]) by smtp-relay.gmail.com with ESMTPS id 6a1803df08f44-87c012a218esm7307326d6.25.2025.10.17.03.59.19 (version=TLS1_2 cipher=ECDHE-ECDSA-AES128-GCM-SHA256 bits=128/128); Fri, 17 Oct 2025 03:59:19 -0700 (PDT) X-Relaying-Domain: iol.unh.edu Date: Fri, 17 Oct 2025 03:59:19 -0700 (PDT) Message-ID: <68f22187.050a0220.19277d.6098SMTPIN_ADDED_MISSING@mx.google.com> Received: from [172.21.0.2] (unknown [172.18.0.240]) by postal.iol.unh.edu (Postfix) with ESMTP id 707366051830; Fri, 17 Oct 2025 06:59:19 -0400 (EDT) Subject: |SUCCESS| pw157784-157795 [PATCH] [v2,12/12] net/enetc: Add support From: dpdklab@iol.unh.edu To: Test Report Cc: dpdk-test-reports@iol.unh.edu, Stephen Hemminger In-Reply-To: <20251017091929.2723044-13-vanshika.shukla@nxp.com> References: <20251017091929.2723044-13-vanshika.shukla@nxp.com> Content-Type: text/plain X-BeenThere: test-report@dpdk.org X-Mailman-Version: 2.1.29 Precedence: list List-Id: automatic DPDK test reports List-Unsubscribe: , List-Archive: List-Post: List-Help: List-Subscribe: , Errors-To: test-report-bounces@dpdk.org Test-Label: iol-unit-amd64-testing Test-Status: SUCCESS http://dpdk.org/patch/157795 _Testing PASS_ Submitter: Vanshika Shukla Date: Friday, October 17 2025 09:19:29 DPDK git baseline: Repo:dpdk-next-net Branch: master CommitID:535c49b6264f1df239703b8250b070e4c4cda2e9 157784-157795 --> testing pass Upstream job id: Generic-VM-Unit-Test-DPDK#31875 Test environment and result as below: +-------------------------------+----------------+ | Environment | dpdk_unit_test | +===============================+================+ | Fedora Linux 41 | PASS | +-------------------------------+----------------+ | CentOS Stream 9 | PASS | +-------------------------------+----------------+ | Debian GNU/Linux 12 | PASS | +-------------------------------+----------------+ | CentOS Stream 10 | PASS | +-------------------------------+----------------+ | Fedora Linux 42 | PASS | +-------------------------------+----------------+ | Fedora Linux 40 | PASS | +-------------------------------+----------------+ | Red Hat Enterprise Linux 8.10 | PASS | +-------------------------------+----------------+ | Ubuntu 20.04 | PASS | +-------------------------------+----------------+ | Ubuntu 22.04 | PASS | +-------------------------------+----------------+ | Red Hat Enterprise Linux 9.5 | PASS | +-------------------------------+----------------+ | Ubuntu 24.04 | PASS | +-------------------------------+----------------+ | Windows Server 2022 | PASS | +-------------------------------+----------------+ Fedora Linux 41 Kernel: 5.15 Compiler: gcc gcc (GCC) 14.3.1 20250523 (Red Hat 14.3.1-1) CentOS Stream 9 Kernel: 5.15 Compiler: gcc gcc (GCC) 11.5.0 20240719 (Red Hat 11.5.0-11) Debian GNU/Linux 12 Kernel: 5.15 Compiler: gcc gcc (Debian 12.2.0-14+deb12u1) 12.2.0 CentOS Stream 10 Kernel: 5.15 Compiler: gcc gcc (GCC) 14.2.1 20250110 (Red Hat 14.2.1-8) Fedora Linux 42 Kernel: 5.15 Compiler: gcc gcc (GCC) 15.2.1 20250808 (Red Hat 15.2.1-1) Fedora Linux 40 Kernel: 5.15 Compiler: clang gcc (GCC) 14.2.1 20240912 (Red Hat 14.2.1-3) Red Hat Enterprise Linux 8.10 Kernel: 5.15 Compiler: gcc gcc (GCC) 8.5.0 20210514 (Red Hat 8.5.0-22) Ubuntu 20.04 Kernel: 5.15 Compiler: gcc gcc (Ubuntu 9.4.0-1ubuntu1~20.04.2) 9.4.0 Ubuntu 22.04 Kernel: 5.15 Compiler: gcc gcc (Ubuntu 11.4.0-1ubuntu1~22.04) 11.4.0 Red Hat Enterprise Linux 9.5 Kernel: 5.15 Compiler: gcc gcc (GCC) 11.5.0 20240719 (Red Hat 11.5.0-2) Ubuntu 24.04 Kernel: 5.15 Compiler: gcc gcc (Ubuntu 13.3.0-6ubuntu2~24.04) 13.3.0 Windows Server 2022 Kernel: 10.0.20348.2031 Compiler: clang 15.0.7, gcc 14.1.0 (MinGW), and MSVC VS 19.39.33521 To view detailed results, visit: https://lab.dpdk.org/results/dashboard/patchsets/34309/ UNH-IOL DPDK Community Lab To manage your email subscriptions, visit: https://lab.dpdk.org/results/dashboard/preferences/subscriptions/