From mboxrd@z Thu Jan 1 00:00:00 1970 Return-Path: Received: from mails.dpdk.org (mails.dpdk.org [217.70.189.124]) by inbox.dpdk.org (Postfix) with ESMTP id 25FE048960 for ; Fri, 17 Oct 2025 13:18:37 +0200 (CEST) Received: from mails.dpdk.org (localhost [127.0.0.1]) by mails.dpdk.org (Postfix) with ESMTP id 0572D40269; Fri, 17 Oct 2025 13:18:37 +0200 (CEST) Received: from mail-pl1-f225.google.com (mail-pl1-f225.google.com [209.85.214.225]) by mails.dpdk.org (Postfix) with ESMTP id E2BE040269 for ; Fri, 17 Oct 2025 13:18:35 +0200 (CEST) Received: by mail-pl1-f225.google.com with SMTP id d9443c01a7336-279e2554c8fso17585775ad.2 for ; Fri, 17 Oct 2025 04:18:35 -0700 (PDT) DKIM-Signature: v=1; a=rsa-sha256; c=relaxed/relaxed; d=iol.unh.edu; s=unh-iol; t=1760699915; x=1761304715; darn=dpdk.org; h=cc:to:from:subject:message-id:date:from:to:cc:subject:date :message-id:reply-to; bh=LSJHL18qGxlkVjLAW78J9sjJRH/weBPBn0pv1wkmvRs=; b=O+u3BVvWP8FZfvJTXzf0GMw2vwsHp80i3TsJ5cmZ94WetZALaywJF2CtPdAfKe6fYI V22/Ve7OBByOrEBTMqIlpKaQW004nvbijbNp07I/IG+8nHHiD0eJr/huKIFmg90mVdJs ClNtCDV22fRvW4e/pofIRb8cpzOOzBYWZWgkQ= X-Google-DKIM-Signature: v=1; a=rsa-sha256; c=relaxed/relaxed; d=1e100.net; s=20230601; t=1760699915; x=1761304715; h=cc:to:from:subject:message-id:date:x-gm-message-state:from:to:cc :subject:date:message-id:reply-to; bh=LSJHL18qGxlkVjLAW78J9sjJRH/weBPBn0pv1wkmvRs=; b=BW9dnM1/VOEK5fTFiJ+RpWeh8zXYhyFKQduZP+0v0RvdA0KZ/YElxquBf4guhOVEx6 U0cHjtk7Jjb+yr6mWPxIqA3QRXjS92LrFMSGR+zJL0/ZHvbLnK3CDcVIwTHg/gRoz0IT UhGWf4rth+IHcyI1nDWPOTCmP4xxZUk2dM4Cl4XtfC67S0HWagRpkuli0TWu9EjdG0s8 GN4HqepE0w+g95CI4a0rp/xfbZcpUaKF4BA7YihGJ457CN1G0ISOf3knifcVoBkoQdXS IB8H0XFQ+aTowwdz53t+5iwf/Nkn4YJWtH3OvgC1mu5eSyXoYXFraROcvwbLjZYZz9k9 F5ag== X-Gm-Message-State: AOJu0Yzt/G6KnUVHIqby2Nn2CMfVTPnzwIqaPbIRXVaVwDf90/ahjyDw ozJD0akF/rczMF6AXd+ss2d41l1FEE+7A2jBOdcTskvdycZur79tfSZQsRzd6m/bhuEmh+mWsUm blDJXt4QvUlAxHBnPtg9DPqKBcpDvU4vACAr4SFpGwrHZ X-Gm-Gg: ASbGncsbhvGWD9gR9GuZWlqCt0YsY38Igv2s8wsOl9BumiPXE5Y8b8aoMY1DsZM9VCs nAFuk6OrAmLXW6QPrSEw8M2fXqiCeOazR7m76a+NdKQR8QvHcDlR8WRoQodB5jXCBRAyyzl+i1U uCK+SK3k/ZJhiN5m4do1eszo/pjbnwK7R6TaTX2j3UiCthjA8mzUNzavX7sFr6FkOU/VHmLltc2 M49U4E+faNJ5K7QkI2GR5/0GpCZ6wh/SXcivMCNM5NVq7Bk9jtlILQ6akmcDhnbOMwX3V6zMxez 4vZtFbQaRmha1EpxJmRW2lwd4f0tJDIhcyGq4m7dsu6UJYpskbW78KMyZ/s3RgsBvuEC7VKO8PU 5cVn/kWhPWJ3fbHJoHErGmnzSCF7ViYM= X-Google-Smtp-Source: AGHT+IElTAlDPhjxdCL01qPepGfGZFFXZ56hPyx62US4D8VDCXh7e6XyrA5AcimOk6eUTI3rdNsCXS8fB5tP X-Received: by 2002:a17:902:ce0e:b0:266:7871:37dc with SMTP id d9443c01a7336-290ca1216abmr43197625ad.36.1760699915001; Fri, 17 Oct 2025 04:18:35 -0700 (PDT) Received: from postal.iol.unh.edu (postal.iol.unh.edu. [132.177.123.84]) by smtp-relay.gmail.com with ESMTPS id 41be03b00d2f7-b6a22870e8dsm373336a12.3.2025.10.17.04.18.34 (version=TLS1_2 cipher=ECDHE-ECDSA-AES128-GCM-SHA256 bits=128/128); Fri, 17 Oct 2025 04:18:34 -0700 (PDT) X-Relaying-Domain: iol.unh.edu Date: Fri, 17 Oct 2025 04:18:34 -0700 (PDT) Message-ID: <68f2260a.050a0220.875ee.2377SMTPIN_ADDED_MISSING@mx.google.com> Received: from [172.21.0.2] (unknown [172.18.0.240]) by postal.iol.unh.edu (Postfix) with ESMTP id 424E86051830; Fri, 17 Oct 2025 07:18:34 -0400 (EDT) Subject: |SUCCESS| [GIT MASTER] 6b997d6b9ffdbb4f8ecd14d1f217da69cdc783af From: dpdklab@iol.unh.edu To: Test Report Cc: dpdk-test-reports@iol.unh.edu, Bruce Richardson Content-Type: text/plain X-BeenThere: test-report@dpdk.org X-Mailman-Version: 2.1.29 Precedence: list List-Id: automatic DPDK test reports List-Unsubscribe: , List-Archive: List-Post: List-Help: List-Subscribe: , Errors-To: test-report-bounces@dpdk.org _Testing PASS_ Branch: dpdk-next-net-intel 6b997d6b9ffdbb4f8ecd14d1f217da69cdc783af --> testing pass Upstream job id: Generic-Unit-Test-DPDK#382670 Test environment and result as below: +-------------------------------+----------------+ | Environment | dpdk_unit_test | +===============================+================+ | CentOS Stream 9 | PASS | +-------------------------------+----------------+ | CentOS Stream 10 | PASS | +-------------------------------+----------------+ | Fedora Linux 41 | PASS | +-------------------------------+----------------+ | Fedora Linux 40 | PASS | +-------------------------------+----------------+ | Fedora Linux 42 | PASS | +-------------------------------+----------------+ | Debian GNU/Linux 12 | PASS | +-------------------------------+----------------+ | Ubuntu 24.04 | PASS | +-------------------------------+----------------+ | Ubuntu 22.04 | PASS | +-------------------------------+----------------+ | Ubuntu 20.04 | PASS | +-------------------------------+----------------+ | Red Hat Enterprise Linux 9.5 | PASS | +-------------------------------+----------------+ | Red Hat Enterprise Linux 8.10 | PASS | +-------------------------------+----------------+ CentOS Stream 9 Kernel: 5.15 Compiler: gcc gcc (GCC) 11.5.0 20240719 (Red Hat 11.5.0-11) CentOS Stream 10 Kernel: 5.15 Compiler: gcc gcc (GCC) 14.2.1 20250110 (Red Hat 14.2.1-8) Fedora Linux 41 Kernel: 5.15 Compiler: clang gcc (GCC) 14.3.1 20250523 (Red Hat 14.3.1-1) Fedora Linux 40 Kernel: 5.15 Compiler: clang gcc (GCC) 14.2.1 20240912 (Red Hat 14.2.1-3) Fedora Linux 42 Kernel: 5.15 Compiler: clang gcc (GCC) 15.2.1 20250808 (Red Hat 15.2.1-1) Debian GNU/Linux 12 Kernel: 5.15 Compiler: gcc gcc (Debian 12.2.0-14+deb12u1) 12.2.0 Ubuntu 24.04 Kernel: 5.15 Compiler: gcc gcc (Ubuntu 13.3.0-6ubuntu2~24.04) 13.3.0 Ubuntu 22.04 Kernel: 5.15 Compiler: gcc gcc (Ubuntu 11.4.0-1ubuntu1~22.04) 11.4.0 Ubuntu 20.04 Kernel: 5.15 Compiler: gcc gcc (Ubuntu 9.4.0-1ubuntu1~20.04.2) 9.4.0 Red Hat Enterprise Linux 9.5 Kernel: 5.15 Compiler: gcc gcc (GCC) 11.5.0 20240719 (Red Hat 11.5.0-2) Red Hat Enterprise Linux 8.10 Kernel: 5.15 Compiler: gcc gcc (GCC) 8.5.0 20210514 (Red Hat 8.5.0-22) To view detailed results, visit: https://lab.dpdk.org/results/dashboard/tarballs/35251/ UNH-IOL DPDK Community Lab To manage your email subscriptions, visit: https://lab.dpdk.org/results/dashboard/preferences/subscriptions/