From mboxrd@z Thu Jan 1 00:00:00 1970 Return-Path: Received: from mails.dpdk.org (mails.dpdk.org [217.70.189.124]) by inbox.dpdk.org (Postfix) with ESMTP id 64C8F48960 for ; Fri, 17 Oct 2025 13:22:02 +0200 (CEST) Received: from mails.dpdk.org (localhost [127.0.0.1]) by mails.dpdk.org (Postfix) with ESMTP id 6119340269; Fri, 17 Oct 2025 13:22:02 +0200 (CEST) Received: from mail-pl1-f228.google.com (mail-pl1-f228.google.com [209.85.214.228]) by mails.dpdk.org (Postfix) with ESMTP id DCC9842D7D for ; Fri, 17 Oct 2025 13:22:00 +0200 (CEST) Received: by mail-pl1-f228.google.com with SMTP id d9443c01a7336-290d4d421f6so6815365ad.2 for ; Fri, 17 Oct 2025 04:22:00 -0700 (PDT) DKIM-Signature: v=1; a=rsa-sha256; c=relaxed/relaxed; d=iol.unh.edu; s=unh-iol; t=1760700120; x=1761304920; darn=dpdk.org; h=references:in-reply-to:cc:to:from:subject:message-id:date:from:to :cc:subject:date:message-id:reply-to; bh=rHwHVVzH1oXl802F9rpDYQtPZAUfdNANVUl9Eml3kUo=; b=LmpL2g8so2zSTYlDRQ03tGWviEa5J9L3HqFsJD15uXoU9MMGrNCp+8YVMHq+I+xC+5 ZtVnlOulhtIDi1xQOSMRfIQ/70fxuFaLrSKsjaU89mhvPqYxBrnDQO8wVL/few/GniMy yELwFaRYkrPxupwVcvTE/d52FDpG86/I2kElo= X-Google-DKIM-Signature: v=1; a=rsa-sha256; c=relaxed/relaxed; d=1e100.net; s=20230601; t=1760700120; x=1761304920; h=references:in-reply-to:cc:to:from:subject:message-id:date :x-gm-message-state:from:to:cc:subject:date:message-id:reply-to; bh=rHwHVVzH1oXl802F9rpDYQtPZAUfdNANVUl9Eml3kUo=; b=Vy5q/9RNs8hosGTu823ZN1W4zhKIU6MSCo8T/1/gXRvlxrMA+gT2hGHrzv2Kv7SxiW KLRb/DrY0LZuUzC6D/J8BORlSNLpPLpvFkBz1iDYWEH1Mji9VxZ0Na4AhH1jRx4fXunw e/oJ0AoGMDyUim4MB+AIHd29prACQbzrc5JB4LDWRucIQKMBG/yKUyYIwhGOEcloi8x6 JKFP2PUzLaZsVb5Z6tIxoxFe+hNqc+J74djD/4cpIUgHUoROmEU//cTu6gNwjoPsMX8a 3RXF1ylw/fHKYCDXOOHz97uUZCxwCJnSDlK1Dftao69gdXSqJlsSnRVOt+OYvfMMgMDC M8fg== X-Gm-Message-State: AOJu0Yy1IluSLGIAY9VW3Jr2Z7uwAzPM4uTtRkSEZFXBi7d8gaICH5ch diy+TgQEi9vA6mnehGjpU11/8TZkwr/D05ifAZyI+Vmsw2pTdglA/ZlBt2uz2+a3fHJ6XCmjpQh 5COayYKBW4+zs+F20h5taRtpQKiqjL2eUMgdz1MAhqpfe X-Gm-Gg: ASbGncu4nbtETFMl7erYJvqsTHkDTDXVDTgi5mN/CVxyjE96cvHHP3Np/sF6YtInSLK QQ0SFHXn0OVXiQ0wo2PUdbV4mumFW996xSc1jamThNqrYVGZdRZuavE8AKq/rO6rwC+xg0xD/A7 akxmEpEX5buaUOXsrBxeLFNVSxnBaxedZcG9wYba2E6BZGA3tUTBDXU2aXebRxwLckR1LT0T7nR G9hh7apYva8JXI8h4h5XOXaWUBYYQVPEerfs5J80LpIHk7v0Xvq/vVjdlEAXFjPCrtHOYpArvtc OiVlzAXLIoF4Ey95jZ2bEwXK9oBFP9cgMZMJ3kpqN6hA6AYdpMhW2dvZVheIs1RCRz/skIpZlEc vybquGycLgKXxxS+nTPEkFhHNh8m/JOM= X-Google-Smtp-Source: AGHT+IHKXSDhPpGFOzbMXstWqD7GNQqbVfpYAiNAv4LLcPmug9qbiL1FmJ/HUFKTsQmzzMhqueBU2akF0i6y X-Received: by 2002:a17:902:d587:b0:269:a4ed:13c3 with SMTP id d9443c01a7336-290c9c8c7d8mr41387475ad.5.1760700119915; Fri, 17 Oct 2025 04:21:59 -0700 (PDT) Received: from postal.iol.unh.edu (postal.iol.unh.edu. [132.177.123.84]) by smtp-relay.gmail.com with ESMTPS id d9443c01a7336-290ab33e88fsm5267565ad.14.2025.10.17.04.21.59 (version=TLS1_2 cipher=ECDHE-ECDSA-AES128-GCM-SHA256 bits=128/128); Fri, 17 Oct 2025 04:21:59 -0700 (PDT) X-Relaying-Domain: iol.unh.edu Date: Fri, 17 Oct 2025 04:21:59 -0700 (PDT) Message-ID: <68f226d7.170a0220.cd217.a19aSMTPIN_ADDED_MISSING@mx.google.com> Received: from [172.21.0.3] (unknown [172.18.0.240]) by postal.iol.unh.edu (Postfix) with ESMTP id 1B12E6051830; Fri, 17 Oct 2025 07:21:59 -0400 (EDT) Subject: |SUCCESS| pw157796 [PATCH] [v2,1/1] riscv support rte_memcpy in vect From: dpdklab@iol.unh.edu To: Test Report Cc: dpdk-test-reports@iol.unh.edu In-Reply-To: <20251017093617.1219267-2-chen.qiguo@zte.com.cn> References: <20251017093617.1219267-2-chen.qiguo@zte.com.cn> Content-Type: text/plain X-BeenThere: test-report@dpdk.org X-Mailman-Version: 2.1.29 Precedence: list List-Id: automatic DPDK test reports List-Unsubscribe: , List-Archive: List-Post: List-Help: List-Subscribe: , Errors-To: test-report-bounces@dpdk.org Test-Label: iol-compile-amd64-testing Test-Status: SUCCESS http://dpdk.org/patch/157796 _Testing PASS_ Submitter: Qiguo Chen Date: Friday, October 17 2025 09:36:17 DPDK git baseline: Repo:dpdk Branch: master CommitID:438491733c2d8a109574449d3d6de9b25a05c07c 157796 --> testing pass Upstream job id: Windows-Compile-DPDK-Native#31705 Test environment and result as below: +---------------------+--------------------+-------------------+-------------------------+ | Environment | dpdk_meson_compile | dpdk_msvc_compile | dpdk_llvm_clang_compile | +=====================+====================+===================+=========================+ | Ubuntu 20.04 | PASS | SKIPPED | SKIPPED | +---------------------+--------------------+-------------------+-------------------------+ | FreeBSD 14.2 | PASS | SKIPPED | SKIPPED | +---------------------+--------------------+-------------------+-------------------------+ | Windows Server 2022 | SKIPPED | PASS | PASS | +---------------------+--------------------+-------------------+-------------------------+ Ubuntu 20.04 Kernel: 4.19 Compiler: gcc gcc (Ubuntu 9.4.0-1ubuntu1~20.04.2) 9.4.0 FreeBSD 14.2 Kernel: 14.2-RELEASE Compiler: clang 18.1.6 Windows Server 2022 Kernel: 10.0.20348.2031 Compiler: clang 15.0.7, gcc 14.1.0 (MinGW), and MSVC VS 19.39.33521 To view detailed results, visit: https://lab.dpdk.org/results/dashboard/patchsets/34310/ UNH-IOL DPDK Community Lab To manage your email subscriptions, visit: https://lab.dpdk.org/results/dashboard/preferences/subscriptions/