From mboxrd@z Thu Jan 1 00:00:00 1970 Return-Path: Received: from mails.dpdk.org (mails.dpdk.org [217.70.189.124]) by inbox.dpdk.org (Postfix) with ESMTP id 9E21448960 for ; Fri, 17 Oct 2025 13:32:18 +0200 (CEST) Received: from mails.dpdk.org (localhost [127.0.0.1]) by mails.dpdk.org (Postfix) with ESMTP id 89B4940269; Fri, 17 Oct 2025 13:32:18 +0200 (CEST) Received: from mail-oa1-f98.google.com (mail-oa1-f98.google.com [209.85.160.98]) by mails.dpdk.org (Postfix) with ESMTP id F011640269 for ; Fri, 17 Oct 2025 13:32:16 +0200 (CEST) Received: by mail-oa1-f98.google.com with SMTP id 586e51a60fabf-373b7e07182so1021317fac.0 for ; Fri, 17 Oct 2025 04:32:16 -0700 (PDT) DKIM-Signature: v=1; a=rsa-sha256; c=relaxed/relaxed; d=iol.unh.edu; s=unh-iol; t=1760700736; x=1761305536; darn=dpdk.org; h=references:in-reply-to:cc:to:from:subject:message-id:date:from:to :cc:subject:date:message-id:reply-to; bh=eqNMl7EoTnjnYx2vN8Qh44VDixiM13ZVHILEEcqi480=; b=N7QEPEWnSNKVcAuLn3FVu5XbChgtyoctTg6bbBiUG8T+TIeRqsR42T9yEDBGbwlJxh SKeY5j6QAe96T2JIpJDdKEPMfmyDfWeAZfxAlKTogTN3YUp3ljTbxsakNzoyixSxHiiM c9cuPU5z89apiM1gEshm8FUDX7tBTJHmmpuk8= X-Google-DKIM-Signature: v=1; a=rsa-sha256; c=relaxed/relaxed; d=1e100.net; s=20230601; t=1760700736; x=1761305536; h=references:in-reply-to:cc:to:from:subject:message-id:date :x-gm-message-state:from:to:cc:subject:date:message-id:reply-to; bh=eqNMl7EoTnjnYx2vN8Qh44VDixiM13ZVHILEEcqi480=; b=G6Nz6cCYiHBe+KjJN6LwVsqXqtyL42AUQvwrJQJ355eCoSvdH78js85j2MsnGb8+3l TRUAeT67eegJlJrrbtF7koRkYa+p48JQzc+wryRHeoJ01r+D+sPHk2juxXkUv4YABfRK YWKdxHy9nT2hKpPO3YK+YAWnoNsmNrCuL15d5E1fodSS6PxOGiztJk2/52shCIjtv1Ch 7B+W/sLpk6Uthm7sclLKnP11RsjvmkcbSPjpqfY85IN0kq2XmB8vfx27kszA83usfkoL B961WxCJspR26Rd9zvfo6EMlxb0YfVq/SuhgLQKzb67P4ZL1uyEsqH0MUnVz4JNqkLVQ oRtw== X-Gm-Message-State: AOJu0YwIbjtZ4YQRBq962viWRi2owsQj8y1eF8ZIWdJ+dl1ll/U9yqrh ZBl0ZHVye7DMDIizZZMlQ8UcyFYtTHxlSR7tUzOsXEOft65lutHc+nPNqj/EzmQp0xqcoQxNp73 faWkx3OojphyNcj3aC0/H1pUIv/5RLcWZZ09m+2s2elomSW8jXB5Vmi/8TY3S X-Gm-Gg: ASbGncuU68vRVs+ZV75z1r8SarAW0RukRJG0MfuaQ03zxy21FSNRUngP3vEYnySJHwt b06T0e1PDd6JmJRwP0LnSacNLlPDM3R5rfNyHrXgemHmNWVlnq/vfF+601w+ROMPsBjhpgUIxHJ NpQayoDGCBCaN1vy1Ji85QZ7Z7/vwchkMMONYnLIq514XsdXjqpwIoor9trA7/nLeWCUXxLdTyy BrRz3stWoXbPWntmD1+lp0gtStj9nTnLcnETL1nhPJLTBtu0YZcUMqFfb5kExYAq7162lFEAGhM oRAvP2nlT+qByDdEQ+FkDQwpVmX5cz25GItr0Bn30DsMFrYX/SEGX88E9MAYBCPX00DhZV0U40U 2YzelGGEn X-Google-Smtp-Source: AGHT+IETDIUgD21yzWIWM9Biy+dFvTotRtWVDI2gYjn4LhzdC/RySVaJ4DgBN0kzz3ShCnZvys081P5YwQI8 X-Received: by 2002:a05:6870:b4a2:b0:395:825d:3b62 with SMTP id 586e51a60fabf-3c98d19110cmr1402015fac.45.1760700736136; Fri, 17 Oct 2025 04:32:16 -0700 (PDT) Received: from postal.iol.unh.edu (postal.iol.unh.edu. [2606:4100:3880:1234::84]) by smtp-relay.gmail.com with ESMTPS id 586e51a60fabf-3c8c86909d1sm1823104fac.0.2025.10.17.04.32.16 (version=TLS1_2 cipher=ECDHE-ECDSA-AES128-GCM-SHA256 bits=128/128); Fri, 17 Oct 2025 04:32:16 -0700 (PDT) X-Relaying-Domain: iol.unh.edu Date: Fri, 17 Oct 2025 04:32:16 -0700 (PDT) Message-ID: <68f22940.050a0220.13c995.9e96SMTPIN_ADDED_MISSING@mx.google.com> Received: from [172.21.0.4] (unknown [172.18.0.240]) by postal.iol.unh.edu (Postfix) with ESMTP id 1C65F6051830; Fri, 17 Oct 2025 07:32:15 -0400 (EDT) Subject: |SUCCESS| pw157796 [PATCH] [v2,1/1] riscv support rte_memcpy in vect From: dpdklab@iol.unh.edu To: Test Report Cc: dpdk-test-reports@iol.unh.edu In-Reply-To: <20251017093617.1219267-2-chen.qiguo@zte.com.cn> References: <20251017093617.1219267-2-chen.qiguo@zte.com.cn> Content-Type: text/plain X-BeenThere: test-report@dpdk.org X-Mailman-Version: 2.1.29 Precedence: list List-Id: automatic DPDK test reports List-Unsubscribe: , List-Archive: List-Post: List-Help: List-Subscribe: , Errors-To: test-report-bounces@dpdk.org Test-Label: iol-unit-amd64-testing Test-Status: SUCCESS http://dpdk.org/patch/157796 _Testing PASS_ Submitter: Qiguo Chen Date: Friday, October 17 2025 09:36:17 DPDK git baseline: Repo:dpdk Branch: master CommitID:438491733c2d8a109574449d3d6de9b25a05c07c 157796 --> testing pass Upstream job id: Generic-VM-Unit-Test-DPDK#31876 Test environment and result as below: +-------------------------------+----------------+ | Environment | dpdk_unit_test | +===============================+================+ | Debian GNU/Linux 12 | PASS | +-------------------------------+----------------+ | Fedora Linux 40 | PASS | +-------------------------------+----------------+ | Fedora Linux 42 | PASS | +-------------------------------+----------------+ | CentOS Stream 9 | PASS | +-------------------------------+----------------+ | Fedora Linux 41 | PASS | +-------------------------------+----------------+ | CentOS Stream 10 | PASS | +-------------------------------+----------------+ | Ubuntu 22.04 | PASS | +-------------------------------+----------------+ | Red Hat Enterprise Linux 8.10 | PASS | +-------------------------------+----------------+ | Ubuntu 24.04 | PASS | +-------------------------------+----------------+ | Red Hat Enterprise Linux 9.5 | PASS | +-------------------------------+----------------+ | Ubuntu 20.04 | PASS | +-------------------------------+----------------+ | Windows Server 2022 | PASS | +-------------------------------+----------------+ Debian GNU/Linux 12 Kernel: 5.15 Compiler: gcc gcc (Debian 12.2.0-14+deb12u1) 12.2.0 Fedora Linux 40 Kernel: 5.15 Compiler: gcc gcc (GCC) 14.2.1 20240912 (Red Hat 14.2.1-3) Fedora Linux 42 Kernel: 5.15 Compiler: clang gcc (GCC) 15.2.1 20250808 (Red Hat 15.2.1-1) CentOS Stream 9 Kernel: 5.15 Compiler: gcc gcc (GCC) 11.5.0 20240719 (Red Hat 11.5.0-11) Fedora Linux 41 Kernel: 5.15 Compiler: gcc gcc (GCC) 14.3.1 20250523 (Red Hat 14.3.1-1) CentOS Stream 10 Kernel: 5.15 Compiler: gcc gcc (GCC) 14.2.1 20250110 (Red Hat 14.2.1-8) Ubuntu 22.04 Kernel: 5.15 Compiler: gcc gcc (Ubuntu 11.4.0-1ubuntu1~22.04) 11.4.0 Red Hat Enterprise Linux 8.10 Kernel: 5.15 Compiler: gcc gcc (GCC) 8.5.0 20210514 (Red Hat 8.5.0-22) Ubuntu 24.04 Kernel: 5.15 Compiler: gcc gcc (Ubuntu 13.3.0-6ubuntu2~24.04) 13.3.0 Red Hat Enterprise Linux 9.5 Kernel: 5.15 Compiler: gcc gcc (GCC) 11.5.0 20240719 (Red Hat 11.5.0-2) Ubuntu 20.04 Kernel: 5.15 Compiler: gcc gcc (Ubuntu 9.4.0-1ubuntu1~20.04.2) 9.4.0 Windows Server 2022 Kernel: 10.0.20348.2031 Compiler: clang 15.0.7, gcc 14.1.0 (MinGW), and MSVC VS 19.39.33521 To view detailed results, visit: https://lab.dpdk.org/results/dashboard/patchsets/34310/ UNH-IOL DPDK Community Lab To manage your email subscriptions, visit: https://lab.dpdk.org/results/dashboard/preferences/subscriptions/