From mboxrd@z Thu Jan 1 00:00:00 1970 Return-Path: Received: from mails.dpdk.org (mails.dpdk.org [217.70.189.124]) by inbox.dpdk.org (Postfix) with ESMTP id 2F10F48960 for ; Fri, 17 Oct 2025 13:37:59 +0200 (CEST) Received: from mails.dpdk.org (localhost [127.0.0.1]) by mails.dpdk.org (Postfix) with ESMTP id 2AE2040269; Fri, 17 Oct 2025 13:37:59 +0200 (CEST) Received: from mail-pg1-f227.google.com (mail-pg1-f227.google.com [209.85.215.227]) by mails.dpdk.org (Postfix) with ESMTP id 817E040269 for ; Fri, 17 Oct 2025 13:37:57 +0200 (CEST) Received: by mail-pg1-f227.google.com with SMTP id 41be03b00d2f7-b6329b6e3b0so2158184a12.1 for ; Fri, 17 Oct 2025 04:37:57 -0700 (PDT) DKIM-Signature: v=1; a=rsa-sha256; c=relaxed/relaxed; d=iol.unh.edu; s=unh-iol; t=1760701076; x=1761305876; darn=dpdk.org; h=references:in-reply-to:cc:to:from:subject:message-id:date:from:to :cc:subject:date:message-id:reply-to; bh=vkj4I06giFePvpuJnEycuO/0YOpuzqsGX5PqTFsty8I=; b=WVoN76dcyePJ+8EhDzD6sqQnBer835Z1oSdzgf2SUUBbfAUKu/4CzhQfv9ByOUDbUe e7zo3miQSVY4nuMnA78e46wkYa31eqbFMV1HCiQHeahFg4H1zwkfhEqQlUbU/bPfalP6 sbNubjEuzdxmZVr9no5apm3dBkYvJr7U5bNcg= X-Google-DKIM-Signature: v=1; a=rsa-sha256; c=relaxed/relaxed; d=1e100.net; s=20230601; t=1760701076; x=1761305876; h=references:in-reply-to:cc:to:from:subject:message-id:date :x-gm-message-state:from:to:cc:subject:date:message-id:reply-to; bh=vkj4I06giFePvpuJnEycuO/0YOpuzqsGX5PqTFsty8I=; b=ugWICjvzPX/o2/nX8kLKTkCZswmxTHBI0KKhokEnPTsCURizcdBYdOI2b6RJsIXJ58 /JNHjMBs/sEGcIBxYsbO8X3VgUqoJkSC5xdDiVt8WtCPFGgOhZcAlHjOLVJa0EB9DyQE //o4sxP4xOJ8Kwq3bvQ946rgf8LhOH9mKkuWAeVR1ViV/vGb+Vt2oZvkYMZ4hkelUIpD grp+MpCATAgmlKi/x6C+AXwFeni5xR/4qjXH7kwnj2VA/VqpcxSizaWMcd9rRVyfvBOi oOHrHd+JM9O/DA4vsQaU52dLjWn9Ugp8ZhKcD7wvK3sf5S18gmp+Dua1p0fDe3z++xg6 WfSw== X-Gm-Message-State: AOJu0YwM8T4MCU13lsPdCnoWJOfpFf3wiYox3MQdPR8oj0e44w7Hv/Uk sjX8H2TVxCLy+qP18TozqNupr0agICZMivAVJYOqirq+z6HnnHRmayMfqLRGGeRpJ9RW+0PMW0C 88s7yidMqyxDzUYsdl6qzF1lz5JDKMLdsr73suRxxLs28 X-Gm-Gg: ASbGnct2RxBvLfcYrNKWjwMPyIz5KOolz0WqLRfaKiBZpqa79VyRhEL+EAKdmca8FRR 0u3ItBm0zAnQtH1wTMCDkwxol741TG8nkvg2KoFlSKqRNznMM3/xt7346RKqD6JH12feITeSWZ6 DuyZmZ9Uu0Oil21/t6dAkKSQEP7fmDtMpYe2UB82H3YzghypHu0YVeZRavNyp5Zjx4c00FDXuut jei7xbVoEurwgGH7/OMQgVm/DPnM58BBOcx3YuzX6nVZfIWeBKIusvj2ZZ63jvSnxPUgRitzwDo PGIEWR1qZ1mcdRY3GTRYBVs0RwnWILPsBoJMkDqbx2+W7fb9g3V57V8vdVhGKNyxPe5MyaAsCbc v7ktTwFR13EkC35hSQglXGCziD2wuOUA= X-Google-Smtp-Source: AGHT+IHdpoOq06csHmMr/BdyU8E/Yk70er5G+UMDJcxuUdnB0thihd4i8IZaIr8mXKrPiIzlaoIsefp0KJe4 X-Received: by 2002:a17:902:dac6:b0:272:a847:cabb with SMTP id d9443c01a7336-29091bdc6b0mr103150595ad.28.1760701076640; Fri, 17 Oct 2025 04:37:56 -0700 (PDT) Received: from postal.iol.unh.edu (postal.iol.unh.edu. [132.177.123.84]) by smtp-relay.gmail.com with ESMTPS id d9443c01a7336-29099ab1cb6sm6291225ad.69.2025.10.17.04.37.56 (version=TLS1_2 cipher=ECDHE-ECDSA-AES128-GCM-SHA256 bits=128/128); Fri, 17 Oct 2025 04:37:56 -0700 (PDT) X-Relaying-Domain: iol.unh.edu Date: Fri, 17 Oct 2025 04:37:56 -0700 (PDT) Message-ID: <68f22a94.170a0220.10768a.f137SMTPIN_ADDED_MISSING@mx.google.com> Received: from [172.21.0.4] (unknown [172.18.0.240]) by postal.iol.unh.edu (Postfix) with ESMTP id 1854D6051830; Fri, 17 Oct 2025 07:37:56 -0400 (EDT) Subject: |SUCCESS| pw157797-157799 [PATCH] [v7,3/3] doc: note on unsupported From: dpdklab@iol.unh.edu To: Test Report Cc: dpdk-test-reports@iol.unh.edu, Bruce Richardson In-Reply-To: <20251017103415.114400-4-shaiq.wani@intel.com> References: <20251017103415.114400-4-shaiq.wani@intel.com> Content-Type: text/plain X-BeenThere: test-report@dpdk.org X-Mailman-Version: 2.1.29 Precedence: list List-Id: automatic DPDK test reports List-Unsubscribe: , List-Archive: List-Post: List-Help: List-Subscribe: , Errors-To: test-report-bounces@dpdk.org Test-Label: iol-compile-amd64-testing Test-Status: SUCCESS http://dpdk.org/patch/157799 _Testing PASS_ Submitter: Shaiq Wani Date: Friday, October 17 2025 10:34:15 DPDK git baseline: Repo:dpdk-next-net-intel Branch: master CommitID:6b997d6b9ffdbb4f8ecd14d1f217da69cdc783af 157797-157799 --> testing pass Upstream job id: Generic-DPDK-Compile-Meson#435224 Test environment and result as below: +--------------+--------------------+ | Environment | dpdk_meson_compile | +==============+====================+ | FreeBSD 14.2 | PASS | +--------------+--------------------+ | Ubuntu 20.04 | PASS | +--------------+--------------------+ | Ubuntu 24.04 | PASS | +--------------+--------------------+ FreeBSD 14.2 Kernel: 14.2-RELEASE Compiler: clang 18.1.6 Ubuntu 20.04 Kernel: 4.19 Compiler: gcc gcc (Ubuntu 9.4.0-1ubuntu1~20.04.2) 9.4.0 Ubuntu 24.04 Kernel: 5.15 Compiler: gcc gcc (Ubuntu 13.3.0-6ubuntu2~24.04) 13.3.0 To view detailed results, visit: https://lab.dpdk.org/results/dashboard/patchsets/34311/ UNH-IOL DPDK Community Lab To manage your email subscriptions, visit: https://lab.dpdk.org/results/dashboard/preferences/subscriptions/